BEGIN:VCALENDAR
VERSION:2.0
PRODID:-//EZFacility.com, Inc.//EZL 2.5.5.28621
BEGIN:VEVENT
UID:16734825@ezleagues.ezfacility.com
DTSTAMP:20260426T033823Z
CREATED:20260426T033823Z
DTSTART:20250908T100500Z
DTEND:20250908T104000Z
LOCATION:P2
CONTACT:
SUMMARY:Dougies VS. hawk tuahs
DESCRIPTION:League Name: Kar u15-18 Girls Div 2 (Mon)\nGame Type: Regular\n
 Game Status: Pending\nHome Team: Dougies\nAway Team: hawk tuahs\n
END:VEVENT
BEGIN:VEVENT
UID:16734843@ezleagues.ezfacility.com
DTSTAMP:20260426T033823Z
CREATED:20260426T033823Z
DTSTART:20250915T100500Z
DTEND:20250915T104000Z
LOCATION:P2
CONTACT:
SUMMARY:hawk tuahs VS. Redbacks FC
DESCRIPTION:League Name: Kar u15-18 Girls Div 2 (Mon)\nGame Type: Regular\n
 Game Status: Pending\nHome Team: hawk tuahs\nAway Team: Redbacks FC\n
END:VEVENT
BEGIN:VEVENT
UID:16735069@ezleagues.ezfacility.com
DTSTAMP:20260426T033823Z
CREATED:20260426T033823Z
DTSTART:20250922T100500Z
DTEND:20250922T104000Z
LOCATION:P2
CONTACT:
SUMMARY:TlGERS VS. hawk tuahs
DESCRIPTION:League Name: Kar u15-18 Girls Div 2 (Mon)\nGame Type: Regular\n
 Game Status: Pending\nHome Team: TlGERS\nAway Team: hawk tuahs\n
END:VEVENT
BEGIN:VEVENT
UID:16735085@ezleagues.ezfacility.com
DTSTAMP:20260426T033823Z
CREATED:20260426T033823Z
DTSTART:20250929T093000Z
DTEND:20250929T100500Z
LOCATION:P2
CONTACT:
SUMMARY:Summer team VS. hawk tuahs
DESCRIPTION:League Name: Kar u15-18 Girls Div 2 (Mon)\nGame Type: Regular\n
 Game Status: Pending\nHome Team: Summer team\nAway Team: hawk tuahs\n
END:VEVENT
BEGIN:VEVENT
UID:16735101@ezleagues.ezfacility.com
DTSTAMP:20260426T033823Z
CREATED:20260426T033823Z
DTSTART:20251006T083000Z
DTEND:20251006T090500Z
LOCATION:P8
CONTACT:
SUMMARY:Shifty shooters VS. hawk tuahs
DESCRIPTION:League Name: Kar u15-18 Girls Div 2 (Mon)\nGame Type: Regular\n
 Game Status: Pending\nHome Team: Shifty shooters\nAway Team: hawk tuahs\n
END:VEVENT
BEGIN:VEVENT
UID:16735117@ezleagues.ezfacility.com
DTSTAMP:20260426T033823Z
CREATED:20260426T033823Z
DTSTART:20251013T090500Z
DTEND:20251013T094000Z
LOCATION:P1
CONTACT:
SUMMARY:Dougettes VS. hawk tuahs
DESCRIPTION:League Name: Kar u15-18 Girls Div 2 (Mon)\nGame Type: Regular\n
 Game Status: Pending\nHome Team: Dougettes\nAway Team: hawk tuahs\n
END:VEVENT
BEGIN:VEVENT
UID:16735133@ezleagues.ezfacility.com
DTSTAMP:20260426T033823Z
CREATED:20260426T033823Z
DTSTART:20251020T075500Z
DTEND:20251020T083000Z
LOCATION:P1
CONTACT:
SUMMARY:hawk tuahs VS. Certified Ballerz
DESCRIPTION:League Name: Kar u15-18 Girls Div 2 (Mon)\nGame Type: Regular\n
 Game Status: Pending\nHome Team: hawk tuahs\nAway Team: Certified Ballerz\
 n
END:VEVENT
BEGIN:VEVENT
UID:16735151@ezleagues.ezfacility.com
DTSTAMP:20260426T033823Z
CREATED:20260426T033823Z
DTSTART:20251027T075500Z
DTEND:20251027T083000Z
LOCATION:P1
CONTACT:
SUMMARY:hawk tuahs VS. Kangas Mk2
DESCRIPTION:League Name: Kar u15-18 Girls Div 2 (Mon)\nGame Type: Regular\n
 Game Status: Pending\nHome Team: hawk tuahs\nAway Team: Kangas Mk2\n
END:VEVENT
BEGIN:VEVENT
UID:16735169@ezleagues.ezfacility.com
DTSTAMP:20260426T033823Z
CREATED:20260426T033823Z
DTSTART:20251103T083000Z
DTEND:20251103T090500Z
LOCATION:P2
CONTACT:
SUMMARY:hawk tuahs VS. Papadelli
DESCRIPTION:League Name: Kar u15-18 Girls Div 2 (Mon)\nGame Type: Regular\n
 Game Status: Pending\nHome Team: hawk tuahs\nAway Team: Papadelli\n
END:VEVENT
BEGIN:VEVENT
UID:16735187@ezleagues.ezfacility.com
DTSTAMP:20260426T033823Z
CREATED:20260426T033823Z
DTSTART:20251110T083000Z
DTEND:20251110T090500Z
LOCATION:P2
CONTACT:
SUMMARY:hawk tuahs VS. Dougies
DESCRIPTION:League Name: Kar u15-18 Girls Div 2 (Mon)\nGame Type: Regular\n
 Game Status: Pending\nHome Team: hawk tuahs\nAway Team: Dougies\n
END:VEVENT
END:VCALENDAR
