BEGIN:VCALENDAR
VERSION:2.0
PRODID:-//EZFacility.com, Inc.//EZL 2.5.5.28621
BEGIN:VEVENT
UID:16734292@ezleagues.ezfacility.com
DTSTAMP:20260424T043220Z
CREATED:20260424T043220Z
DTSTART:20250910T073500Z
DTEND:20250910T080700Z
LOCATION:2 Pitch 2-"White Hart L "Heffr
CONTACT:
SUMMARY:Bye VS. Brexit FC
DESCRIPTION:League Name: Mar u12/13 Boys Div 2 (Wed)\nGame Type: Regular\nG
 ame Status: Pending\nHome Team: Bye\nAway Team: Brexit FC\n
END:VEVENT
BEGIN:VEVENT
UID:16734304@ezleagues.ezfacility.com
DTSTAMP:20260424T043220Z
CREATED:20260424T043220Z
DTSTART:20250917T073500Z
DTEND:20250917T080700Z
LOCATION:6 Pitch 6 -"Vespucio" Heffron
CONTACT:
SUMMARY:Coogee Cats VS. Brexit FC
DESCRIPTION:League Name: Mar u12/13 Boys Div 2 (Wed)\nGame Type: Regular\nG
 ame Status: Pending\nHome Team: Coogee Cats\nAway Team: Brexit FC\n
END:VEVENT
BEGIN:VEVENT
UID:16734314@ezleagues.ezfacility.com
DTSTAMP:20260424T043220Z
CREATED:20260424T043220Z
DTSTART:20250924T073500Z
DTEND:20250924T080700Z
LOCATION:2 Pitch 2-"White Hart L "Heffr
CONTACT:
SUMMARY:Brexit FC VS. Golaço
DESCRIPTION:League Name: Mar u12/13 Boys Div 2 (Wed)\nGame Type: Regular\nG
 ame Status: Pending\nHome Team: Brexit FC\nAway Team: Golaço\n
END:VEVENT
BEGIN:VEVENT
UID:16734324@ezleagues.ezfacility.com
DTSTAMP:20260424T043220Z
CREATED:20260424T043220Z
DTSTART:20251001T081000Z
DTEND:20251001T084200Z
LOCATION:2 Pitch 2-"White Hart L "Heffr
CONTACT:
SUMMARY:Brexit FC VS. U12 Maroubra Breakers
DESCRIPTION:League Name: Mar u12/13 Boys Div 2 (Wed)\nGame Type: Regular\nG
 ame Status: Pending\nHome Team: Brexit FC\nAway Team: U12 Maroubra Breaker
 s\n
END:VEVENT
BEGIN:VEVENT
UID:16734337@ezleagues.ezfacility.com
DTSTAMP:20260424T043220Z
CREATED:20260424T043220Z
DTSTART:20251008T063500Z
DTEND:20251008T070700Z
LOCATION:6 Pitch 6 -"Vespucio" Heffron
CONTACT:
SUMMARY:Smidgens VS. Brexit FC
DESCRIPTION:League Name: Mar u12/13 Boys Div 2 (Wed)\nGame Type: Regular\nG
 ame Status: Pending\nHome Team: Smidgens\nAway Team: Brexit FC\n
END:VEVENT
BEGIN:VEVENT
UID:16734347@ezleagues.ezfacility.com
DTSTAMP:20260424T043220Z
CREATED:20260424T043220Z
DTSTART:20251015T063500Z
DTEND:20251015T070700Z
LOCATION:2 Pitch 2-"White Hart L "Heffr
CONTACT:
SUMMARY:Brexit FC VS. Bye
DESCRIPTION:League Name: Mar u12/13 Boys Div 2 (Wed)\nGame Type: Regular\nG
 ame Status: Pending\nHome Team: Brexit FC\nAway Team: Bye\n
END:VEVENT
BEGIN:VEVENT
UID:16734359@ezleagues.ezfacility.com
DTSTAMP:20260424T043220Z
CREATED:20260424T043220Z
DTSTART:20251022T063500Z
DTEND:20251022T070700Z
LOCATION:6 Pitch 6 -"Vespucio" Heffron
CONTACT:
SUMMARY:Brexit FC VS. Coogee Cats
DESCRIPTION:League Name: Mar u12/13 Boys Div 2 (Wed)\nGame Type: Regular\nG
 ame Status: Pending\nHome Team: Brexit FC\nAway Team: Coogee Cats\n
END:VEVENT
BEGIN:VEVENT
UID:16734369@ezleagues.ezfacility.com
DTSTAMP:20260424T043220Z
CREATED:20260424T043220Z
DTSTART:20251029T063500Z
DTEND:20251029T070700Z
LOCATION:6 Pitch 6 -"Vespucio" Heffron
CONTACT:
SUMMARY:Golaço VS. Brexit FC
DESCRIPTION:League Name: Mar u12/13 Boys Div 2 (Wed)\nGame Type: Regular\nG
 ame Status: Pending\nHome Team: Golaço\nAway Team: Brexit FC\n
END:VEVENT
BEGIN:VEVENT
UID:16734379@ezleagues.ezfacility.com
DTSTAMP:20260424T043220Z
CREATED:20260424T043220Z
DTSTART:20251105T071000Z
DTEND:20251105T074200Z
LOCATION:2 Pitch 2-"White Hart L "Heffr
CONTACT:
SUMMARY:U12 Maroubra Breakers VS. Brexit FC
DESCRIPTION:League Name: Mar u12/13 Boys Div 2 (Wed)\nGame Type: Regular\nG
 ame Status: Pending\nHome Team: U12 Maroubra Breakers\nAway Team: Brexit F
 C\n
END:VEVENT
BEGIN:VEVENT
UID:16734392@ezleagues.ezfacility.com
DTSTAMP:20260424T043220Z
CREATED:20260424T043220Z
DTSTART:20251112T063500Z
DTEND:20251112T070700Z
LOCATION:6 Pitch 6 -"Vespucio" Heffron
CONTACT:
SUMMARY:Brexit FC VS. Smidgens
DESCRIPTION:League Name: Mar u12/13 Boys Div 2 (Wed)\nGame Type: Regular\nG
 ame Status: Pending\nHome Team: Brexit FC\nAway Team: Smidgens\n
END:VEVENT
END:VCALENDAR
