BEGIN:VCALENDAR
VERSION:2.0
PRODID:-//EZFacility.com, Inc.//EZL 2.5.5.28621
BEGIN:VEVENT
UID:16735209@ezleagues.ezfacility.com
DTSTAMP:20260421T020433Z
CREATED:20260421T020433Z
DTSTART:20250910T081000Z
DTEND:20250910T084500Z
LOCATION:6 Pitch 6 -"Vespucio" Heffron
CONTACT:
SUMMARY:RBSC Brotherhood VS. Yallah Baby
DESCRIPTION:League Name: Mar u15 Boys Div 2 (Wed)\nGame Type: Regular\nGame
  Status: Pending\nHome Team: RBSC Brotherhood\nAway Team: Yallah Baby\n
END:VEVENT
BEGIN:VEVENT
UID:16735224@ezleagues.ezfacility.com
DTSTAMP:20260421T020433Z
CREATED:20260421T020433Z
DTSTART:20250917T084500Z
DTEND:20250917T092000Z
LOCATION:5 Pitch 5 -"Eastlands" Heffron
CONTACT:
SUMMARY:RBSC Brotherhood VS. Bye
DESCRIPTION:League Name: Mar u15 Boys Div 2 (Wed)\nGame Type: Regular\nGame
  Status: Pending\nHome Team: RBSC Brotherhood\nAway Team: Bye\n
END:VEVENT
BEGIN:VEVENT
UID:16735248@ezleagues.ezfacility.com
DTSTAMP:20260421T020433Z
CREATED:20260421T020433Z
DTSTART:20250924T081000Z
DTEND:20250924T084500Z
LOCATION:5 Pitch 5 -"Eastlands" Heffron
CONTACT:
SUMMARY:RBSC Brotherhood VS. Sans Souci Salamanders
DESCRIPTION:League Name: Mar u15 Boys Div 2 (Wed)\nGame Type: Regular\nGame
  Status: Pending\nHome Team: RBSC Brotherhood\nAway Team: Sans Souci Salam
 anders\n
END:VEVENT
BEGIN:VEVENT
UID:16735267@ezleagues.ezfacility.com
DTSTAMP:20260421T020433Z
CREATED:20260421T020433Z
DTSTART:20251001T084500Z
DTEND:20251001T092000Z
LOCATION:6 Pitch 6 -"Vespucio" Heffron
CONTACT:
SUMMARY:Gold FC VS. RBSC Brotherhood
DESCRIPTION:League Name: Mar u15 Boys Div 2 (Wed)\nGame Type: Regular\nGame
  Status: Pending\nHome Team: Gold FC\nAway Team: RBSC Brotherhood\n
END:VEVENT
BEGIN:VEVENT
UID:16735285@ezleagues.ezfacility.com
DTSTAMP:20260421T020433Z
CREATED:20260421T020433Z
DTSTART:20251008T071000Z
DTEND:20251008T074500Z
LOCATION:6 Pitch 6 -"Vespucio" Heffron
CONTACT:
SUMMARY:Goal Diggerz FC VS. RBSC Brotherhood
DESCRIPTION:League Name: Mar u15 Boys Div 2 (Wed)\nGame Type: Regular\nGame
  Status: Pending\nHome Team: Goal Diggerz FC\nAway Team: RBSC Brotherhood\
 n
END:VEVENT
BEGIN:VEVENT
UID:16735303@ezleagues.ezfacility.com
DTSTAMP:20260421T020433Z
CREATED:20260421T020433Z
DTSTART:20251015T074500Z
DTEND:20251015T082000Z
LOCATION:6 Pitch 6 -"Vespucio" Heffron
CONTACT:
SUMMARY:The Marauders  VS. RBSC Brotherhood
DESCRIPTION:League Name: Mar u15 Boys Div 2 (Wed)\nGame Type: Regular\nGame
  Status: Pending\nHome Team: The Marauders \nAway Team: RBSC Brotherhood\n
END:VEVENT
BEGIN:VEVENT
UID:16735321@ezleagues.ezfacility.com
DTSTAMP:20260421T020433Z
CREATED:20260421T020433Z
DTSTART:20251022T071000Z
DTEND:20251022T074500Z
LOCATION:4 Pitch 4-"Macarena"Heffron
CONTACT:
SUMMARY:Atletico VS. RBSC Brotherhood
DESCRIPTION:League Name: Mar u15 Boys Div 2 (Wed)\nGame Type: Regular\nGame
  Status: Pending\nHome Team: Atletico\nAway Team: RBSC Brotherhood\n
END:VEVENT
BEGIN:VEVENT
UID:16735340@ezleagues.ezfacility.com
DTSTAMP:20260421T020433Z
CREATED:20260421T020433Z
DTSTART:20251029T071000Z
DTEND:20251029T074500Z
LOCATION:4 Pitch 4-"Macarena"Heffron
CONTACT:
SUMMARY:Return of the Kings VS. RBSC Brotherhood
DESCRIPTION:League Name: Mar u15 Boys Div 2 (Wed)\nGame Type: Regular\nGame
  Status: Pending\nHome Team: Return of the Kings\nAway Team: RBSC Brotherh
 ood\n
END:VEVENT
BEGIN:VEVENT
UID:16735358@ezleagues.ezfacility.com
DTSTAMP:20260421T020433Z
CREATED:20260421T020433Z
DTSTART:20251105T074500Z
DTEND:20251105T082000Z
LOCATION:5 Pitch 5 -"Eastlands" Heffron
CONTACT:
SUMMARY:Connections Cole FC VS. RBSC Brotherhood
DESCRIPTION:League Name: Mar u15 Boys Div 2 (Wed)\nGame Type: Regular\nGame
  Status: Pending\nHome Team: Connections Cole FC\nAway Team: RBSC Brotherh
 ood\n
END:VEVENT
BEGIN:VEVENT
UID:16735378@ezleagues.ezfacility.com
DTSTAMP:20260421T020433Z
CREATED:20260421T020433Z
DTSTART:20251112T074500Z
DTEND:20251112T082000Z
LOCATION:4 Pitch 4-"Macarena"Heffron
CONTACT:
SUMMARY:RBSC Brotherhood VS. connections coleman
DESCRIPTION:League Name: Mar u15 Boys Div 2 (Wed)\nGame Type: Regular\nGame
  Status: Pending\nHome Team: RBSC Brotherhood\nAway Team: connections cole
 man\n
END:VEVENT
BEGIN:VEVENT
UID:16735398@ezleagues.ezfacility.com
DTSTAMP:20260421T020433Z
CREATED:20260421T020433Z
DTSTART:20251119T074500Z
DTEND:20251119T082000Z
LOCATION:4 Pitch 4-"Macarena"Heffron
CONTACT:
SUMMARY:RBSC Brotherhood VS. MCR XI
DESCRIPTION:League Name: Mar u15 Boys Div 2 (Wed)\nGame Type: Regular\nGame
  Status: Pending\nHome Team: RBSC Brotherhood\nAway Team: MCR XI\n
END:VEVENT
END:VCALENDAR
