BEGIN:VCALENDAR
VERSION:2.0
PRODID:-//EZFacility.com, Inc.//EZL 2.5.5.28621
BEGIN:VEVENT
UID:16653975@ezleagues.ezfacility.com
DTSTAMP:20260422T170946Z
CREATED:20260422T170946Z
DTSTART:20250908T024500Z
DTEND:20250908T034500Z
LOCATION:Field 3
CONTACT:
SUMMARY:More Beer Than Gear VS. Balls Deep
DESCRIPTION:League Name: 2025 S4 Sun Coed Lite- Sep 7\nGame Type: Regular\n
 Game Status: Complete\nHome Team: More Beer Than Gear\nAway Team: Balls De
 ep\nHome Score: 8\nAway Score: 18
END:VEVENT
BEGIN:VEVENT
UID:16653976@ezleagues.ezfacility.com
DTSTAMP:20260422T170946Z
CREATED:20260422T170946Z
DTSTART:20250908T034500Z
DTEND:20250908T044500Z
LOCATION:Field 3
CONTACT:
SUMMARY:Balls Deep VS. More Beer Than Gear
DESCRIPTION:League Name: 2025 S4 Sun Coed Lite- Sep 7\nGame Type: Regular\n
 Game Status: Complete\nHome Team: Balls Deep\nAway Team: More Beer Than Ge
 ar\nHome Score: 15\nAway Score: 7
END:VEVENT
BEGIN:VEVENT
UID:16653990@ezleagues.ezfacility.com
DTSTAMP:20260422T170946Z
CREATED:20260422T170946Z
DTSTART:20250915T024500Z
DTEND:20250915T034500Z
LOCATION:Field 2
CONTACT:
SUMMARY:Balls Deep VS. Prestige World Wide
DESCRIPTION:League Name: 2025 S4 Sun Coed Lite- Sep 7\nGame Type: Regular\n
 Game Status: Complete\nHome Team: Balls Deep\nAway Team: Prestige World Wi
 de\nHome Score: 10\nAway Score: 19
END:VEVENT
BEGIN:VEVENT
UID:16653991@ezleagues.ezfacility.com
DTSTAMP:20260422T170946Z
CREATED:20260422T170946Z
DTSTART:20250915T034500Z
DTEND:20250915T044500Z
LOCATION:Field 2
CONTACT:
SUMMARY:Prestige World Wide VS. Balls Deep
DESCRIPTION:League Name: 2025 S4 Sun Coed Lite- Sep 7\nGame Type: Regular\n
 Game Status: Complete\nHome Team: Prestige World Wide\nAway Team: Balls De
 ep\nHome Score: 13\nAway Score: 13
END:VEVENT
BEGIN:VEVENT
UID:16654010@ezleagues.ezfacility.com
DTSTAMP:20260422T170946Z
CREATED:20260422T170946Z
DTSTART:20250922T004500Z
DTEND:20250922T014500Z
LOCATION:Field 3
CONTACT:
SUMMARY:Balls Deep VS. Lost in the Sauce 
DESCRIPTION:League Name: 2025 S4 Sun Coed Lite- Sep 7\nGame Type: Regular\n
 Game Status: Complete\nHome Team: Balls Deep\nAway Team: Lost in the Sauce
  \nHome Score: 4\nAway Score: 7
END:VEVENT
BEGIN:VEVENT
UID:16654011@ezleagues.ezfacility.com
DTSTAMP:20260422T170946Z
CREATED:20260422T170946Z
DTSTART:20250922T014500Z
DTEND:20250922T024500Z
LOCATION:Field 3
CONTACT:
SUMMARY:Lost in the Sauce  VS. Balls Deep
DESCRIPTION:League Name: 2025 S4 Sun Coed Lite- Sep 7\nGame Type: Regular\n
 Game Status: Complete\nHome Team: Lost in the Sauce \nAway Team: Balls Dee
 p\nHome Score: 19\nAway Score: 11
END:VEVENT
BEGIN:VEVENT
UID:16654069@ezleagues.ezfacility.com
DTSTAMP:20260422T170946Z
CREATED:20260422T170946Z
DTSTART:20251006T004500Z
DTEND:20251006T014500Z
LOCATION:Field 1
CONTACT:
SUMMARY:Balls Deep VS. Pitches B Crazy
DESCRIPTION:League Name: 2025 S4 Sun Coed Lite- Sep 7\nGame Type: Regular\n
 Game Status: Complete\nHome Team: Balls Deep\nAway Team: Pitches B Crazy\n
 Home Score: 5\nAway Score: 12
END:VEVENT
BEGIN:VEVENT
UID:16654070@ezleagues.ezfacility.com
DTSTAMP:20260422T170946Z
CREATED:20260422T170946Z
DTSTART:20251006T014500Z
DTEND:20251006T024500Z
LOCATION:Field 1
CONTACT:
SUMMARY:Pitches B Crazy VS. Balls Deep
DESCRIPTION:League Name: 2025 S4 Sun Coed Lite- Sep 7\nGame Type: Regular\n
 Game Status: Complete\nHome Team: Pitches B Crazy\nAway Team: Balls Deep\n
 Home Score: 17\nAway Score: 14
END:VEVENT
BEGIN:VEVENT
UID:16654054@ezleagues.ezfacility.com
DTSTAMP:20260422T170946Z
CREATED:20260422T170946Z
DTSTART:20251020T024500Z
DTEND:20251020T034500Z
LOCATION:Field 2
CONTACT:
SUMMARY:Cereal Killerz VS. Balls Deep
DESCRIPTION:League Name: 2025 S4 Sun Coed Lite- Sep 7\nGame Type: Regular\n
 Game Status: Complete\nHome Team: Cereal Killerz\nAway Team: Balls Deep\nH
 ome Score: 12\nAway Score: 11
END:VEVENT
BEGIN:VEVENT
UID:16654066@ezleagues.ezfacility.com
DTSTAMP:20260422T170946Z
CREATED:20260422T170946Z
DTSTART:20251020T034500Z
DTEND:20251020T044500Z
LOCATION:Field 2
CONTACT:
SUMMARY:Balls Deep VS. Cereal Killerz
DESCRIPTION:League Name: 2025 S4 Sun Coed Lite- Sep 7\nGame Type: Regular\n
 Game Status: Complete\nHome Team: Balls Deep\nAway Team: Cereal Killerz\nH
 ome Score: 6\nAway Score: 30
END:VEVENT
BEGIN:VEVENT
UID:16654106@ezleagues.ezfacility.com
DTSTAMP:20260422T170946Z
CREATED:20260422T170946Z
DTSTART:20251027T024500Z
DTEND:20251027T034500Z
LOCATION:Field 1
CONTACT:
SUMMARY:GFY VS. Balls Deep
DESCRIPTION:League Name: 2025 S4 Sun Coed Lite- Sep 7\nGame Type: Regular\n
 Game Status: Complete\nHome Team: GFY\nAway Team: Balls Deep\nHome Score: 
 17\nAway Score: 7
END:VEVENT
BEGIN:VEVENT
UID:16654107@ezleagues.ezfacility.com
DTSTAMP:20260422T170946Z
CREATED:20260422T170946Z
DTSTART:20251027T034500Z
DTEND:20251027T044500Z
LOCATION:Field 1
CONTACT:
SUMMARY:Balls Deep VS. GFY
DESCRIPTION:League Name: 2025 S4 Sun Coed Lite- Sep 7\nGame Type: Regular\n
 Game Status: Complete\nHome Team: Balls Deep\nAway Team: GFY\nHome Score: 
 12\nAway Score: 17
END:VEVENT
BEGIN:VEVENT
UID:16654122@ezleagues.ezfacility.com
DTSTAMP:20260422T170946Z
CREATED:20260422T170946Z
DTSTART:20251110T004500Z
DTEND:20251110T014500Z
LOCATION:Field 2
CONTACT:
SUMMARY:Balls Deep VS. Hits and Giggles
DESCRIPTION:League Name: 2025 S4 Sun Coed Lite- Sep 7\nGame Type: Regular\n
 Game Status: Complete\nHome Team: Balls Deep\nAway Team: Hits and Giggles\
 nHome Score: 9\nAway Score: 17
END:VEVENT
BEGIN:VEVENT
UID:16654123@ezleagues.ezfacility.com
DTSTAMP:20260422T170946Z
CREATED:20260422T170946Z
DTSTART:20251110T014500Z
DTEND:20251110T024500Z
LOCATION:Field 2
CONTACT:
SUMMARY:Hits and Giggles VS. Balls Deep
DESCRIPTION:League Name: 2025 S4 Sun Coed Lite- Sep 7\nGame Type: Regular\n
 Game Status: Complete\nHome Team: Hits and Giggles\nAway Team: Balls Deep\
 nHome Score: 19\nAway Score: 4
END:VEVENT
BEGIN:VEVENT
UID:16844850@ezleagues.ezfacility.com
DTSTAMP:20260422T170946Z
CREATED:20260422T170946Z
DTSTART:20251117T034500Z
DTEND:20251117T044500Z
LOCATION:Field 2
CONTACT:
SUMMARY:Balls Deep VS. More Beer Than Gear
DESCRIPTION:League Name: 2025 S4 Sun Coed Lite- Sep 7\nGame Type: Postseaso
 n\nGame Status: Complete\nHome Team: Balls Deep\nAway Team: More Beer Than
  Gear\nHome Score: 7\nAway Score: 0
END:VEVENT
BEGIN:VEVENT
UID:16844851@ezleagues.ezfacility.com
DTSTAMP:20260422T170946Z
CREATED:20260422T170946Z
DTSTART:20251117T044500Z
DTEND:20251117T054500Z
LOCATION:Field 2
CONTACT:
SUMMARY:More Beer Than Gear VS. Balls Deep
DESCRIPTION:League Name: 2025 S4 Sun Coed Lite- Sep 7\nGame Type: Postseaso
 n\nGame Status: Complete\nHome Team: More Beer Than Gear\nAway Team: Balls
  Deep\nHome Score: 0\nAway Score: 7
END:VEVENT
END:VCALENDAR
