BEGIN:VCALENDAR
VERSION:2.0
PRODID:-//EZFacility.com, Inc.//EZL 2.5.5.28621
BEGIN:VEVENT
UID:16653974@ezleagues.ezfacility.com
DTSTAMP:20260424T044102Z
CREATED:20260424T044102Z
DTSTART:20250908T004500Z
DTEND:20250908T014500Z
LOCATION:Field 3
CONTACT:
SUMMARY:Hits and Giggles VS. Prestige World Wide
DESCRIPTION:League Name: 2025 S4 Sun Coed Lite- Sep 7\nGame Type: Regular\n
 Game Status: Complete\nHome Team: Hits and Giggles\nAway Team: Prestige Wo
 rld Wide\nHome Score: 11\nAway Score: 13
END:VEVENT
BEGIN:VEVENT
UID:16653973@ezleagues.ezfacility.com
DTSTAMP:20260424T044102Z
CREATED:20260424T044102Z
DTSTART:20250908T014500Z
DTEND:20250908T024500Z
LOCATION:Field 3
CONTACT:
SUMMARY:Prestige World Wide VS. Hits and Giggles
DESCRIPTION:League Name: 2025 S4 Sun Coed Lite- Sep 7\nGame Type: Regular\n
 Game Status: Complete\nHome Team: Prestige World Wide\nAway Team: Hits and
  Giggles\nHome Score: 15\nAway Score: 17
END:VEVENT
BEGIN:VEVENT
UID:16653990@ezleagues.ezfacility.com
DTSTAMP:20260424T044102Z
CREATED:20260424T044102Z
DTSTART:20250915T024500Z
DTEND:20250915T034500Z
LOCATION:Field 2
CONTACT:
SUMMARY:Balls Deep VS. Prestige World Wide
DESCRIPTION:League Name: 2025 S4 Sun Coed Lite- Sep 7\nGame Type: Regular\n
 Game Status: Complete\nHome Team: Balls Deep\nAway Team: Prestige World Wi
 de\nHome Score: 10\nAway Score: 19
END:VEVENT
BEGIN:VEVENT
UID:16653991@ezleagues.ezfacility.com
DTSTAMP:20260424T044102Z
CREATED:20260424T044102Z
DTSTART:20250915T034500Z
DTEND:20250915T044500Z
LOCATION:Field 2
CONTACT:
SUMMARY:Prestige World Wide VS. Balls Deep
DESCRIPTION:League Name: 2025 S4 Sun Coed Lite- Sep 7\nGame Type: Regular\n
 Game Status: Complete\nHome Team: Prestige World Wide\nAway Team: Balls De
 ep\nHome Score: 13\nAway Score: 13
END:VEVENT
BEGIN:VEVENT
UID:16654071@ezleagues.ezfacility.com
DTSTAMP:20260424T044102Z
CREATED:20260424T044102Z
DTSTART:20251006T024500Z
DTEND:20251006T034500Z
LOCATION:Field 1
CONTACT:
SUMMARY:Prestige World Wide VS. Lost in the Sauce 
DESCRIPTION:League Name: 2025 S4 Sun Coed Lite- Sep 7\nGame Type: Regular\n
 Game Status: Complete\nHome Team: Prestige World Wide\nAway Team: Lost in 
 the Sauce \nHome Score: 17\nAway Score: 2
END:VEVENT
BEGIN:VEVENT
UID:16654073@ezleagues.ezfacility.com
DTSTAMP:20260424T044102Z
CREATED:20260424T044102Z
DTSTART:20251006T034500Z
DTEND:20251006T044500Z
LOCATION:Field 1
CONTACT:
SUMMARY:Lost in the Sauce  VS. Prestige World Wide
DESCRIPTION:League Name: 2025 S4 Sun Coed Lite- Sep 7\nGame Type: Regular\n
 Game Status: Complete\nHome Team: Lost in the Sauce \nAway Team: Prestige 
 World Wide\nHome Score: 10\nAway Score: 12
END:VEVENT
BEGIN:VEVENT
UID:16654021@ezleagues.ezfacility.com
DTSTAMP:20260424T044102Z
CREATED:20260424T044102Z
DTSTART:20251020T004500Z
DTEND:20251020T014500Z
LOCATION:Field 2
CONTACT:
SUMMARY:Prestige World Wide VS. GFY
DESCRIPTION:League Name: 2025 S4 Sun Coed Lite- Sep 7\nGame Type: Regular\n
 Game Status: Complete\nHome Team: Prestige World Wide\nAway Team: GFY\nHom
 e Score: 13\nAway Score: 19
END:VEVENT
BEGIN:VEVENT
UID:16654035@ezleagues.ezfacility.com
DTSTAMP:20260424T044102Z
CREATED:20260424T044102Z
DTSTART:20251020T014500Z
DTEND:20251020T024500Z
LOCATION:Field 2
CONTACT:
SUMMARY:GFY VS. Prestige World Wide
DESCRIPTION:League Name: 2025 S4 Sun Coed Lite- Sep 7\nGame Type: Regular\n
 Game Status: Complete\nHome Team: GFY\nAway Team: Prestige World Wide\nHom
 e Score: 14\nAway Score: 13
END:VEVENT
BEGIN:VEVENT
UID:16654110@ezleagues.ezfacility.com
DTSTAMP:20260424T044102Z
CREATED:20260424T044102Z
DTSTART:20251027T004500Z
DTEND:20251027T014500Z
LOCATION:Field 1
CONTACT:
SUMMARY:Pitches B Crazy VS. Prestige World Wide
DESCRIPTION:League Name: 2025 S4 Sun Coed Lite- Sep 7\nGame Type: Regular\n
 Game Status: Complete\nHome Team: Pitches B Crazy\nAway Team: Prestige Wor
 ld Wide\nHome Score: 12\nAway Score: 8
END:VEVENT
BEGIN:VEVENT
UID:16654111@ezleagues.ezfacility.com
DTSTAMP:20260424T044102Z
CREATED:20260424T044102Z
DTSTART:20251027T014500Z
DTEND:20251027T024500Z
LOCATION:Field 1
CONTACT:
SUMMARY:Prestige World Wide VS. Pitches B Crazy
DESCRIPTION:League Name: 2025 S4 Sun Coed Lite- Sep 7\nGame Type: Regular\n
 Game Status: Complete\nHome Team: Prestige World Wide\nAway Team: Pitches 
 B Crazy\nHome Score: 4\nAway Score: 23
END:VEVENT
BEGIN:VEVENT
UID:16654116@ezleagues.ezfacility.com
DTSTAMP:20260424T044102Z
CREATED:20260424T044102Z
DTSTART:20251103T024500Z
DTEND:20251103T034500Z
LOCATION:Field 3
CONTACT:
SUMMARY:More Beer Than Gear VS. Prestige World Wide
DESCRIPTION:League Name: 2025 S4 Sun Coed Lite- Sep 7\nGame Type: Regular\n
 Game Status: Complete\nHome Team: More Beer Than Gear\nAway Team: Prestige
  World Wide\nHome Score: 8\nAway Score: 32
END:VEVENT
BEGIN:VEVENT
UID:16654117@ezleagues.ezfacility.com
DTSTAMP:20260424T044102Z
CREATED:20260424T044102Z
DTSTART:20251103T034500Z
DTEND:20251103T044500Z
LOCATION:Field 3
CONTACT:
SUMMARY:Prestige World Wide VS. More Beer Than Gear
DESCRIPTION:League Name: 2025 S4 Sun Coed Lite- Sep 7\nGame Type: Regular\n
 Game Status: Complete\nHome Team: Prestige World Wide\nAway Team: More Bee
 r Than Gear\nHome Score: 21\nAway Score: 20
END:VEVENT
BEGIN:VEVENT
UID:16654124@ezleagues.ezfacility.com
DTSTAMP:20260424T044102Z
CREATED:20260424T044102Z
DTSTART:20251110T004500Z
DTEND:20251110T014500Z
LOCATION:Field 3
CONTACT:
SUMMARY:Cereal Killerz VS. Prestige World Wide
DESCRIPTION:League Name: 2025 S4 Sun Coed Lite- Sep 7\nGame Type: Regular\n
 Game Status: Complete\nHome Team: Cereal Killerz\nAway Team: Prestige Worl
 d Wide\nHome Score: 17\nAway Score: 7
END:VEVENT
BEGIN:VEVENT
UID:16654125@ezleagues.ezfacility.com
DTSTAMP:20260424T044102Z
CREATED:20260424T044102Z
DTSTART:20251110T014500Z
DTEND:20251110T024500Z
LOCATION:Field 3
CONTACT:
SUMMARY:Prestige World Wide VS. Cereal Killerz
DESCRIPTION:League Name: 2025 S4 Sun Coed Lite- Sep 7\nGame Type: Regular\n
 Game Status: Complete\nHome Team: Prestige World Wide\nAway Team: Cereal K
 illerz\nHome Score: 9\nAway Score: 25
END:VEVENT
BEGIN:VEVENT
UID:16844852@ezleagues.ezfacility.com
DTSTAMP:20260424T044102Z
CREATED:20260424T044102Z
DTSTART:20251117T024500Z
DTEND:20251117T034500Z
LOCATION:Field 3
CONTACT:
SUMMARY:Prestige World Wide VS. Lost in the Sauce 
DESCRIPTION:League Name: 2025 S4 Sun Coed Lite- Sep 7\nGame Type: Postseaso
 n\nGame Status: Complete\nHome Team: Prestige World Wide\nAway Team: Lost 
 in the Sauce \nHome Score: 8\nAway Score: 12
END:VEVENT
BEGIN:VEVENT
UID:16844853@ezleagues.ezfacility.com
DTSTAMP:20260424T044102Z
CREATED:20260424T044102Z
DTSTART:20251117T034500Z
DTEND:20251117T044500Z
LOCATION:Field 3
CONTACT:
SUMMARY:Loser Game 1 (Coed) VS. Prestige World Wide
DESCRIPTION:League Name: 2025 S4 Sun Coed Lite- Sep 7\nGame Type: Postseaso
 n\nGame Status: Complete\nHome Team: Loser Game 1 (Coed)\nAway Team: Prest
 ige World Wide\nHome Score: 0\nAway Score: 7
END:VEVENT
END:VCALENDAR
