BEGIN:VCALENDAR
VERSION:2.0
PRODID:-//EZFacility.com, Inc.//EZL 2.5.5.28621
BEGIN:VEVENT
UID:16608838@ezleagues.ezfacility.com
DTSTAMP:20260426T033705Z
CREATED:20260426T033705Z
DTSTART:20250904T010000Z
DTEND:20250904T015500Z
LOCATION:Wayside 5CD
CONTACT:
SUMMARY:REBOOTED VS. FC SHORE
DESCRIPTION:League Name: CSX Fall Men 30+ III 2025\nGame Type: Regular\nGam
 e Status: Complete\nHome Team: REBOOTED\nAway Team: FC SHORE\nHome Score: 
 5\nAway Score: 2
END:VEVENT
BEGIN:VEVENT
UID:16608844@ezleagues.ezfacility.com
DTSTAMP:20260426T033705Z
CREATED:20260426T033705Z
DTSTART:20250911T020000Z
DTEND:20250911T025500Z
LOCATION:Wayside 6AB
CONTACT:
SUMMARY:REBOOTED VS. FREEZERS FC
DESCRIPTION:League Name: CSX Fall Men 30+ III 2025\nGame Type: Regular\nGam
 e Status: Complete\nHome Team: REBOOTED\nAway Team: FREEZERS FC\nHome Scor
 e: 7\nAway Score: 3
END:VEVENT
BEGIN:VEVENT
UID:16608850@ezleagues.ezfacility.com
DTSTAMP:20260426T033705Z
CREATED:20260426T033705Z
DTSTART:20250918T010000Z
DTEND:20250918T015500Z
LOCATION:Wayside 6AB
CONTACT:
SUMMARY:REBOOTED VS. FC SIDEWAYS
DESCRIPTION:League Name: CSX Fall Men 30+ III 2025\nGame Type: Regular\nGam
 e Status: Complete\nHome Team: REBOOTED\nAway Team: FC SIDEWAYS\nHome Scor
 e: 3\nAway Score: 3
END:VEVENT
BEGIN:VEVENT
UID:16608855@ezleagues.ezfacility.com
DTSTAMP:20260426T033705Z
CREATED:20260426T033705Z
DTSTART:20250925T010000Z
DTEND:20250925T015500Z
LOCATION:Wayside 5AB
CONTACT:
SUMMARY:AFC RICHMOND VS. REBOOTED
DESCRIPTION:League Name: CSX Fall Men 30+ III 2025\nGame Type: Regular\nGam
 e Status: Complete\nHome Team: AFC RICHMOND\nAway Team: REBOOTED\nHome Sco
 re: 2\nAway Score: 1
END:VEVENT
BEGIN:VEVENT
UID:16608859@ezleagues.ezfacility.com
DTSTAMP:20260426T033705Z
CREATED:20260426T033705Z
DTSTART:20251002T000000Z
DTEND:20251002T005500Z
LOCATION:Wayside 6AB
CONTACT:
SUMMARY:HOLLAND OATES FC VS. REBOOTED
DESCRIPTION:League Name: CSX Fall Men 30+ III 2025\nGame Type: Regular\nGam
 e Status: Complete\nHome Team: HOLLAND OATES FC\nAway Team: REBOOTED\nHome
  Score: 6\nAway Score: 2
END:VEVENT
BEGIN:VEVENT
UID:16608863@ezleagues.ezfacility.com
DTSTAMP:20260426T033705Z
CREATED:20260426T033705Z
DTSTART:20251009T010000Z
DTEND:20251009T015500Z
LOCATION:Wayside 4CD
CONTACT:
SUMMARY:FREE AGENT DREAM TEAM VS. REBOOTED
DESCRIPTION:League Name: CSX Fall Men 30+ III 2025\nGame Type: Regular\nGam
 e Status: Complete\nHome Team: FREE AGENT DREAM TEAM\nAway Team: REBOOTED\
 nHome Score: 3\nAway Score: 1
END:VEVENT
BEGIN:VEVENT
UID:16608867@ezleagues.ezfacility.com
DTSTAMP:20260426T033705Z
CREATED:20260426T033705Z
DTSTART:20251016T000000Z
DTEND:20251016T005500Z
LOCATION:Wayside 5AB
CONTACT:
SUMMARY:GARDEN STATE FC VS. REBOOTED
DESCRIPTION:League Name: CSX Fall Men 30+ III 2025\nGame Type: Regular\nGam
 e Status: Complete\nHome Team: GARDEN STATE FC\nAway Team: REBOOTED\nHome 
 Score: 2\nAway Score: 7
END:VEVENT
BEGIN:VEVENT
UID:16608871@ezleagues.ezfacility.com
DTSTAMP:20260426T033705Z
CREATED:20260426T033705Z
DTSTART:20251023T020000Z
DTEND:20251023T025500Z
LOCATION:Wayside 5CD
CONTACT:
SUMMARY:REBOOTED VS. THROWBACKS
DESCRIPTION:League Name: CSX Fall Men 30+ III 2025\nGame Type: Regular\nGam
 e Status: Complete\nHome Team: REBOOTED\nAway Team: THROWBACKS\nHome Score
 : 3\nAway Score: 1
END:VEVENT
END:VCALENDAR
