BEGIN:VCALENDAR
VERSION:2.0
PRODID:-//EZFacility.com, Inc.//EZL 2.5.5.28621
BEGIN:VEVENT
UID:16608839@ezleagues.ezfacility.com
DTSTAMP:20260424T044141Z
CREATED:20260424T044141Z
DTSTART:20250904T020000Z
DTEND:20250904T025500Z
LOCATION:Wayside 5CD
CONTACT:
SUMMARY:FC SIDEWAYS VS. FREE AGENT DREAM TEAM
DESCRIPTION:League Name: CSX Fall Men 30+ III 2025\nGame Type: Regular\nGam
 e Status: Complete\nHome Team: FC SIDEWAYS\nAway Team: FREE AGENT DREAM TE
 AM\nHome Score: 4\nAway Score: 0
END:VEVENT
BEGIN:VEVENT
UID:16608843@ezleagues.ezfacility.com
DTSTAMP:20260424T044141Z
CREATED:20260424T044141Z
DTSTART:20250911T010000Z
DTEND:20250911T015500Z
LOCATION:Wayside 6CD
CONTACT:
SUMMARY:AFC RICHMOND VS. FREE AGENT DREAM TEAM
DESCRIPTION:League Name: CSX Fall Men 30+ III 2025\nGame Type: Regular\nGam
 e Status: Complete\nHome Team: AFC RICHMOND\nAway Team: FREE AGENT DREAM T
 EAM\nHome Score: 2\nAway Score: 5
END:VEVENT
BEGIN:VEVENT
UID:16608847@ezleagues.ezfacility.com
DTSTAMP:20260424T044141Z
CREATED:20260424T044141Z
DTSTART:20250918T000000Z
DTEND:20250918T005500Z
LOCATION:Wayside 4CD
CONTACT:
SUMMARY:HOLLAND OATES FC VS. FREE AGENT DREAM TEAM
DESCRIPTION:League Name: CSX Fall Men 30+ III 2025\nGame Type: Regular\nGam
 e Status: Complete\nHome Team: HOLLAND OATES FC\nAway Team: FREE AGENT DRE
 AM TEAM\nHome Score: 8\nAway Score: 3
END:VEVENT
BEGIN:VEVENT
UID:16608851@ezleagues.ezfacility.com
DTSTAMP:20260424T044141Z
CREATED:20260424T044141Z
DTSTART:20250925T000000Z
DTEND:20250925T005500Z
LOCATION:Wayside 4CD
CONTACT:
SUMMARY:THROWBACKS VS. FREE AGENT DREAM TEAM
DESCRIPTION:League Name: CSX Fall Men 30+ III 2025\nGame Type: Regular\nGam
 e Status: Complete\nHome Team: THROWBACKS\nAway Team: FREE AGENT DREAM TEA
 M\nHome Score: 5\nAway Score: 2
END:VEVENT
BEGIN:VEVENT
UID:16608857@ezleagues.ezfacility.com
DTSTAMP:20260424T044141Z
CREATED:20260424T044141Z
DTSTART:20251002T010000Z
DTEND:20251002T015500Z
LOCATION:Wayside 6AB
CONTACT:
SUMMARY:FREE AGENT DREAM TEAM VS. GARDEN STATE FC
DESCRIPTION:League Name: CSX Fall Men 30+ III 2025\nGame Type: Regular\nGam
 e Status: Complete\nHome Team: FREE AGENT DREAM TEAM\nAway Team: GARDEN ST
 ATE FC\nHome Score: 1\nAway Score: 10
END:VEVENT
BEGIN:VEVENT
UID:16608863@ezleagues.ezfacility.com
DTSTAMP:20260424T044141Z
CREATED:20260424T044141Z
DTSTART:20251009T010000Z
DTEND:20251009T015500Z
LOCATION:Wayside 4CD
CONTACT:
SUMMARY:FREE AGENT DREAM TEAM VS. REBOOTED
DESCRIPTION:League Name: CSX Fall Men 30+ III 2025\nGame Type: Regular\nGam
 e Status: Complete\nHome Team: FREE AGENT DREAM TEAM\nAway Team: REBOOTED\
 nHome Score: 3\nAway Score: 1
END:VEVENT
BEGIN:VEVENT
UID:16608869@ezleagues.ezfacility.com
DTSTAMP:20260424T044141Z
CREATED:20260424T044141Z
DTSTART:20251016T020000Z
DTEND:20251016T025500Z
LOCATION:Wayside 4AB
CONTACT:
SUMMARY:FREE AGENT DREAM TEAM VS. HIGH TIDE SC
DESCRIPTION:League Name: CSX Fall Men 30+ III 2025\nGame Type: Regular\nGam
 e Status: Complete\nHome Team: FREE AGENT DREAM TEAM\nAway Team: HIGH TIDE
  SC\nHome Score: 1\nAway Score: 1
END:VEVENT
BEGIN:VEVENT
UID:16608875@ezleagues.ezfacility.com
DTSTAMP:20260424T044141Z
CREATED:20260424T044141Z
DTSTART:20251022T230000Z
DTEND:20251022T235500Z
LOCATION:Wayside 6AB
CONTACT:
SUMMARY:FREE AGENT DREAM TEAM VS. FC SHORE
DESCRIPTION:League Name: CSX Fall Men 30+ III 2025\nGame Type: Regular\nGam
 e Status: Complete\nHome Team: FREE AGENT DREAM TEAM\nAway Team: FC SHORE\
 nHome Score: 10\nAway Score: 4
END:VEVENT
END:VCALENDAR
