BEGIN:VCALENDAR
VERSION:2.0
PRODID:-//EZFacility.com, Inc.//EZL 2.5.5.28621
BEGIN:VEVENT
UID:16609130@ezleagues.ezfacility.com
DTSTAMP:20260424T043310Z
CREATED:20260424T043310Z
DTSTART:20250905T020000Z
DTEND:20250905T025500Z
LOCATION:Wayside 5CD
CONTACT:
SUMMARY:HOLLAND VS. MONMOUTH ONE
DESCRIPTION:League Name: CSX Fall Men 40+ II 2025\nGame Type: Regular\nGame
  Status: Complete\nHome Team: HOLLAND\nAway Team: MONMOUTH ONE\nHome Score
 : 2\nAway Score: 1
END:VEVENT
BEGIN:VEVENT
UID:16609133@ezleagues.ezfacility.com
DTSTAMP:20260424T043310Z
CREATED:20260424T043310Z
DTSTART:20250911T230000Z
DTEND:20250911T235500Z
LOCATION:Wayside 6AB
CONTACT:
SUMMARY:MONMOUTH ONE VS. POST GAMERS
DESCRIPTION:League Name: CSX Fall Men 40+ II 2025\nGame Type: Regular\nGame
  Status: Complete\nHome Team: MONMOUTH ONE\nAway Team: POST GAMERS\nHome S
 core: 4\nAway Score: 1
END:VEVENT
BEGIN:VEVENT
UID:16609135@ezleagues.ezfacility.com
DTSTAMP:20260424T043310Z
CREATED:20260424T043310Z
DTSTART:20250918T230000Z
DTEND:20250918T235500Z
LOCATION:Wayside 6CD
CONTACT:
SUMMARY:MONMOUTH ONE VS. BUD FC
DESCRIPTION:League Name: CSX Fall Men 40+ II 2025\nGame Type: Regular\nGame
  Status: Complete\nHome Team: MONMOUTH ONE\nAway Team: BUD FC\nHome Score:
  6\nAway Score: 0
END:VEVENT
BEGIN:VEVENT
UID:16609137@ezleagues.ezfacility.com
DTSTAMP:20260424T043310Z
CREATED:20260424T043310Z
DTSTART:20250926T010000Z
DTEND:20250926T015500Z
LOCATION:Indoor 3AB
CONTACT:
SUMMARY:OMONIA 40+ B VS. MONMOUTH ONE
DESCRIPTION:League Name: CSX Fall Men 40+ II 2025\nGame Type: Regular\nGame
  Status: Complete\nHome Team: OMONIA 40+ B\nAway Team: MONMOUTH ONE\nHome 
 Score: 6\nAway Score: 6
END:VEVENT
BEGIN:VEVENT
UID:16609141@ezleagues.ezfacility.com
DTSTAMP:20260424T043310Z
CREATED:20260424T043310Z
DTSTART:20251003T010000Z
DTEND:20251003T015500Z
LOCATION:Wayside 5AB
CONTACT:
SUMMARY:MONMOUTH ONE VS. MONMOUTH INTER 40
DESCRIPTION:League Name: CSX Fall Men 40+ II 2025\nGame Type: Regular\nGame
  Status: Complete\nHome Team: MONMOUTH ONE\nAway Team: MONMOUTH INTER 40\n
 Home Score: 0\nAway Score: 2
END:VEVENT
BEGIN:VEVENT
UID:16609145@ezleagues.ezfacility.com
DTSTAMP:20260424T043310Z
CREATED:20260424T043310Z
DTSTART:20251010T000000Z
DTEND:20251010T005500Z
LOCATION:Wayside 4AB
CONTACT:
SUMMARY:MONMOUTH ONE VS. HOLLAND
DESCRIPTION:League Name: CSX Fall Men 40+ II 2025\nGame Type: Regular\nGame
  Status: Complete\nHome Team: MONMOUTH ONE\nAway Team: HOLLAND\nHome Score
 : 3\nAway Score: 4
END:VEVENT
BEGIN:VEVENT
UID:16609148@ezleagues.ezfacility.com
DTSTAMP:20260424T043310Z
CREATED:20260424T043310Z
DTSTART:20251017T010000Z
DTEND:20251017T015500Z
LOCATION:Wayside 4AB
CONTACT:
SUMMARY:POST GAMERS VS. MONMOUTH ONE
DESCRIPTION:League Name: CSX Fall Men 40+ II 2025\nGame Type: Regular\nGame
  Status: Complete\nHome Team: POST GAMERS\nAway Team: MONMOUTH ONE\nHome S
 core: 3\nAway Score: 3
END:VEVENT
BEGIN:VEVENT
UID:16609150@ezleagues.ezfacility.com
DTSTAMP:20260424T043310Z
CREATED:20260424T043310Z
DTSTART:20251024T020000Z
DTEND:20251024T025500Z
LOCATION:Wayside 6AB
CONTACT:
SUMMARY:BUD FC VS. MONMOUTH ONE
DESCRIPTION:League Name: CSX Fall Men 40+ II 2025\nGame Type: Regular\nGame
  Status: Complete\nHome Team: BUD FC\nAway Team: MONMOUTH ONE\nHome Score:
  5\nAway Score: 5
END:VEVENT
END:VCALENDAR
