BEGIN:VCALENDAR
VERSION:2.0
PRODID:-//EZFacility.com, Inc.//EZL 2.5.5.28621
BEGIN:VEVENT
UID:16654284@ezleagues.ezfacility.com
DTSTAMP:20260424T044053Z
CREATED:20260424T044053Z
DTSTART:20250902T213000Z
DTEND:20250902T215500Z
LOCATION:Bocce Court 1
CONTACT:
SUMMARY:Conquistadors VS. Gabagool
DESCRIPTION:League Name: NYA Bocce 2025 Fall League (09/02/25  - 10/20/25)\
 nGame Type: Regular\nGame Status: Complete\nHome Team: Conquistadors\nAway
  Team: Gabagool\nHome Score: 4\nAway Score: 11
END:VEVENT
BEGIN:VEVENT
UID:16654287@ezleagues.ezfacility.com
DTSTAMP:20260424T044053Z
CREATED:20260424T044053Z
DTSTART:20250902T220000Z
DTEND:20250902T222500Z
LOCATION:Bocce Indoor 2
CONTACT:
SUMMARY:Gabagool VS. Boccelism
DESCRIPTION:League Name: NYA Bocce 2025 Fall League (09/02/25  - 10/20/25)\
 nGame Type: Regular\nGame Status: Complete\nHome Team: Gabagool\nAway Team
 : Boccelism\nHome Score: 12\nAway Score: 10
END:VEVENT
BEGIN:VEVENT
UID:16664324@ezleagues.ezfacility.com
DTSTAMP:20260424T044053Z
CREATED:20260424T044053Z
DTSTART:20250908T223000Z
DTEND:20250908T225500Z
LOCATION:Bocce Court 1
CONTACT:
SUMMARY:Wrecking Balls VS. Gabagool
DESCRIPTION:League Name: NYA Bocce 2025 Fall League (09/02/25  - 10/20/25)\
 nGame Type: Regular\nGame Status: Complete\nHome Team: Wrecking Balls\nAwa
 y Team: Gabagool\nHome Score: 3\nAway Score: 11
END:VEVENT
BEGIN:VEVENT
UID:16664327@ezleagues.ezfacility.com
DTSTAMP:20260424T044053Z
CREATED:20260424T044053Z
DTSTART:20250908T230000Z
DTEND:20250908T232500Z
LOCATION:Bocce Court 2
CONTACT:
SUMMARY:Gabagool VS. Winos Tribe
DESCRIPTION:League Name: NYA Bocce 2025 Fall League (09/02/25  - 10/20/25)\
 nGame Type: Regular\nGame Status: Complete\nHome Team: Gabagool\nAway Team
 : Winos Tribe\nHome Score: 7\nAway Score: 7
END:VEVENT
BEGIN:VEVENT
UID:16681457@ezleagues.ezfacility.com
DTSTAMP:20260424T044053Z
CREATED:20260424T044053Z
DTSTART:20250915T213000Z
DTEND:20250915T215500Z
LOCATION:Bocce Indoor 2
CONTACT:
SUMMARY:Gabagool VS. Hardball Hookers
DESCRIPTION:League Name: NYA Bocce 2025 Fall League (09/02/25  - 10/20/25)\
 nGame Type: Regular\nGame Status: Complete\nHome Team: Gabagool\nAway Team
 : Hardball Hookers\nHome Score: 12\nAway Score: 2
END:VEVENT
BEGIN:VEVENT
UID:16681450@ezleagues.ezfacility.com
DTSTAMP:20260424T044053Z
CREATED:20260424T044053Z
DTSTART:20250915T223000Z
DTEND:20250915T225500Z
LOCATION:Bocce Court 1
CONTACT:
SUMMARY:Tuscan Titans VS. Gabagool
DESCRIPTION:League Name: NYA Bocce 2025 Fall League (09/02/25  - 10/20/25)\
 nGame Type: Regular\nGame Status: Complete\nHome Team: Tuscan Titans\nAway
  Team: Gabagool\nHome Score: 12\nAway Score: 2
END:VEVENT
BEGIN:VEVENT
UID:16691913@ezleagues.ezfacility.com
DTSTAMP:20260424T044053Z
CREATED:20260424T044053Z
DTSTART:20250922T213000Z
DTEND:20250922T215500Z
LOCATION:Bocce Indoor 2
CONTACT:
SUMMARY:Gabagool VS. O'Talians
DESCRIPTION:League Name: NYA Bocce 2025 Fall League (09/02/25  - 10/20/25)\
 nGame Type: Regular\nGame Status: Complete\nHome Team: Gabagool\nAway Team
 : O'Talians\nHome Score: 12\nAway Score: 6
END:VEVENT
BEGIN:VEVENT
UID:16691928@ezleagues.ezfacility.com
DTSTAMP:20260424T044053Z
CREATED:20260424T044053Z
DTSTART:20250922T220000Z
DTEND:20250922T222500Z
LOCATION:Bocce Court 1
CONTACT:
SUMMARY:Bocce Ballers VS. Gabagool
DESCRIPTION:League Name: NYA Bocce 2025 Fall League (09/02/25  - 10/20/25)\
 nGame Type: Regular\nGame Status: Complete\nHome Team: Bocce Ballers\nAway
  Team: Gabagool\nHome Score: 5\nAway Score: 7
END:VEVENT
BEGIN:VEVENT
UID:16742305@ezleagues.ezfacility.com
DTSTAMP:20260424T044053Z
CREATED:20260424T044053Z
DTSTART:20250929T213000Z
DTEND:20250929T215500Z
LOCATION:Court 4 (Jr)
CONTACT:
SUMMARY:Gabagool VS. The Banshees
DESCRIPTION:League Name: NYA Bocce 2025 Fall League (09/02/25  - 10/20/25)\
 nGame Type: Regular\nGame Status: Complete\nHome Team: Gabagool\nAway Team
 : The Banshees\nHome Score: 9\nAway Score: 8
END:VEVENT
BEGIN:VEVENT
UID:16742318@ezleagues.ezfacility.com
DTSTAMP:20260424T044053Z
CREATED:20260424T044053Z
DTSTART:20250929T230000Z
DTEND:20250929T232500Z
LOCATION:Bocce Court 1
CONTACT:
SUMMARY:Cannoli's VS. Gabagool
DESCRIPTION:League Name: NYA Bocce 2025 Fall League (09/02/25  - 10/20/25)\
 nGame Type: Regular\nGame Status: Complete\nHome Team: Cannoli's\nAway Tea
 m: Gabagool\nHome Score: 8\nAway Score: 5
END:VEVENT
BEGIN:VEVENT
UID:16759762@ezleagues.ezfacility.com
DTSTAMP:20260424T044053Z
CREATED:20260424T044053Z
DTSTART:20251006T213000Z
DTEND:20251006T223000Z
LOCATION:Bocce Court 1
CONTACT:
SUMMARY:Boccelism VS. Gabagool
DESCRIPTION:League Name: NYA Bocce 2025 Fall League (09/02/25  - 10/20/25)\
 nGame Type: Regular\nGame Status: Complete\nHome Team: Boccelism\nAway Tea
 m: Gabagool\nHome Score: 11\nAway Score: 2
END:VEVENT
BEGIN:VEVENT
UID:16759765@ezleagues.ezfacility.com
DTSTAMP:20260424T044053Z
CREATED:20260424T044053Z
DTSTART:20251006T220000Z
DTEND:20251006T230000Z
LOCATION:Bocce Court 2
CONTACT:
SUMMARY:Gabagool VS. O'Talians
DESCRIPTION:League Name: NYA Bocce 2025 Fall League (09/02/25  - 10/20/25)\
 nGame Type: Regular\nGame Status: Complete\nHome Team: Gabagool\nAway Team
 : O'Talians\nHome Score: 7\nAway Score: 5
END:VEVENT
BEGIN:VEVENT
UID:16782296@ezleagues.ezfacility.com
DTSTAMP:20260424T044053Z
CREATED:20260424T044053Z
DTSTART:20251014T213000Z
DTEND:20251014T215500Z
LOCATION:Bocce Court 2
CONTACT:
SUMMARY:Gabagool VS. Don Bocce
DESCRIPTION:League Name: NYA Bocce 2025 Fall League (09/02/25  - 10/20/25)\
 nGame Type: Regular\nGame Status: Complete\nHome Team: Gabagool\nAway Team
 : Don Bocce\nHome Score: 12\nAway Score: 5
END:VEVENT
BEGIN:VEVENT
UID:16782305@ezleagues.ezfacility.com
DTSTAMP:20260424T044053Z
CREATED:20260424T044053Z
DTSTART:20251014T220000Z
DTEND:20251014T222500Z
LOCATION:Bocce Court 1
CONTACT:
SUMMARY:Tuscan Titans VS. Gabagool
DESCRIPTION:League Name: NYA Bocce 2025 Fall League (09/02/25  - 10/20/25)\
 nGame Type: Regular\nGame Status: Complete\nHome Team: Tuscan Titans\nAway
  Team: Gabagool\nHome Score: 5\nAway Score: 12
END:VEVENT
END:VCALENDAR
