BEGIN:VCALENDAR
VERSION:2.0
PRODID:-//EZFacility.com, Inc.//EZL 2.5.5.28621
BEGIN:VEVENT
UID:16654283@ezleagues.ezfacility.com
DTSTAMP:20260426T033602Z
CREATED:20260426T033602Z
DTSTART:20250902T213000Z
DTEND:20250902T215500Z
LOCATION:Bocce Indoor 2
CONTACT:
SUMMARY:Wrecking Balls VS. The Banshees
DESCRIPTION:League Name: NYA Bocce 2025 Fall League (09/02/25  - 10/20/25)\
 nGame Type: Regular\nGame Status: Complete\nHome Team: Wrecking Balls\nAwa
 y Team: The Banshees\nHome Score: 5\nAway Score: 11
END:VEVENT
BEGIN:VEVENT
UID:16654292@ezleagues.ezfacility.com
DTSTAMP:20260426T033602Z
CREATED:20260426T033602Z
DTSTART:20250902T230000Z
DTEND:20250902T232500Z
LOCATION:Bocce Court 1
CONTACT:
SUMMARY:Wrecking Balls VS. Winos Tribe
DESCRIPTION:League Name: NYA Bocce 2025 Fall League (09/02/25  - 10/20/25)\
 nGame Type: Regular\nGame Status: Complete\nHome Team: Wrecking Balls\nAwa
 y Team: Winos Tribe\nHome Score: 8\nAway Score: 5
END:VEVENT
BEGIN:VEVENT
UID:16664321@ezleagues.ezfacility.com
DTSTAMP:20260426T033602Z
CREATED:20260426T033602Z
DTSTART:20250908T213000Z
DTEND:20250908T215500Z
LOCATION:Bocce Court 2
CONTACT:
SUMMARY:Hardball Hookers VS. Wrecking Balls
DESCRIPTION:League Name: NYA Bocce 2025 Fall League (09/02/25  - 10/20/25)\
 nGame Type: Regular\nGame Status: Complete\nHome Team: Hardball Hookers\nA
 way Team: Wrecking Balls\nHome Score: 8\nAway Score: 4
END:VEVENT
BEGIN:VEVENT
UID:16664324@ezleagues.ezfacility.com
DTSTAMP:20260426T033602Z
CREATED:20260426T033602Z
DTSTART:20250908T223000Z
DTEND:20250908T225500Z
LOCATION:Bocce Court 1
CONTACT:
SUMMARY:Wrecking Balls VS. Gabagool
DESCRIPTION:League Name: NYA Bocce 2025 Fall League (09/02/25  - 10/20/25)\
 nGame Type: Regular\nGame Status: Complete\nHome Team: Wrecking Balls\nAwa
 y Team: Gabagool\nHome Score: 3\nAway Score: 11
END:VEVENT
BEGIN:VEVENT
UID:16681456@ezleagues.ezfacility.com
DTSTAMP:20260426T033602Z
CREATED:20260426T033602Z
DTSTART:20250915T210000Z
DTEND:20250915T212500Z
LOCATION:Bocce Indoor 2
CONTACT:
SUMMARY:Wrecking Balls VS. Cannoli's
DESCRIPTION:League Name: NYA Bocce 2025 Fall League (09/02/25  - 10/20/25)\
 nGame Type: Regular\nGame Status: Complete\nHome Team: Wrecking Balls\nAwa
 y Team: Cannoli's\nHome Score: 6\nAway Score: 6
END:VEVENT
BEGIN:VEVENT
UID:16681452@ezleagues.ezfacility.com
DTSTAMP:20260426T033602Z
CREATED:20260426T033602Z
DTSTART:20250915T213000Z
DTEND:20250915T215500Z
LOCATION:Bocce Court 2
CONTACT:
SUMMARY:Don Bocce VS. Wrecking Balls
DESCRIPTION:League Name: NYA Bocce 2025 Fall League (09/02/25  - 10/20/25)\
 nGame Type: Regular\nGame Status: Complete\nHome Team: Don Bocce\nAway Tea
 m: Wrecking Balls\nHome Score: 11\nAway Score: 6
END:VEVENT
BEGIN:VEVENT
UID:16691926@ezleagues.ezfacility.com
DTSTAMP:20260426T033602Z
CREATED:20260426T033602Z
DTSTART:20250922T213000Z
DTEND:20250922T215500Z
LOCATION:Bocce Court 1
CONTACT:
SUMMARY:Wrecking Balls VS. Bocce Ballers
DESCRIPTION:League Name: NYA Bocce 2025 Fall League (09/02/25  - 10/20/25)\
 nGame Type: Regular\nGame Status: Complete\nHome Team: Wrecking Balls\nAwa
 y Team: Bocce Ballers\nHome Score: 3\nAway Score: 9
END:VEVENT
BEGIN:VEVENT
UID:16691993@ezleagues.ezfacility.com
DTSTAMP:20260426T033602Z
CREATED:20260426T033602Z
DTSTART:20250922T223000Z
DTEND:20250922T225500Z
LOCATION:Bocce Court 2
CONTACT:
SUMMARY:O'Talians VS. Wrecking Balls
DESCRIPTION:League Name: NYA Bocce 2025 Fall League (09/02/25  - 10/20/25)\
 nGame Type: Regular\nGame Status: Complete\nHome Team: O'Talians\nAway Tea
 m: Wrecking Balls\nHome Score: 3\nAway Score: 9
END:VEVENT
BEGIN:VEVENT
UID:16742299@ezleagues.ezfacility.com
DTSTAMP:20260426T033602Z
CREATED:20260426T033602Z
DTSTART:20250929T213000Z
DTEND:20250929T215500Z
LOCATION:Bocce Indoor 1
CONTACT:
SUMMARY:Tuscan Titans VS. Wrecking Balls
DESCRIPTION:League Name: NYA Bocce 2025 Fall League (09/02/25  - 10/20/25)\
 nGame Type: Regular\nGame Status: Complete\nHome Team: Tuscan Titans\nAway
  Team: Wrecking Balls\nHome Score: 12\nAway Score: 2
END:VEVENT
BEGIN:VEVENT
UID:16742319@ezleagues.ezfacility.com
DTSTAMP:20260426T033602Z
CREATED:20260426T033602Z
DTSTART:20250929T230000Z
DTEND:20250929T232500Z
LOCATION:Bocce Court 2
CONTACT:
SUMMARY:Wrecking Balls VS. Boccelism
DESCRIPTION:League Name: NYA Bocce 2025 Fall League (09/02/25  - 10/20/25)\
 nGame Type: Regular\nGame Status: Complete\nHome Team: Wrecking Balls\nAwa
 y Team: Boccelism\nHome Score: 0\nAway Score: 12
END:VEVENT
BEGIN:VEVENT
UID:16759759@ezleagues.ezfacility.com
DTSTAMP:20260426T033602Z
CREATED:20260426T033602Z
DTSTART:20251006T210000Z
DTEND:20251006T220000Z
LOCATION:Bocce Indoor 2
CONTACT:
SUMMARY:O'Talians VS. Wrecking Balls
DESCRIPTION:League Name: NYA Bocce 2025 Fall League (09/02/25  - 10/20/25)\
 nGame Type: Regular\nGame Status: Complete\nHome Team: O'Talians\nAway Tea
 m: Wrecking Balls\nHome Score: 4\nAway Score: 10
END:VEVENT
BEGIN:VEVENT
UID:16759764@ezleagues.ezfacility.com
DTSTAMP:20260426T033602Z
CREATED:20260426T033602Z
DTSTART:20251006T220000Z
DTEND:20251006T230000Z
LOCATION:Bocce Court 1
CONTACT:
SUMMARY:Wrecking Balls VS. Conquistadors
DESCRIPTION:League Name: NYA Bocce 2025 Fall League (09/02/25  - 10/20/25)\
 nGame Type: Regular\nGame Status: Complete\nHome Team: Wrecking Balls\nAwa
 y Team: Conquistadors\nHome Score: 8\nAway Score: 6
END:VEVENT
BEGIN:VEVENT
UID:16782304@ezleagues.ezfacility.com
DTSTAMP:20260426T033602Z
CREATED:20260426T033602Z
DTSTART:20251014T213000Z
DTEND:20251014T215500Z
LOCATION:Court 4 (Jr)
CONTACT:
SUMMARY:Wrecking Balls VS. Conquistadors
DESCRIPTION:League Name: NYA Bocce 2025 Fall League (09/02/25  - 10/20/25)\
 nGame Type: Regular\nGame Status: Complete\nHome Team: Wrecking Balls\nAwa
 y Team: Conquistadors\nHome Score: 11\nAway Score: 10
END:VEVENT
BEGIN:VEVENT
UID:16782320@ezleagues.ezfacility.com
DTSTAMP:20260426T033602Z
CREATED:20260426T033602Z
DTSTART:20251014T223000Z
DTEND:20251014T225500Z
LOCATION:Bocce Indoor 3
CONTACT:
SUMMARY:Winos Tribe VS. Wrecking Balls
DESCRIPTION:League Name: NYA Bocce 2025 Fall League (09/02/25  - 10/20/25)\
 nGame Type: Regular\nGame Status: Complete\nHome Team: Winos Tribe\nAway T
 eam: Wrecking Balls\nHome Score: 12\nAway Score: 1
END:VEVENT
END:VCALENDAR
