BEGIN:VCALENDAR
VERSION:2.0
PRODID:-//EZFacility.com, Inc.//EZL 2.5.5.28621
BEGIN:VEVENT
UID:16659042@ezleagues.ezfacility.com
DTSTAMP:20260425T223533Z
CREATED:20260425T223533Z
DTSTART:20250910T231500Z
DTEND:20250911T001500Z
LOCATION:Volleyball Court #3
CONTACT:Petrash\, Irma
SUMMARY:Jump Serve 4th VS. RiDIGulous 2nd 
DESCRIPTION:League Name: SAT - Fall Coed 6v6 Volleyball League\nGame Type: 
 Regular\nGame Status: Complete\nHome Team: Jump Serve 4th\nAway Team: RiDI
 Gulous 2nd \nHome Score: 1\nAway Score: 2
END:VEVENT
BEGIN:VEVENT
UID:16659050@ezleagues.ezfacility.com
DTSTAMP:20260425T223533Z
CREATED:20260425T223533Z
DTSTART:20250918T020000Z
DTEND:20250918T030000Z
LOCATION:Volleyball Court #2
CONTACT:Casas\, Josh
SUMMARY:Jump Serve 4th VS. Volley Llamas **Dropped from League**
DESCRIPTION:League Name: SAT - Fall Coed 6v6 Volleyball League\nGame Type: 
 Regular\nGame Status: Complete\nHome Team: Jump Serve 4th\nAway Team: Voll
 ey Llamas **Dropped from League**\nHome Score: 3\nAway Score: 0
END:VEVENT
BEGIN:VEVENT
UID:16659058@ezleagues.ezfacility.com
DTSTAMP:20260425T223533Z
CREATED:20260425T223533Z
DTSTART:20250925T001000Z
DTEND:20250925T011000Z
LOCATION:Volleyball Court #2
CONTACT:Petrash\, Josh
SUMMARY:Jump Serve 4th VS. No Diggity
DESCRIPTION:League Name: SAT - Fall Coed 6v6 Volleyball League\nGame Type: 
 Regular\nGame Status: Complete\nHome Team: Jump Serve 4th\nAway Team: No D
 iggity\nHome Score: 3\nAway Score: 0
END:VEVENT
BEGIN:VEVENT
UID:16659065@ezleagues.ezfacility.com
DTSTAMP:20260425T223533Z
CREATED:20260425T223533Z
DTSTART:20251002T010500Z
DTEND:20251002T020500Z
LOCATION:Volleyball Court #2
CONTACT:Cruz\, Josh
SUMMARY:Frank's Red Hit VS. Jump Serve 4th
DESCRIPTION:League Name: SAT - Fall Coed 6v6 Volleyball League\nGame Type: 
 Regular\nGame Status: Complete\nHome Team: Frank's Red Hit\nAway Team: Jum
 p Serve 4th\nHome Score: 0\nAway Score: 3
END:VEVENT
BEGIN:VEVENT
UID:16659071@ezleagues.ezfacility.com
DTSTAMP:20260425T223533Z
CREATED:20260425T223533Z
DTSTART:20251009T010500Z
DTEND:20251009T020500Z
LOCATION:Volleyball Court #3
CONTACT:Casas\, Irma
SUMMARY:Block Busters VS. Jump Serve 4th
DESCRIPTION:League Name: SAT - Fall Coed 6v6 Volleyball League\nGame Type: 
 Regular\nGame Status: Complete\nHome Team: Block Busters\nAway Team: Jump 
 Serve 4th\nHome Score: 0\nAway Score: 3
END:VEVENT
BEGIN:VEVENT
UID:16659078@ezleagues.ezfacility.com
DTSTAMP:20260425T223533Z
CREATED:20260425T223533Z
DTSTART:20251016T001000Z
DTEND:20251016T011000Z
LOCATION:Volleyball Court #2
CONTACT:Cruz\, Irma
SUMMARY:Clap Gang VS. Jump Serve 4th
DESCRIPTION:League Name: SAT - Fall Coed 6v6 Volleyball League\nGame Type: 
 Regular\nGame Status: Complete\nHome Team: Clap Gang\nAway Team: Jump Serv
 e 4th\nHome Score: 1\nAway Score: 2
END:VEVENT
BEGIN:VEVENT
UID:16659084@ezleagues.ezfacility.com
DTSTAMP:20260425T223533Z
CREATED:20260425T223533Z
DTSTART:20251022T231500Z
DTEND:20251023T001500Z
LOCATION:Volleyball Court #3
CONTACT:Cruz\, Irma
SUMMARY:League Of Its Own 3rd  VS. Jump Serve 4th
DESCRIPTION:League Name: SAT - Fall Coed 6v6 Volleyball League\nGame Type: 
 Regular\nGame Status: Complete\nHome Team: League Of Its Own 3rd \nAway Te
 am: Jump Serve 4th\nHome Score: 2\nAway Score: 1
END:VEVENT
BEGIN:VEVENT
UID:16659090@ezleagues.ezfacility.com
DTSTAMP:20260425T223533Z
CREATED:20260425T223533Z
DTSTART:20251030T001000Z
DTEND:20251030T011000Z
LOCATION:Volleyball Court #3
CONTACT:Mireles\, Irma
SUMMARY:The Empire Spikes Back VS. Jump Serve 4th
DESCRIPTION:League Name: SAT - Fall Coed 6v6 Volleyball League\nGame Type: 
 Regular\nGame Status: Complete\nHome Team: The Empire Spikes Back\nAway Te
 am: Jump Serve 4th\nHome Score: 0\nAway Score: 3
END:VEVENT
BEGIN:VEVENT
UID:16659096@ezleagues.ezfacility.com
DTSTAMP:20260425T223533Z
CREATED:20260425T223533Z
DTSTART:20251106T001500Z
DTEND:20251106T011500Z
LOCATION:Volleyball Court #3
CONTACT:Cruz\, Irma
SUMMARY:Spike in Activity VS. Jump Serve 4th
DESCRIPTION:League Name: SAT - Fall Coed 6v6 Volleyball League\nGame Type: 
 Regular\nGame Status: Complete\nHome Team: Spike in Activity\nAway Team: J
 ump Serve 4th\nHome Score: 0\nAway Score: 3
END:VEVENT
BEGIN:VEVENT
UID:16659102@ezleagues.ezfacility.com
DTSTAMP:20260425T223533Z
CREATED:20260425T223533Z
DTSTART:20251113T020500Z
DTEND:20251113T030500Z
LOCATION:Volleyball Court #3
CONTACT:Petrash\, Irma
SUMMARY:Jump Serve 4th VS. 404 Server Not Found
DESCRIPTION:League Name: SAT - Fall Coed 6v6 Volleyball League\nGame Type: 
 Regular\nGame Status: Complete\nHome Team: Jump Serve 4th\nAway Team: 404 
 Server Not Found\nHome Score: 3\nAway Score: 0
END:VEVENT
BEGIN:VEVENT
UID:16659110@ezleagues.ezfacility.com
DTSTAMP:20260425T223533Z
CREATED:20260425T223533Z
DTSTART:20251120T020500Z
DTEND:20251120T030500Z
LOCATION:Volleyball Court #3
CONTACT:Mireles\, Irma
SUMMARY:Jump Serve 4th VS. Bump Buddies
DESCRIPTION:League Name: SAT - Fall Coed 6v6 Volleyball League\nGame Type: 
 Regular\nGame Status: Complete\nHome Team: Jump Serve 4th\nAway Team: Bump
  Buddies\nHome Score: 3\nAway Score: 0
END:VEVENT
BEGIN:VEVENT
UID:16659115@ezleagues.ezfacility.com
DTSTAMP:20260425T223533Z
CREATED:20260425T223533Z
DTSTART:20251203T001500Z
DTEND:20251203T011500Z
LOCATION:Volleyball Court #3
CONTACT:Petrash\, Irma
SUMMARY:Jump Serve 4th VS. Block Party 1st
DESCRIPTION:League Name: SAT - Fall Coed 6v6 Volleyball League\nGame Type: 
 Regular\nGame Status: Complete\nHome Team: Jump Serve 4th\nAway Team: Bloc
 k Party 1st\nHome Score: 1\nAway Score: 2
END:VEVENT
BEGIN:VEVENT
UID:16659125@ezleagues.ezfacility.com
DTSTAMP:20260425T223533Z
CREATED:20260425T223533Z
DTSTART:20251210T011000Z
DTEND:20251210T021000Z
LOCATION:Volleyball Court #3
CONTACT:Cruz
SUMMARY:Jump Serve 4th VS. Honey Badgers
DESCRIPTION:League Name: SAT - Fall Coed 6v6 Volleyball League\nGame Type: 
 Regular\nGame Status: Complete\nHome Team: Jump Serve 4th\nAway Team: Hone
 y Badgers\nHome Score: 3\nAway Score: 0
END:VEVENT
BEGIN:VEVENT
UID:16660230@ezleagues.ezfacility.com
DTSTAMP:20260425T223533Z
CREATED:20260425T223533Z
DTSTART:20251211T001500Z
DTEND:20251211T011500Z
LOCATION:Volleyball Court #2
CONTACT:Casas\, Josh
SUMMARY:Block Party 1st VS. Jump Serve 4th
DESCRIPTION:League Name: SAT - Fall Coed 6v6 Volleyball League\nGame Type: 
 Postseason\nGame Status: Complete\nHome Team: Block Party 1st\nAway Team: 
 Jump Serve 4th\nHome Score: 0\nAway Score: 2
END:VEVENT
BEGIN:VEVENT
UID:16660232@ezleagues.ezfacility.com
DTSTAMP:20260425T223533Z
CREATED:20260425T223533Z
DTSTART:20251211T021000Z
DTEND:20251211T031000Z
LOCATION:Volleyball Court #2
CONTACT:Casas\, Josh
SUMMARY:RiDIGulous 2nd  VS. Jump Serve 4th
DESCRIPTION:League Name: SAT - Fall Coed 6v6 Volleyball League\nGame Type: 
 Postseason\nGame Status: Complete\nHome Team: RiDIGulous 2nd \nAway Team: 
 Jump Serve 4th\nHome Score: 2\nAway Score: 1
END:VEVENT
END:VCALENDAR
