BEGIN:VCALENDAR
VERSION:2.0
PRODID:-//EZFacility.com, Inc.//EZL 2.5.5.28621
BEGIN:VEVENT
UID:16661098@ezleagues.ezfacility.com
DTSTAMP:20260424T043208Z
CREATED:20260424T043208Z
DTSTART:20250912T223000Z
DTEND:20250912T233000Z
LOCATION:SAC Main Court
CONTACT:
SUMMARY:RDC Patriot Club 7th (Whitford) VS. ABA Supreme 6th/7th (Rodriguez)
DESCRIPTION:League Name: Fall Session - 6th/7th Grade Boys\nGame Type: Regu
 lar\nGame Status: Complete\nHome Team: RDC Patriot Club 7th (Whitford)\nAw
 ay Team: ABA Supreme 6th/7th (Rodriguez)\nHome Score: 72\nAway Score: 28
END:VEVENT
BEGIN:VEVENT
UID:16674162@ezleagues.ezfacility.com
DTSTAMP:20260424T043208Z
CREATED:20260424T043208Z
DTSTART:20250919T223000Z
DTEND:20250919T233000Z
LOCATION:SAC Main Court
CONTACT:
SUMMARY:RDC Patriot Club 7th (Whitford) VS. Bullets (Gillispie)
DESCRIPTION:League Name: Fall Session - 6th/7th Grade Boys\nGame Type: Regu
 lar\nGame Status: Complete\nHome Team: RDC Patriot Club 7th (Whitford)\nAw
 ay Team: Bullets (Gillispie)\nHome Score: 56\nAway Score: 33
END:VEVENT
BEGIN:VEVENT
UID:16674166@ezleagues.ezfacility.com
DTSTAMP:20260424T043208Z
CREATED:20260424T043208Z
DTSTART:20250926T003000Z
DTEND:20250926T013000Z
LOCATION:SAC Main Court
CONTACT:
SUMMARY:KCBA 6th (Johnson) VS. RDC Patriot Club 7th (Whitford)
DESCRIPTION:League Name: Fall Session - 6th/7th Grade Boys\nGame Type: Regu
 lar\nGame Status: Complete\nHome Team: KCBA 6th (Johnson)\nAway Team: RDC 
 Patriot Club 7th (Whitford)\nHome Score: 16\nAway Score: 30
END:VEVENT
BEGIN:VEVENT
UID:16674167@ezleagues.ezfacility.com
DTSTAMP:20260424T043208Z
CREATED:20260424T043208Z
DTSTART:20251003T003000Z
DTEND:20251003T013000Z
LOCATION:SAC Main Court
CONTACT:
SUMMARY:Bullets (Gillispie) VS. RDC Patriot Club 7th (Whitford)
DESCRIPTION:League Name: Fall Session - 6th/7th Grade Boys\nGame Type: Regu
 lar\nGame Status: Complete\nHome Team: Bullets (Gillispie)\nAway Team: RDC
  Patriot Club 7th (Whitford)\nHome Score: 35\nAway Score: 54
END:VEVENT
BEGIN:VEVENT
UID:16674169@ezleagues.ezfacility.com
DTSTAMP:20260424T043208Z
CREATED:20260424T043208Z
DTSTART:20251010T013000Z
DTEND:20251010T023000Z
LOCATION:SAC Main Court
CONTACT:
SUMMARY:RDC Patriot Club 7th (Whitford) VS. ABA Supreme 6th/7th (Rodriguez)
DESCRIPTION:League Name: Fall Session - 6th/7th Grade Boys\nGame Type: Regu
 lar\nGame Status: Complete\nHome Team: RDC Patriot Club 7th (Whitford)\nAw
 ay Team: ABA Supreme 6th/7th (Rodriguez)\nHome Score: 67\nAway Score: 42
END:VEVENT
BEGIN:VEVENT
UID:16674186@ezleagues.ezfacility.com
DTSTAMP:20260424T043208Z
CREATED:20260424T043208Z
DTSTART:20251017T223000Z
DTEND:20251017T233000Z
LOCATION:SAC Main Court
CONTACT:
SUMMARY:KCBA 6th (Johnson) VS. RDC Patriot Club 7th (Whitford)
DESCRIPTION:League Name: Fall Session - 6th/7th Grade Boys\nGame Type: Regu
 lar\nGame Status: Complete\nHome Team: KCBA 6th (Johnson)\nAway Team: RDC 
 Patriot Club 7th (Whitford)\nHome Score: 18\nAway Score: 51
END:VEVENT
BEGIN:VEVENT
UID:16674189@ezleagues.ezfacility.com
DTSTAMP:20260424T043208Z
CREATED:20260424T043208Z
DTSTART:20251024T003000Z
DTEND:20251024T013000Z
LOCATION:SAC Main Court
CONTACT:
SUMMARY:RDC Patriot Club 7th (Whitford) VS. ABA Supreme 6th/7th (Rodriguez)
DESCRIPTION:League Name: Fall Session - 6th/7th Grade Boys\nGame Type: Regu
 lar\nGame Status: Complete\nHome Team: RDC Patriot Club 7th (Whitford)\nAw
 ay Team: ABA Supreme 6th/7th (Rodriguez)\nHome Score: 0\nAway Score: 2
END:VEVENT
BEGIN:VEVENT
UID:16674203@ezleagues.ezfacility.com
DTSTAMP:20260424T043208Z
CREATED:20260424T043208Z
DTSTART:20251030T233000Z
DTEND:20251031T003000Z
LOCATION:SAC Main Court
CONTACT:
SUMMARY:RDC Patriot Club 7th (Whitford) VS. Bullets (Gillispie)
DESCRIPTION:League Name: Fall Session - 6th/7th Grade Boys\nGame Type: Regu
 lar\nGame Status: Complete\nHome Team: RDC Patriot Club 7th (Whitford)\nAw
 ay Team: Bullets (Gillispie)\nHome Score: 44\nAway Score: 27
END:VEVENT
END:VCALENDAR
