BEGIN:VCALENDAR
VERSION:2.0
PRODID:-//EZFacility.com, Inc.//EZL 2.5.5.28621
BEGIN:VEVENT
UID:16770526@ezleagues.ezfacility.com
DTSTAMP:20260423T234031Z
CREATED:20260423T234031Z
DTSTART:20250909T090000Z
DTEND:20250909T093600Z
LOCATION: 1 Pitch 1-"Camp Nou" Heffron
CONTACT:
SUMMARY:Sloppy Garden  VS. Bye
DESCRIPTION:League Name: Mar Men Over 35/45 Div 2 (Tue)\nGame Type: Regular
 \nGame Status: Pending\nHome Team: Sloppy Garden \nAway Team: Bye\n
END:VEVENT
BEGIN:VEVENT
UID:16770533@ezleagues.ezfacility.com
DTSTAMP:20260423T234031Z
CREATED:20260423T234031Z
DTSTART:20250916T090000Z
DTEND:20250916T093600Z
LOCATION: 1 Pitch 1-"Camp Nou" Heffron
CONTACT:
SUMMARY:Bye VS. zious
DESCRIPTION:League Name: Mar Men Over 35/45 Div 2 (Tue)\nGame Type: Regular
 \nGame Status: Pending\nHome Team: Bye\nAway Team: zious\n
END:VEVENT
BEGIN:VEVENT
UID:16770540@ezleagues.ezfacility.com
DTSTAMP:20260423T234031Z
CREATED:20260423T234031Z
DTSTART:20250923T094000Z
DTEND:20250923T101600Z
LOCATION:2 Pitch 2-"White Hart L "Heffr
CONTACT:
SUMMARY:Bye VS. Olympique Gaulois 
DESCRIPTION:League Name: Mar Men Over 35/45 Div 2 (Tue)\nGame Type: Regular
 \nGame Status: Pending\nHome Team: Bye\nAway Team: Olympique Gaulois \n
END:VEVENT
BEGIN:VEVENT
UID:16770547@ezleagues.ezfacility.com
DTSTAMP:20260423T234031Z
CREATED:20260423T234031Z
DTSTART:20250930T094000Z
DTEND:20250930T101600Z
LOCATION: 1 Pitch 1-"Camp Nou" Heffron
CONTACT:
SUMMARY:Prestige Worldwide VS. Bye
DESCRIPTION:League Name: Mar Men Over 35/45 Div 2 (Tue)\nGame Type: Regular
 \nGame Status: Pending\nHome Team: Prestige Worldwide\nAway Team: Bye\n
END:VEVENT
BEGIN:VEVENT
UID:16770554@ezleagues.ezfacility.com
DTSTAMP:20260423T234031Z
CREATED:20260423T234031Z
DTSTART:20251007T080000Z
DTEND:20251007T083600Z
LOCATION:2 Pitch 2-"White Hart L "Heffr
CONTACT:
SUMMARY:Eagles United VS. Bye
DESCRIPTION:League Name: Mar Men Over 35/45 Div 2 (Tue)\nGame Type: Regular
 \nGame Status: Pending\nHome Team: Eagles United\nAway Team: Bye\n
END:VEVENT
BEGIN:VEVENT
UID:16770561@ezleagues.ezfacility.com
DTSTAMP:20260423T234031Z
CREATED:20260423T234031Z
DTSTART:20251014T084000Z
DTEND:20251014T091600Z
LOCATION: 1 Pitch 1-"Camp Nou" Heffron
CONTACT:
SUMMARY:Bye VS. Jackies Army
DESCRIPTION:League Name: Mar Men Over 35/45 Div 2 (Tue)\nGame Type: Regular
 \nGame Status: Pending\nHome Team: Bye\nAway Team: Jackies Army\n
END:VEVENT
BEGIN:VEVENT
UID:16770568@ezleagues.ezfacility.com
DTSTAMP:20260423T234031Z
CREATED:20260423T234031Z
DTSTART:20251021T080000Z
DTEND:20251021T083600Z
LOCATION:2 Pitch 2-"White Hart L "Heffr
CONTACT:
SUMMARY:Bye VS. Swamp Donkeys
DESCRIPTION:League Name: Mar Men Over 35/45 Div 2 (Tue)\nGame Type: Regular
 \nGame Status: Pending\nHome Team: Bye\nAway Team: Swamp Donkeys\n
END:VEVENT
BEGIN:VEVENT
UID:16770575@ezleagues.ezfacility.com
DTSTAMP:20260423T234031Z
CREATED:20260423T234031Z
DTSTART:20251028T080000Z
DTEND:20251028T083600Z
LOCATION:2 Pitch 2-"White Hart L "Heffr
CONTACT:
SUMMARY:Bye VS. Sloppy Garden 
DESCRIPTION:League Name: Mar Men Over 35/45 Div 2 (Tue)\nGame Type: Regular
 \nGame Status: Pending\nHome Team: Bye\nAway Team: Sloppy Garden \n
END:VEVENT
BEGIN:VEVENT
UID:16770582@ezleagues.ezfacility.com
DTSTAMP:20260423T234031Z
CREATED:20260423T234031Z
DTSTART:20251104T080000Z
DTEND:20251104T083600Z
LOCATION: 1 Pitch 1-"Camp Nou" Heffron
CONTACT:
SUMMARY:zious VS. Bye
DESCRIPTION:League Name: Mar Men Over 35/45 Div 2 (Tue)\nGame Type: Regular
 \nGame Status: Pending\nHome Team: zious\nAway Team: Bye\n
END:VEVENT
BEGIN:VEVENT
UID:16770589@ezleagues.ezfacility.com
DTSTAMP:20260423T234031Z
CREATED:20260423T234031Z
DTSTART:20251111T080000Z
DTEND:20251111T083600Z
LOCATION:2 Pitch 2-"White Hart L "Heffr
CONTACT:
SUMMARY:Olympique Gaulois  VS. Bye
DESCRIPTION:League Name: Mar Men Over 35/45 Div 2 (Tue)\nGame Type: Regular
 \nGame Status: Pending\nHome Team: Olympique Gaulois \nAway Team: Bye\n
END:VEVENT
END:VCALENDAR
