BEGIN:VCALENDAR
VERSION:2.0
PRODID:-//EZFacility.com, Inc.//EZL 2.5.5.28621
BEGIN:VEVENT
UID:16661263@ezleagues.ezfacility.com
DTSTAMP:20260424T044121Z
CREATED:20260424T044121Z
DTSTART:20250904T010000Z
DTEND:20250904T020000Z
LOCATION:Field 2 BLD
CONTACT:
SUMMARY:Kernersville VS. OUT Boca Jrs
DESCRIPTION:League Name: MIERCOLES VARONIL 08/27\nGame Type: Regular\nGame 
 Status: Complete\nHome Team: Kernersville\nAway Team: OUT Boca Jrs\nHome S
 core: 15\nAway Score: 8
END:VEVENT
BEGIN:VEVENT
UID:16677734@ezleagues.ezfacility.com
DTSTAMP:20260424T044121Z
CREATED:20260424T044121Z
DTSTART:20250911T010000Z
DTEND:20250911T020000Z
LOCATION:Field 3 BLD
CONTACT:
SUMMARY:Mexico FC VS. OUT Boca Jrs
DESCRIPTION:League Name: MIERCOLES VARONIL 08/27\nGame Type: Regular\nGame 
 Status: Complete\nHome Team: Mexico FC\nAway Team: OUT Boca Jrs\nHome Scor
 e: 9\nAway Score: 28
END:VEVENT
BEGIN:VEVENT
UID:16726095@ezleagues.ezfacility.com
DTSTAMP:20260424T044121Z
CREATED:20260424T044121Z
DTSTART:20250918T000000Z
DTEND:20250918T010000Z
LOCATION:Field 2 BLD
CONTACT:
SUMMARY:OUT Limeño FC VS. OUT Boca Jrs
DESCRIPTION:League Name: MIERCOLES VARONIL 08/27\nGame Type: Regular\nGame 
 Status: Complete\nHome Team: OUT Limeño FC\nAway Team: OUT Boca Jrs\nHome
  Score: 10\nAway Score: 9
END:VEVENT
BEGIN:VEVENT
UID:16742996@ezleagues.ezfacility.com
DTSTAMP:20260424T044121Z
CREATED:20260424T044121Z
DTSTART:20250925T000000Z
DTEND:20250925T010000Z
LOCATION:Field 2 BLD
CONTACT:
SUMMARY:OUT Boca Jrs VS. Corona FC
DESCRIPTION:League Name: MIERCOLES VARONIL 08/27\nGame Type: Regular\nGame 
 Status: Complete\nHome Team: OUT Boca Jrs\nAway Team: Corona FC\nHome Scor
 e: 8\nAway Score: 14
END:VEVENT
BEGIN:VEVENT
UID:16748184@ezleagues.ezfacility.com
DTSTAMP:20260424T044121Z
CREATED:20260424T044121Z
DTSTART:20251002T010000Z
DTEND:20251002T020000Z
LOCATION:Field 2 BLD
CONTACT:
SUMMARY:OUT Boca Jrs VS. Alianza
DESCRIPTION:League Name: MIERCOLES VARONIL 08/27\nGame Type: Regular\nGame 
 Status: Complete\nHome Team: OUT Boca Jrs\nAway Team: Alianza\nHome Score:
  28\nAway Score: 2
END:VEVENT
BEGIN:VEVENT
UID:16775446@ezleagues.ezfacility.com
DTSTAMP:20260424T044121Z
CREATED:20260424T044121Z
DTSTART:20251009T010000Z
DTEND:20251009T020000Z
LOCATION:Field 5 BLD
CONTACT:
SUMMARY:OUT Boca Jrs VS. Dptvo Mari FC
DESCRIPTION:League Name: MIERCOLES VARONIL 08/27\nGame Type: Regular\nGame 
 Status: Complete\nHome Team: OUT Boca Jrs\nAway Team: Dptvo Mari FC\nHome 
 Score: 10\nAway Score: 12
END:VEVENT
BEGIN:VEVENT
UID:16804092@ezleagues.ezfacility.com
DTSTAMP:20260424T044121Z
CREATED:20260424T044121Z
DTSTART:20251016T010000Z
DTEND:20251016T020000Z
LOCATION:Field 5 BLD
CONTACT:
SUMMARY:OUT Boca Jrs VS. Vatos FC
DESCRIPTION:League Name: MIERCOLES VARONIL 08/27\nGame Type: Regular\nGame 
 Status: Complete\nHome Team: OUT Boca Jrs\nAway Team: Vatos FC\nHome Score
 : 1\nAway Score: 11
END:VEVENT
END:VCALENDAR
