BEGIN:VCALENDAR
VERSION:2.0
PRODID:-//EZFacility.com, Inc.//EZL 2.5.5.28621
BEGIN:VEVENT
UID:16670927@ezleagues.ezfacility.com
DTSTAMP:20260424T044129Z
CREATED:20260424T044129Z
DTSTART:20250921T151000Z
DTEND:20250921T161000Z
LOCATION:Premier Sports Court 1
CONTACT:
SUMMARY:All The Smoke VS. Spartans Select Julian
DESCRIPTION:League Name: 2025 Premier Boys JV Fall League\nGame Type: Regul
 ar\nGame Status: Complete\nHome Team: All The Smoke\nAway Team: Spartans S
 elect Julian\nHome Score: 57\nAway Score: 46
END:VEVENT
BEGIN:VEVENT
UID:16679419@ezleagues.ezfacility.com
DTSTAMP:20260424T044129Z
CREATED:20260424T044129Z
DTSTART:20250927T172000Z
DTEND:20250927T182000Z
LOCATION:Premier Sports Court 1
CONTACT:
SUMMARY:All The Smoke VS. Long Island Elite
DESCRIPTION:League Name: 2025 Premier Boys JV Fall League\nGame Type: Regul
 ar\nGame Status: Complete\nHome Team: All The Smoke\nAway Team: Long Islan
 d Elite\nHome Score: 37\nAway Score: 56
END:VEVENT
BEGIN:VEVENT
UID:16679418@ezleagues.ezfacility.com
DTSTAMP:20260424T044129Z
CREATED:20260424T044129Z
DTSTART:20250927T182500Z
DTEND:20250927T192500Z
LOCATION:Premier Sports Court 1
CONTACT:
SUMMARY:All The Smoke VS. Team Breakdown
DESCRIPTION:League Name: 2025 Premier Boys JV Fall League\nGame Type: Regul
 ar\nGame Status: Complete\nHome Team: All The Smoke\nAway Team: Team Break
 down\nHome Score: 27\nAway Score: 62
END:VEVENT
BEGIN:VEVENT
UID:16690230@ezleagues.ezfacility.com
DTSTAMP:20260424T044129Z
CREATED:20260424T044129Z
DTSTART:20251005T193000Z
DTEND:20251005T203000Z
LOCATION:Premier Sports Court 2
CONTACT:
SUMMARY:Castle Elite VS. All The Smoke
DESCRIPTION:League Name: 2025 Premier Boys JV Fall League\nGame Type: Regul
 ar\nGame Status: Complete\nHome Team: Castle Elite\nAway Team: All The Smo
 ke\nHome Score: 20\nAway Score: 54
END:VEVENT
BEGIN:VEVENT
UID:16745408@ezleagues.ezfacility.com
DTSTAMP:20260424T044129Z
CREATED:20260424T044129Z
DTSTART:20251026T172000Z
DTEND:20251026T182000Z
LOCATION:Premier Sports Court 3
CONTACT:
SUMMARY:All The Smoke VS. Cheat Code Black
DESCRIPTION:League Name: 2025 Premier Boys JV Fall League\nGame Type: Regul
 ar\nGame Status: Complete\nHome Team: All The Smoke\nAway Team: Cheat Code
  Black\nHome Score: 78\nAway Score: 50
END:VEVENT
BEGIN:VEVENT
UID:16745407@ezleagues.ezfacility.com
DTSTAMP:20260424T044129Z
CREATED:20260424T044129Z
DTSTART:20251026T182500Z
DTEND:20251026T192500Z
LOCATION:Premier Sports Court 1
CONTACT:
SUMMARY:All The Smoke VS. Cheat Code Orange
DESCRIPTION:League Name: 2025 Premier Boys JV Fall League\nGame Type: Regul
 ar\nGame Status: Complete\nHome Team: All The Smoke\nAway Team: Cheat Code
  Orange\nHome Score: 31\nAway Score: 60
END:VEVENT
BEGIN:VEVENT
UID:16769021@ezleagues.ezfacility.com
DTSTAMP:20260424T044129Z
CREATED:20260424T044129Z
DTSTART:20251102T171500Z
DTEND:20251102T181500Z
LOCATION:Premier Sports Court 3
CONTACT:
SUMMARY:Premier Samolis VS. All The Smoke
DESCRIPTION:League Name: 2025 Premier Boys JV Fall League\nGame Type: Regul
 ar\nGame Status: Complete\nHome Team: Premier Samolis\nAway Team: All The 
 Smoke\nHome Score: 78\nAway Score: 30
END:VEVENT
BEGIN:VEVENT
UID:16769022@ezleagues.ezfacility.com
DTSTAMP:20260424T044129Z
CREATED:20260424T044129Z
DTSTART:20251102T182000Z
DTEND:20251102T192000Z
LOCATION:Premier Sports Court 3
CONTACT:
SUMMARY:DST VS. All The Smoke
DESCRIPTION:League Name: 2025 Premier Boys JV Fall League\nGame Type: Regul
 ar\nGame Status: Complete\nHome Team: DST\nAway Team: All The Smoke\nHome 
 Score: 63\nAway Score: 30
END:VEVENT
END:VCALENDAR
