BEGIN:VCALENDAR
VERSION:2.0
PRODID:-//EZFacility.com, Inc.//EZL 2.5.5.28621
BEGIN:VEVENT
UID:16670784@ezleagues.ezfacility.com
DTSTAMP:20260425T004610Z
CREATED:20260425T004610Z
DTSTART:20250921T010000Z
DTEND:20250921T014000Z
LOCATION:Court 1
CONTACT:
SUMMARY:Mayhem VS. Freddies Force
DESCRIPTION:League Name: JRL Sunday Grading Summer 2025-26\nGame Type: Prac
 tice\nGame Status: Pending\nHome Team: Mayhem\nAway Team: Freddies Force\n
END:VEVENT
BEGIN:VEVENT
UID:16725976@ezleagues.ezfacility.com
DTSTAMP:20260425T004610Z
CREATED:20260425T004610Z
DTSTART:20250928T004000Z
DTEND:20250928T012000Z
LOCATION:Court 2
CONTACT:
SUMMARY:Palmeiras VS. Freddies Force
DESCRIPTION:League Name: JRL Sunday Grading Summer 2025-26\nGame Type: Prac
 tice\nGame Status: Complete\nHome Team: Palmeiras\nAway Team: Freddies For
 ce\nHome Score: 9\nAway Score: 0
END:VEVENT
BEGIN:VEVENT
UID:16753069@ezleagues.ezfacility.com
DTSTAMP:20260425T004610Z
CREATED:20260425T004610Z
DTSTART:20251012T020000Z
DTEND:20251012T024000Z
LOCATION:Court 1
CONTACT:
SUMMARY:Cockburn Wolves VS. Freddies Force
DESCRIPTION:League Name: JRL Sunday Grading Summer 2025-26\nGame Type: Prac
 tice\nGame Status: Pending\nHome Team: Cockburn Wolves\nAway Team: Freddie
 s Force\n
END:VEVENT
END:VCALENDAR
