BEGIN:VCALENDAR
VERSION:2.0
PRODID:-//EZFacility.com, Inc.//EZL 2.5.5.28621
BEGIN:VEVENT
UID:16670785@ezleagues.ezfacility.com
DTSTAMP:20260421T203200Z
CREATED:20260421T203200Z
DTSTART:20250921T014000Z
DTEND:20250921T022000Z
LOCATION:Court 1
CONTACT:
SUMMARY:Cockburn Wolves VS. Strikers
DESCRIPTION:League Name: JRL Sunday Grading Summer 2025-26\nGame Type: Prac
 tice\nGame Status: Pending\nHome Team: Cockburn Wolves\nAway Team: Striker
 s\n
END:VEVENT
BEGIN:VEVENT
UID:16726024@ezleagues.ezfacility.com
DTSTAMP:20260421T203200Z
CREATED:20260421T203200Z
DTSTART:20250928T012000Z
DTEND:20250928T020000Z
LOCATION:Court 2
CONTACT:
SUMMARY:Cockburn Wolves VS. Mayhem
DESCRIPTION:League Name: JRL Sunday Grading Summer 2025-26\nGame Type: Prac
 tice\nGame Status: Complete\nHome Team: Cockburn Wolves\nAway Team: Mayhem
 \nHome Score: 1\nAway Score: 2
END:VEVENT
BEGIN:VEVENT
UID:16753069@ezleagues.ezfacility.com
DTSTAMP:20260421T203200Z
CREATED:20260421T203200Z
DTSTART:20251012T020000Z
DTEND:20251012T024000Z
LOCATION:Court 1
CONTACT:
SUMMARY:Cockburn Wolves VS. Freddies Force
DESCRIPTION:League Name: JRL Sunday Grading Summer 2025-26\nGame Type: Prac
 tice\nGame Status: Pending\nHome Team: Cockburn Wolves\nAway Team: Freddie
 s Force\n
END:VEVENT
END:VCALENDAR
