BEGIN:VCALENDAR
VERSION:2.0
PRODID:-//EZFacility.com, Inc.//EZL 2.5.5.28621
BEGIN:VEVENT
UID:16671243@ezleagues.ezfacility.com
DTSTAMP:20260426T033707Z
CREATED:20260426T033707Z
DTSTART:20250917T000000Z
DTEND:20250917T010000Z
LOCATION:Terwilliger B
CONTACT:
SUMMARY:Team 04 VS. Team 07
DESCRIPTION:League Name: Fall Boys D1 League \nGame Type: Regular\nGame Sta
 tus: Pending\nHome Team: Team 04\nAway Team: Team 07\n
END:VEVENT
BEGIN:VEVENT
UID:16671257@ezleagues.ezfacility.com
DTSTAMP:20260426T033707Z
CREATED:20260426T033707Z
DTSTART:20250918T220000Z
DTEND:20250918T230000Z
LOCATION:Terwilliger B
CONTACT:
SUMMARY:Team 11 VS. Team 04
DESCRIPTION:League Name: Fall Boys D1 League \nGame Type: Regular\nGame Sta
 tus: Pending\nHome Team: Team 11\nAway Team: Team 04\n
END:VEVENT
BEGIN:VEVENT
UID:16671271@ezleagues.ezfacility.com
DTSTAMP:20260426T033707Z
CREATED:20260426T033707Z
DTSTART:20250930T230000Z
DTEND:20251001T000000Z
LOCATION:Terwilliger D
CONTACT:
SUMMARY:Team 04 VS. Team 15
DESCRIPTION:League Name: Fall Boys D1 League \nGame Type: Regular\nGame Sta
 tus: Pending\nHome Team: Team 04\nAway Team: Team 15\n
END:VEVENT
BEGIN:VEVENT
UID:16671285@ezleagues.ezfacility.com
DTSTAMP:20260426T033707Z
CREATED:20260426T033707Z
DTSTART:20251002T220000Z
DTEND:20251002T230000Z
LOCATION:Terwilliger B
CONTACT:
SUMMARY:Team 19 VS. Team 04
DESCRIPTION:League Name: Fall Boys D1 League \nGame Type: Regular\nGame Sta
 tus: Pending\nHome Team: Team 19\nAway Team: Team 04\n
END:VEVENT
BEGIN:VEVENT
UID:16671299@ezleagues.ezfacility.com
DTSTAMP:20260426T033707Z
CREATED:20260426T033707Z
DTSTART:20251015T000000Z
DTEND:20251015T010000Z
LOCATION:Terwilliger C
CONTACT:
SUMMARY:Team 04 VS. Team 23
DESCRIPTION:League Name: Fall Boys D1 League \nGame Type: Regular\nGame Sta
 tus: Pending\nHome Team: Team 04\nAway Team: Team 23\n
END:VEVENT
BEGIN:VEVENT
UID:16671327@ezleagues.ezfacility.com
DTSTAMP:20260426T033707Z
CREATED:20260426T033707Z
DTSTART:20251029T000000Z
DTEND:20251029T010000Z
LOCATION:Terwilliger C
CONTACT:
SUMMARY:Team 04 VS. Team 22
DESCRIPTION:League Name: Fall Boys D1 League \nGame Type: Regular\nGame Sta
 tus: Pending\nHome Team: Team 04\nAway Team: Team 22\n
END:VEVENT
BEGIN:VEVENT
UID:16671341@ezleagues.ezfacility.com
DTSTAMP:20260426T033707Z
CREATED:20260426T033707Z
DTSTART:20251105T010000Z
DTEND:20251105T020000Z
LOCATION:Terwilliger C
CONTACT:
SUMMARY:Team 18 VS. Team 04
DESCRIPTION:League Name: Fall Boys D1 League \nGame Type: Regular\nGame Sta
 tus: Pending\nHome Team: Team 18\nAway Team: Team 04\n
END:VEVENT
BEGIN:VEVENT
UID:16671355@ezleagues.ezfacility.com
DTSTAMP:20260426T033707Z
CREATED:20260426T033707Z
DTSTART:20251112T000000Z
DTEND:20251112T010000Z
LOCATION:Terwilliger D
CONTACT:
SUMMARY:Team 04 VS. Team 14
DESCRIPTION:League Name: Fall Boys D1 League \nGame Type: Regular\nGame Sta
 tus: Pending\nHome Team: Team 04\nAway Team: Team 14\n
END:VEVENT
BEGIN:VEVENT
UID:16671369@ezleagues.ezfacility.com
DTSTAMP:20260426T033707Z
CREATED:20260426T033707Z
DTSTART:20251118T230000Z
DTEND:20251119T000000Z
LOCATION:Terwilliger D
CONTACT:
SUMMARY:Team 10 VS. Team 04
DESCRIPTION:League Name: Fall Boys D1 League \nGame Type: Regular\nGame Sta
 tus: Pending\nHome Team: Team 10\nAway Team: Team 04\n
END:VEVENT
BEGIN:VEVENT
UID:16671383@ezleagues.ezfacility.com
DTSTAMP:20260426T033707Z
CREATED:20260426T033707Z
DTSTART:20251125T230000Z
DTEND:20251126T000000Z
LOCATION:Terwilliger D
CONTACT:
SUMMARY:Team 04 VS. Team 06
DESCRIPTION:League Name: Fall Boys D1 League \nGame Type: Regular\nGame Sta
 tus: Pending\nHome Team: Team 04\nAway Team: Team 06\n
END:VEVENT
BEGIN:VEVENT
UID:16671396@ezleagues.ezfacility.com
DTSTAMP:20260426T033707Z
CREATED:20260426T033707Z
DTSTART:20251202T230000Z
DTEND:20251203T000000Z
LOCATION:Terwilliger D
CONTACT:
SUMMARY:Team 04 VS. Team 02
DESCRIPTION:League Name: Fall Boys D1 League \nGame Type: Regular\nGame Sta
 tus: Pending\nHome Team: Team 04\nAway Team: Team 02\n
END:VEVENT
BEGIN:VEVENT
UID:16671408@ezleagues.ezfacility.com
DTSTAMP:20260426T033707Z
CREATED:20260426T033707Z
DTSTART:20251209T230000Z
DTEND:20251210T000000Z
LOCATION:Terwilliger B
CONTACT:
SUMMARY:Team 05 VS. Team 04
DESCRIPTION:League Name: Fall Boys D1 League \nGame Type: Regular\nGame Sta
 tus: Pending\nHome Team: Team 05\nAway Team: Team 04\n
END:VEVENT
BEGIN:VEVENT
UID:16671420@ezleagues.ezfacility.com
DTSTAMP:20260426T033707Z
CREATED:20260426T033707Z
DTSTART:20251216T230000Z
DTEND:20251217T000000Z
LOCATION:Terwilliger C
CONTACT:
SUMMARY:Team 09 VS. Team 04
DESCRIPTION:League Name: Fall Boys D1 League \nGame Type: Regular\nGame Sta
 tus: Pending\nHome Team: Team 09\nAway Team: Team 04\n
END:VEVENT
BEGIN:VEVENT
UID:16671432@ezleagues.ezfacility.com
DTSTAMP:20260426T033707Z
CREATED:20260426T033707Z
DTSTART:20251224T010000Z
DTEND:20251224T020000Z
LOCATION:Terwilliger B
CONTACT:
SUMMARY:Team 13 VS. Team 04
DESCRIPTION:League Name: Fall Boys D1 League \nGame Type: Regular\nGame Sta
 tus: Pending\nHome Team: Team 13\nAway Team: Team 04\n
END:VEVENT
BEGIN:VEVENT
UID:16671444@ezleagues.ezfacility.com
DTSTAMP:20260426T033707Z
CREATED:20260426T033707Z
DTSTART:20251231T000000Z
DTEND:20251231T010000Z
LOCATION:Terwilliger D
CONTACT:
SUMMARY:Team 04 VS. Team 17
DESCRIPTION:League Name: Fall Boys D1 League \nGame Type: Regular\nGame Sta
 tus: Pending\nHome Team: Team 04\nAway Team: Team 17\n
END:VEVENT
BEGIN:VEVENT
UID:16671456@ezleagues.ezfacility.com
DTSTAMP:20260426T033707Z
CREATED:20260426T033707Z
DTSTART:20260107T010000Z
DTEND:20260107T020000Z
LOCATION:Terwilliger B
CONTACT:
SUMMARY:Team 21 VS. Team 04
DESCRIPTION:League Name: Fall Boys D1 League \nGame Type: Regular\nGame Sta
 tus: Pending\nHome Team: Team 21\nAway Team: Team 04\n
END:VEVENT
BEGIN:VEVENT
UID:16671468@ezleagues.ezfacility.com
DTSTAMP:20260426T033707Z
CREATED:20260426T033707Z
DTSTART:20260114T000000Z
DTEND:20260114T010000Z
LOCATION:Terwilliger C
CONTACT:
SUMMARY:Team 04 VS. Team 25
DESCRIPTION:League Name: Fall Boys D1 League \nGame Type: Regular\nGame Sta
 tus: Pending\nHome Team: Team 04\nAway Team: Team 25\n
END:VEVENT
BEGIN:VEVENT
UID:16671480@ezleagues.ezfacility.com
DTSTAMP:20260426T033707Z
CREATED:20260426T033707Z
DTSTART:20260121T000000Z
DTEND:20260121T010000Z
LOCATION:Terwilliger C
CONTACT:
SUMMARY:Team 24 VS. Team 04
DESCRIPTION:League Name: Fall Boys D1 League \nGame Type: Regular\nGame Sta
 tus: Pending\nHome Team: Team 24\nAway Team: Team 04\n
END:VEVENT
BEGIN:VEVENT
UID:16671492@ezleagues.ezfacility.com
DTSTAMP:20260426T033707Z
CREATED:20260426T033707Z
DTSTART:20260128T000000Z
DTEND:20260128T010000Z
LOCATION:Terwilliger C
CONTACT:
SUMMARY:Team 04 VS. Team 20
DESCRIPTION:League Name: Fall Boys D1 League \nGame Type: Regular\nGame Sta
 tus: Pending\nHome Team: Team 04\nAway Team: Team 20\n
END:VEVENT
BEGIN:VEVENT
UID:16671504@ezleagues.ezfacility.com
DTSTAMP:20260426T033707Z
CREATED:20260426T033707Z
DTSTART:20260204T000000Z
DTEND:20260204T010000Z
LOCATION:Terwilliger D
CONTACT:
SUMMARY:Team 16 VS. Team 04
DESCRIPTION:League Name: Fall Boys D1 League \nGame Type: Regular\nGame Sta
 tus: Pending\nHome Team: Team 16\nAway Team: Team 04\n
END:VEVENT
BEGIN:VEVENT
UID:16671516@ezleagues.ezfacility.com
DTSTAMP:20260426T033707Z
CREATED:20260426T033707Z
DTSTART:20260205T230000Z
DTEND:20260206T000000Z
LOCATION:Terwilliger D
CONTACT:
SUMMARY:Team 04 VS. Team 12
DESCRIPTION:League Name: Fall Boys D1 League \nGame Type: Regular\nGame Sta
 tus: Pending\nHome Team: Team 04\nAway Team: Team 12\n
END:VEVENT
BEGIN:VEVENT
UID:16671528@ezleagues.ezfacility.com
DTSTAMP:20260426T033707Z
CREATED:20260426T033707Z
DTSTART:20260212T230000Z
DTEND:20260213T000000Z
LOCATION:Terwilliger B
CONTACT:
SUMMARY:Team 08 VS. Team 04
DESCRIPTION:League Name: Fall Boys D1 League \nGame Type: Regular\nGame Sta
 tus: Pending\nHome Team: Team 08\nAway Team: Team 04\n
END:VEVENT
BEGIN:VEVENT
UID:16671540@ezleagues.ezfacility.com
DTSTAMP:20260426T033707Z
CREATED:20260426T033707Z
DTSTART:20260219T230000Z
DTEND:20260220T000000Z
LOCATION:Terwilliger B
CONTACT:
SUMMARY:Team 01 VS. Team 04
DESCRIPTION:League Name: Fall Boys D1 League \nGame Type: Regular\nGame Sta
 tus: Pending\nHome Team: Team 01\nAway Team: Team 04\n
END:VEVENT
BEGIN:VEVENT
UID:16671554@ezleagues.ezfacility.com
DTSTAMP:20260426T033707Z
CREATED:20260426T033707Z
DTSTART:20260226T230000Z
DTEND:20260227T000000Z
LOCATION:Terwilliger C
CONTACT:
SUMMARY:Team 04 VS. Team 03
DESCRIPTION:League Name: Fall Boys D1 League \nGame Type: Regular\nGame Sta
 tus: Pending\nHome Team: Team 04\nAway Team: Team 03\n
END:VEVENT
END:VCALENDAR
