BEGIN:VCALENDAR
VERSION:2.0
PRODID:-//EZFacility.com, Inc.//EZL 2.5.5.28621
BEGIN:VEVENT
UID:16671246@ezleagues.ezfacility.com
DTSTAMP:20260422T164122Z
CREATED:20260422T164122Z
DTSTART:20250917T000000Z
DTEND:20250917T010000Z
LOCATION:Terwilliger C
CONTACT:
SUMMARY:Team 13 VS. Team 10
DESCRIPTION:League Name: Fall Boys D1 League \nGame Type: Regular\nGame Sta
 tus: Pending\nHome Team: Team 13\nAway Team: Team 10\n
END:VEVENT
BEGIN:VEVENT
UID:16671258@ezleagues.ezfacility.com
DTSTAMP:20260422T164122Z
CREATED:20260422T164122Z
DTSTART:20250923T230000Z
DTEND:20250924T000000Z
LOCATION:Terwilliger B
CONTACT:
SUMMARY:Team 13 VS. Team 06
DESCRIPTION:League Name: Fall Boys D1 League \nGame Type: Regular\nGame Sta
 tus: Pending\nHome Team: Team 13\nAway Team: Team 06\n
END:VEVENT
BEGIN:VEVENT
UID:16671270@ezleagues.ezfacility.com
DTSTAMP:20260422T164122Z
CREATED:20260422T164122Z
DTSTART:20250925T220000Z
DTEND:20250925T230000Z
LOCATION:Terwilliger C
CONTACT:
SUMMARY:Team 02 VS. Team 13
DESCRIPTION:League Name: Fall Boys D1 League \nGame Type: Regular\nGame Sta
 tus: Pending\nHome Team: Team 02\nAway Team: Team 13\n
END:VEVENT
BEGIN:VEVENT
UID:16671282@ezleagues.ezfacility.com
DTSTAMP:20260422T164122Z
CREATED:20260422T164122Z
DTSTART:20251008T000000Z
DTEND:20251008T010000Z
LOCATION:Terwilliger D
CONTACT:
SUMMARY:Team 13 VS. Team 05
DESCRIPTION:League Name: Fall Boys D1 League \nGame Type: Regular\nGame Sta
 tus: Pending\nHome Team: Team 13\nAway Team: Team 05\n
END:VEVENT
BEGIN:VEVENT
UID:16671294@ezleagues.ezfacility.com
DTSTAMP:20260422T164122Z
CREATED:20260422T164122Z
DTSTART:20251009T220000Z
DTEND:20251009T230000Z
LOCATION:Terwilliger B
CONTACT:
SUMMARY:Team 09 VS. Team 13
DESCRIPTION:League Name: Fall Boys D1 League \nGame Type: Regular\nGame Sta
 tus: Pending\nHome Team: Team 09\nAway Team: Team 13\n
END:VEVENT
BEGIN:VEVENT
UID:16671306@ezleagues.ezfacility.com
DTSTAMP:20260422T164122Z
CREATED:20260422T164122Z
DTSTART:20251016T220000Z
DTEND:20251016T230000Z
LOCATION:Terwilliger D
CONTACT:
SUMMARY:Team 01 VS. Team 13
DESCRIPTION:League Name: Fall Boys D1 League \nGame Type: Regular\nGame Sta
 tus: Pending\nHome Team: Team 01\nAway Team: Team 13\n
END:VEVENT
BEGIN:VEVENT
UID:16671320@ezleagues.ezfacility.com
DTSTAMP:20260422T164122Z
CREATED:20260422T164122Z
DTSTART:20251028T230000Z
DTEND:20251029T000000Z
LOCATION:Terwilliger B
CONTACT:
SUMMARY:Team 13 VS. Team 17
DESCRIPTION:League Name: Fall Boys D1 League \nGame Type: Regular\nGame Sta
 tus: Pending\nHome Team: Team 13\nAway Team: Team 17\n
END:VEVENT
BEGIN:VEVENT
UID:16671334@ezleagues.ezfacility.com
DTSTAMP:20260422T164122Z
CREATED:20260422T164122Z
DTSTART:20251030T220000Z
DTEND:20251030T230000Z
LOCATION:Terwilliger D
CONTACT:
SUMMARY:Team 21 VS. Team 13
DESCRIPTION:League Name: Fall Boys D1 League \nGame Type: Regular\nGame Sta
 tus: Pending\nHome Team: Team 21\nAway Team: Team 13\n
END:VEVENT
BEGIN:VEVENT
UID:16671348@ezleagues.ezfacility.com
DTSTAMP:20260422T164122Z
CREATED:20260422T164122Z
DTSTART:20251112T000000Z
DTEND:20251112T010000Z
LOCATION:Terwilliger B
CONTACT:
SUMMARY:Team 13 VS. Team 25
DESCRIPTION:League Name: Fall Boys D1 League \nGame Type: Regular\nGame Sta
 tus: Pending\nHome Team: Team 13\nAway Team: Team 25\n
END:VEVENT
BEGIN:VEVENT
UID:16671362@ezleagues.ezfacility.com
DTSTAMP:20260422T164122Z
CREATED:20260422T164122Z
DTSTART:20251119T010000Z
DTEND:20251119T020000Z
LOCATION:Terwilliger C
CONTACT:
SUMMARY:Team 24 VS. Team 13
DESCRIPTION:League Name: Fall Boys D1 League \nGame Type: Regular\nGame Sta
 tus: Pending\nHome Team: Team 24\nAway Team: Team 13\n
END:VEVENT
BEGIN:VEVENT
UID:16671376@ezleagues.ezfacility.com
DTSTAMP:20260422T164122Z
CREATED:20260422T164122Z
DTSTART:20251120T230000Z
DTEND:20251121T000000Z
LOCATION:Terwilliger B
CONTACT:
SUMMARY:Team 13 VS. Team 20
DESCRIPTION:League Name: Fall Boys D1 League \nGame Type: Regular\nGame Sta
 tus: Pending\nHome Team: Team 13\nAway Team: Team 20\n
END:VEVENT
BEGIN:VEVENT
UID:16671390@ezleagues.ezfacility.com
DTSTAMP:20260422T164122Z
CREATED:20260422T164122Z
DTSTART:20251127T230000Z
DTEND:20251128T000000Z
LOCATION:Terwilliger D
CONTACT:
SUMMARY:Team 16 VS. Team 13
DESCRIPTION:League Name: Fall Boys D1 League \nGame Type: Regular\nGame Sta
 tus: Pending\nHome Team: Team 16\nAway Team: Team 13\n
END:VEVENT
BEGIN:VEVENT
UID:16671404@ezleagues.ezfacility.com
DTSTAMP:20260422T164122Z
CREATED:20260422T164122Z
DTSTART:20251210T010000Z
DTEND:20251210T020000Z
LOCATION:Terwilliger C
CONTACT:
SUMMARY:Team 13 VS. Team 12
DESCRIPTION:League Name: Fall Boys D1 League \nGame Type: Regular\nGame Sta
 tus: Pending\nHome Team: Team 13\nAway Team: Team 12\n
END:VEVENT
BEGIN:VEVENT
UID:16671418@ezleagues.ezfacility.com
DTSTAMP:20260422T164122Z
CREATED:20260422T164122Z
DTSTART:20251217T000000Z
DTEND:20251217T010000Z
LOCATION:Terwilliger C
CONTACT:
SUMMARY:Team 08 VS. Team 13
DESCRIPTION:League Name: Fall Boys D1 League \nGame Type: Regular\nGame Sta
 tus: Pending\nHome Team: Team 08\nAway Team: Team 13\n
END:VEVENT
BEGIN:VEVENT
UID:16671432@ezleagues.ezfacility.com
DTSTAMP:20260422T164122Z
CREATED:20260422T164122Z
DTSTART:20251224T010000Z
DTEND:20251224T020000Z
LOCATION:Terwilliger B
CONTACT:
SUMMARY:Team 13 VS. Team 04
DESCRIPTION:League Name: Fall Boys D1 League \nGame Type: Regular\nGame Sta
 tus: Pending\nHome Team: Team 13\nAway Team: Team 04\n
END:VEVENT
BEGIN:VEVENT
UID:16671446@ezleagues.ezfacility.com
DTSTAMP:20260422T164122Z
CREATED:20260422T164122Z
DTSTART:20251230T230000Z
DTEND:20251231T000000Z
LOCATION:Terwilliger C
CONTACT:
SUMMARY:Team 03 VS. Team 13
DESCRIPTION:League Name: Fall Boys D1 League \nGame Type: Regular\nGame Sta
 tus: Pending\nHome Team: Team 03\nAway Team: Team 13\n
END:VEVENT
BEGIN:VEVENT
UID:16671460@ezleagues.ezfacility.com
DTSTAMP:20260422T164122Z
CREATED:20260422T164122Z
DTSTART:20260106T230000Z
DTEND:20260107T000000Z
LOCATION:Terwilliger B
CONTACT:
SUMMARY:Team 13 VS. Team 07
DESCRIPTION:League Name: Fall Boys D1 League \nGame Type: Regular\nGame Sta
 tus: Pending\nHome Team: Team 13\nAway Team: Team 07\n
END:VEVENT
BEGIN:VEVENT
UID:16671474@ezleagues.ezfacility.com
DTSTAMP:20260422T164122Z
CREATED:20260422T164122Z
DTSTART:20260113T230000Z
DTEND:20260114T000000Z
LOCATION:Terwilliger C
CONTACT:
SUMMARY:Team 11 VS. Team 13
DESCRIPTION:League Name: Fall Boys D1 League \nGame Type: Regular\nGame Sta
 tus: Pending\nHome Team: Team 11\nAway Team: Team 13\n
END:VEVENT
BEGIN:VEVENT
UID:16671487@ezleagues.ezfacility.com
DTSTAMP:20260422T164122Z
CREATED:20260422T164122Z
DTSTART:20260120T230000Z
DTEND:20260121T000000Z
LOCATION:Terwilliger B
CONTACT:
SUMMARY:Team 13 VS. Team 15
DESCRIPTION:League Name: Fall Boys D1 League \nGame Type: Regular\nGame Sta
 tus: Pending\nHome Team: Team 13\nAway Team: Team 15\n
END:VEVENT
BEGIN:VEVENT
UID:16671499@ezleagues.ezfacility.com
DTSTAMP:20260422T164122Z
CREATED:20260422T164122Z
DTSTART:20260127T230000Z
DTEND:20260128T000000Z
LOCATION:Terwilliger D
CONTACT:
SUMMARY:Team 13 VS. Team 19
DESCRIPTION:League Name: Fall Boys D1 League \nGame Type: Regular\nGame Sta
 tus: Pending\nHome Team: Team 13\nAway Team: Team 19\n
END:VEVENT
BEGIN:VEVENT
UID:16671511@ezleagues.ezfacility.com
DTSTAMP:20260422T164122Z
CREATED:20260422T164122Z
DTSTART:20260203T230000Z
DTEND:20260204T000000Z
LOCATION:Terwilliger D
CONTACT:
SUMMARY:Team 23 VS. Team 13
DESCRIPTION:League Name: Fall Boys D1 League \nGame Type: Regular\nGame Sta
 tus: Pending\nHome Team: Team 23\nAway Team: Team 13\n
END:VEVENT
BEGIN:VEVENT
UID:16671535@ezleagues.ezfacility.com
DTSTAMP:20260422T164122Z
CREATED:20260422T164122Z
DTSTART:20260218T010000Z
DTEND:20260218T020000Z
LOCATION:Terwilliger C
CONTACT:
SUMMARY:Team 22 VS. Team 13
DESCRIPTION:League Name: Fall Boys D1 League \nGame Type: Regular\nGame Sta
 tus: Pending\nHome Team: Team 22\nAway Team: Team 13\n
END:VEVENT
BEGIN:VEVENT
UID:16671547@ezleagues.ezfacility.com
DTSTAMP:20260422T164122Z
CREATED:20260422T164122Z
DTSTART:20260225T000000Z
DTEND:20260225T010000Z
LOCATION:Terwilliger D
CONTACT:
SUMMARY:Team 13 VS. Team 18
DESCRIPTION:League Name: Fall Boys D1 League \nGame Type: Regular\nGame Sta
 tus: Pending\nHome Team: Team 13\nAway Team: Team 18\n
END:VEVENT
BEGIN:VEVENT
UID:16671559@ezleagues.ezfacility.com
DTSTAMP:20260422T164122Z
CREATED:20260422T164122Z
DTSTART:20260304T010000Z
DTEND:20260304T020000Z
LOCATION:Terwilliger D
CONTACT:
SUMMARY:Team 14 VS. Team 13
DESCRIPTION:League Name: Fall Boys D1 League \nGame Type: Regular\nGame Sta
 tus: Pending\nHome Team: Team 14\nAway Team: Team 13\n
END:VEVENT
END:VCALENDAR
