BEGIN:VCALENDAR
VERSION:2.0
PRODID:-//EZFacility.com, Inc.//EZL 2.5.5.28621
BEGIN:VEVENT
UID:16671248@ezleagues.ezfacility.com
DTSTAMP:20260422T121317Z
CREATED:20260422T121317Z
DTSTART:20250916T230000Z
DTEND:20250917T000000Z
LOCATION:Terwilliger D
CONTACT:
SUMMARY:Team 14 VS. Team 17
DESCRIPTION:League Name: Fall Boys D1 League \nGame Type: Regular\nGame Sta
 tus: Pending\nHome Team: Team 14\nAway Team: Team 17\n
END:VEVENT
BEGIN:VEVENT
UID:16671262@ezleagues.ezfacility.com
DTSTAMP:20260422T121317Z
CREATED:20260422T121317Z
DTSTART:20250924T000000Z
DTEND:20250924T010000Z
LOCATION:Terwilliger C
CONTACT:
SUMMARY:Team 21 VS. Team 14
DESCRIPTION:League Name: Fall Boys D1 League \nGame Type: Regular\nGame Sta
 tus: Pending\nHome Team: Team 21\nAway Team: Team 14\n
END:VEVENT
BEGIN:VEVENT
UID:16671276@ezleagues.ezfacility.com
DTSTAMP:20260422T121317Z
CREATED:20260422T121317Z
DTSTART:20251001T000000Z
DTEND:20251001T010000Z
LOCATION:Terwilliger D
CONTACT:
SUMMARY:Team 14 VS. Team 25
DESCRIPTION:League Name: Fall Boys D1 League \nGame Type: Regular\nGame Sta
 tus: Pending\nHome Team: Team 14\nAway Team: Team 25\n
END:VEVENT
BEGIN:VEVENT
UID:16671290@ezleagues.ezfacility.com
DTSTAMP:20260422T121317Z
CREATED:20260422T121317Z
DTSTART:20251007T220000Z
DTEND:20251007T230000Z
LOCATION:Terwilliger B
CONTACT:
SUMMARY:Team 24 VS. Team 14
DESCRIPTION:League Name: Fall Boys D1 League \nGame Type: Regular\nGame Sta
 tus: Pending\nHome Team: Team 24\nAway Team: Team 14\n
END:VEVENT
BEGIN:VEVENT
UID:16671304@ezleagues.ezfacility.com
DTSTAMP:20260422T121317Z
CREATED:20260422T121317Z
DTSTART:20251014T220000Z
DTEND:20251014T230000Z
LOCATION:Terwilliger C
CONTACT:
SUMMARY:Team 14 VS. Team 20
DESCRIPTION:League Name: Fall Boys D1 League \nGame Type: Regular\nGame Sta
 tus: Pending\nHome Team: Team 14\nAway Team: Team 20\n
END:VEVENT
BEGIN:VEVENT
UID:16671318@ezleagues.ezfacility.com
DTSTAMP:20260422T121317Z
CREATED:20260422T121317Z
DTSTART:20251021T220000Z
DTEND:20251021T230000Z
LOCATION:Terwilliger C
CONTACT:
SUMMARY:Team 16 VS. Team 14
DESCRIPTION:League Name: Fall Boys D1 League \nGame Type: Regular\nGame Sta
 tus: Pending\nHome Team: Team 16\nAway Team: Team 14\n
END:VEVENT
BEGIN:VEVENT
UID:16671331@ezleagues.ezfacility.com
DTSTAMP:20260422T121317Z
CREATED:20260422T121317Z
DTSTART:20251028T220000Z
DTEND:20251028T230000Z
LOCATION:Terwilliger C
CONTACT:
SUMMARY:Team 12 VS. Team 14
DESCRIPTION:League Name: Fall Boys D1 League \nGame Type: Regular\nGame Sta
 tus: Pending\nHome Team: Team 12\nAway Team: Team 14\n
END:VEVENT
BEGIN:VEVENT
UID:16671343@ezleagues.ezfacility.com
DTSTAMP:20260422T121317Z
CREATED:20260422T121317Z
DTSTART:20251104T230000Z
DTEND:20251105T000000Z
LOCATION:Terwilliger C
CONTACT:
SUMMARY:Team 14 VS. Team 08
DESCRIPTION:League Name: Fall Boys D1 League \nGame Type: Regular\nGame Sta
 tus: Pending\nHome Team: Team 14\nAway Team: Team 08\n
END:VEVENT
BEGIN:VEVENT
UID:16671355@ezleagues.ezfacility.com
DTSTAMP:20260422T121317Z
CREATED:20260422T121317Z
DTSTART:20251112T000000Z
DTEND:20251112T010000Z
LOCATION:Terwilliger D
CONTACT:
SUMMARY:Team 04 VS. Team 14
DESCRIPTION:League Name: Fall Boys D1 League \nGame Type: Regular\nGame Sta
 tus: Pending\nHome Team: Team 04\nAway Team: Team 14\n
END:VEVENT
BEGIN:VEVENT
UID:16671367@ezleagues.ezfacility.com
DTSTAMP:20260422T121317Z
CREATED:20260422T121317Z
DTSTART:20251119T000000Z
DTEND:20251119T010000Z
LOCATION:Terwilliger D
CONTACT:
SUMMARY:Team 14 VS. Team 03
DESCRIPTION:League Name: Fall Boys D1 League \nGame Type: Regular\nGame Sta
 tus: Pending\nHome Team: Team 14\nAway Team: Team 03\n
END:VEVENT
BEGIN:VEVENT
UID:16671379@ezleagues.ezfacility.com
DTSTAMP:20260422T121317Z
CREATED:20260422T121317Z
DTSTART:20251126T010000Z
DTEND:20251126T020000Z
LOCATION:Terwilliger C
CONTACT:
SUMMARY:Team 07 VS. Team 14
DESCRIPTION:League Name: Fall Boys D1 League \nGame Type: Regular\nGame Sta
 tus: Pending\nHome Team: Team 07\nAway Team: Team 14\n
END:VEVENT
BEGIN:VEVENT
UID:16671391@ezleagues.ezfacility.com
DTSTAMP:20260422T121317Z
CREATED:20260422T121317Z
DTSTART:20251203T010000Z
DTEND:20251203T020000Z
LOCATION:Terwilliger B
CONTACT:
SUMMARY:Team 14 VS. Team 11
DESCRIPTION:League Name: Fall Boys D1 League \nGame Type: Regular\nGame Sta
 tus: Pending\nHome Team: Team 14\nAway Team: Team 11\n
END:VEVENT
BEGIN:VEVENT
UID:16671403@ezleagues.ezfacility.com
DTSTAMP:20260422T121317Z
CREATED:20260422T121317Z
DTSTART:20251210T000000Z
DTEND:20251210T010000Z
LOCATION:Terwilliger B
CONTACT:
SUMMARY:Team 15 VS. Team 14
DESCRIPTION:League Name: Fall Boys D1 League \nGame Type: Regular\nGame Sta
 tus: Pending\nHome Team: Team 15\nAway Team: Team 14\n
END:VEVENT
BEGIN:VEVENT
UID:16671415@ezleagues.ezfacility.com
DTSTAMP:20260422T121317Z
CREATED:20260422T121317Z
DTSTART:20251217T000000Z
DTEND:20251217T010000Z
LOCATION:Terwilliger B
CONTACT:
SUMMARY:Team 14 VS. Team 19
DESCRIPTION:League Name: Fall Boys D1 League \nGame Type: Regular\nGame Sta
 tus: Pending\nHome Team: Team 14\nAway Team: Team 19\n
END:VEVENT
BEGIN:VEVENT
UID:16671427@ezleagues.ezfacility.com
DTSTAMP:20260422T121317Z
CREATED:20260422T121317Z
DTSTART:20251218T230000Z
DTEND:20251219T000000Z
LOCATION:Terwilliger C
CONTACT:
SUMMARY:Team 23 VS. Team 14
DESCRIPTION:League Name: Fall Boys D1 League \nGame Type: Regular\nGame Sta
 tus: Pending\nHome Team: Team 23\nAway Team: Team 14\n
END:VEVENT
BEGIN:VEVENT
UID:16671451@ezleagues.ezfacility.com
DTSTAMP:20260422T121317Z
CREATED:20260422T121317Z
DTSTART:20260101T230000Z
DTEND:20260102T000000Z
LOCATION:Terwilliger D
CONTACT:
SUMMARY:Team 22 VS. Team 14
DESCRIPTION:League Name: Fall Boys D1 League \nGame Type: Regular\nGame Sta
 tus: Pending\nHome Team: Team 22\nAway Team: Team 14\n
END:VEVENT
BEGIN:VEVENT
UID:16671463@ezleagues.ezfacility.com
DTSTAMP:20260422T121317Z
CREATED:20260422T121317Z
DTSTART:20260108T230000Z
DTEND:20260109T000000Z
LOCATION:Terwilliger B
CONTACT:
SUMMARY:Team 14 VS. Team 18
DESCRIPTION:League Name: Fall Boys D1 League \nGame Type: Regular\nGame Sta
 tus: Pending\nHome Team: Team 14\nAway Team: Team 18\n
END:VEVENT
BEGIN:VEVENT
UID:16671475@ezleagues.ezfacility.com
DTSTAMP:20260422T121317Z
CREATED:20260422T121317Z
DTSTART:20260115T230000Z
DTEND:20260116T000000Z
LOCATION:Terwilliger D
CONTACT:
SUMMARY:Team 14 VS. Team 01
DESCRIPTION:League Name: Fall Boys D1 League \nGame Type: Regular\nGame Sta
 tus: Pending\nHome Team: Team 14\nAway Team: Team 01\n
END:VEVENT
BEGIN:VEVENT
UID:16671489@ezleagues.ezfacility.com
DTSTAMP:20260422T121317Z
CREATED:20260422T121317Z
DTSTART:20260122T230000Z
DTEND:20260123T000000Z
LOCATION:Terwilliger B
CONTACT:
SUMMARY:Team 10 VS. Team 14
DESCRIPTION:League Name: Fall Boys D1 League \nGame Type: Regular\nGame Sta
 tus: Pending\nHome Team: Team 10\nAway Team: Team 14\n
END:VEVENT
BEGIN:VEVENT
UID:16671503@ezleagues.ezfacility.com
DTSTAMP:20260422T121317Z
CREATED:20260422T121317Z
DTSTART:20260129T230000Z
DTEND:20260130T000000Z
LOCATION:Terwilliger D
CONTACT:
SUMMARY:Team 14 VS. Team 06
DESCRIPTION:League Name: Fall Boys D1 League \nGame Type: Regular\nGame Sta
 tus: Pending\nHome Team: Team 14\nAway Team: Team 06\n
END:VEVENT
BEGIN:VEVENT
UID:16671517@ezleagues.ezfacility.com
DTSTAMP:20260422T121317Z
CREATED:20260422T121317Z
DTSTART:20260211T010000Z
DTEND:20260211T020000Z
LOCATION:Terwilliger B
CONTACT:
SUMMARY:Team 02 VS. Team 14
DESCRIPTION:League Name: Fall Boys D1 League \nGame Type: Regular\nGame Sta
 tus: Pending\nHome Team: Team 02\nAway Team: Team 14\n
END:VEVENT
BEGIN:VEVENT
UID:16671531@ezleagues.ezfacility.com
DTSTAMP:20260422T121317Z
CREATED:20260422T121317Z
DTSTART:20260218T000000Z
DTEND:20260218T010000Z
LOCATION:Terwilliger C
CONTACT:
SUMMARY:Team 14 VS. Team 05
DESCRIPTION:League Name: Fall Boys D1 League \nGame Type: Regular\nGame Sta
 tus: Pending\nHome Team: Team 14\nAway Team: Team 05\n
END:VEVENT
BEGIN:VEVENT
UID:16671545@ezleagues.ezfacility.com
DTSTAMP:20260422T121317Z
CREATED:20260422T121317Z
DTSTART:20260225T000000Z
DTEND:20260225T010000Z
LOCATION:Terwilliger B
CONTACT:
SUMMARY:Team 09 VS. Team 14
DESCRIPTION:League Name: Fall Boys D1 League \nGame Type: Regular\nGame Sta
 tus: Pending\nHome Team: Team 09\nAway Team: Team 14\n
END:VEVENT
BEGIN:VEVENT
UID:16671559@ezleagues.ezfacility.com
DTSTAMP:20260422T121317Z
CREATED:20260422T121317Z
DTSTART:20260304T010000Z
DTEND:20260304T020000Z
LOCATION:Terwilliger D
CONTACT:
SUMMARY:Team 14 VS. Team 13
DESCRIPTION:League Name: Fall Boys D1 League \nGame Type: Regular\nGame Sta
 tus: Pending\nHome Team: Team 14\nAway Team: Team 13\n
END:VEVENT
END:VCALENDAR
