BEGIN:VCALENDAR
VERSION:2.0
PRODID:-//EZFacility.com, Inc.//EZL 2.5.5.28621
BEGIN:VEVENT
UID:16671249@ezleagues.ezfacility.com
DTSTAMP:20260424T044351Z
CREATED:20260424T044351Z
DTSTART:20250917T000000Z
DTEND:20250917T010000Z
LOCATION:Terwilliger D
CONTACT:
SUMMARY:Team 16 VS. Team 19
DESCRIPTION:League Name: Fall Boys D1 League \nGame Type: Regular\nGame Sta
 tus: Pending\nHome Team: Team 16\nAway Team: Team 19\n
END:VEVENT
BEGIN:VEVENT
UID:16671261@ezleagues.ezfacility.com
DTSTAMP:20260424T044351Z
CREATED:20260424T044351Z
DTSTART:20250923T230000Z
DTEND:20250924T000000Z
LOCATION:Terwilliger C
CONTACT:
SUMMARY:Team 19 VS. Team 12
DESCRIPTION:League Name: Fall Boys D1 League \nGame Type: Regular\nGame Sta
 tus: Pending\nHome Team: Team 19\nAway Team: Team 12\n
END:VEVENT
BEGIN:VEVENT
UID:16671273@ezleagues.ezfacility.com
DTSTAMP:20260424T044351Z
CREATED:20260424T044351Z
DTSTART:20250930T220000Z
DTEND:20250930T230000Z
LOCATION:Terwilliger B
CONTACT:
SUMMARY:Team 08 VS. Team 19
DESCRIPTION:League Name: Fall Boys D1 League \nGame Type: Regular\nGame Sta
 tus: Pending\nHome Team: Team 08\nAway Team: Team 19\n
END:VEVENT
BEGIN:VEVENT
UID:16671285@ezleagues.ezfacility.com
DTSTAMP:20260424T044351Z
CREATED:20260424T044351Z
DTSTART:20251002T220000Z
DTEND:20251002T230000Z
LOCATION:Terwilliger B
CONTACT:
SUMMARY:Team 19 VS. Team 04
DESCRIPTION:League Name: Fall Boys D1 League \nGame Type: Regular\nGame Sta
 tus: Pending\nHome Team: Team 19\nAway Team: Team 04\n
END:VEVENT
BEGIN:VEVENT
UID:16671297@ezleagues.ezfacility.com
DTSTAMP:20260424T044351Z
CREATED:20260424T044351Z
DTSTART:20251014T230000Z
DTEND:20251015T000000Z
LOCATION:Terwilliger D
CONTACT:
SUMMARY:Team 03 VS. Team 19
DESCRIPTION:League Name: Fall Boys D1 League \nGame Type: Regular\nGame Sta
 tus: Pending\nHome Team: Team 03\nAway Team: Team 19\n
END:VEVENT
BEGIN:VEVENT
UID:16671309@ezleagues.ezfacility.com
DTSTAMP:20260424T044351Z
CREATED:20260424T044351Z
DTSTART:20251022T000000Z
DTEND:20251022T010000Z
LOCATION:Terwilliger C
CONTACT:
SUMMARY:Team 19 VS. Team 07
DESCRIPTION:League Name: Fall Boys D1 League \nGame Type: Regular\nGame Sta
 tus: Pending\nHome Team: Team 19\nAway Team: Team 07\n
END:VEVENT
BEGIN:VEVENT
UID:16671321@ezleagues.ezfacility.com
DTSTAMP:20260424T044351Z
CREATED:20260424T044351Z
DTSTART:20251023T220000Z
DTEND:20251023T230000Z
LOCATION:Terwilliger D
CONTACT:
SUMMARY:Team 11 VS. Team 19
DESCRIPTION:League Name: Fall Boys D1 League \nGame Type: Regular\nGame Sta
 tus: Pending\nHome Team: Team 11\nAway Team: Team 19\n
END:VEVENT
BEGIN:VEVENT
UID:16671333@ezleagues.ezfacility.com
DTSTAMP:20260424T044351Z
CREATED:20260424T044351Z
DTSTART:20251030T220000Z
DTEND:20251030T230000Z
LOCATION:Terwilliger B
CONTACT:
SUMMARY:Team 19 VS. Team 15
DESCRIPTION:League Name: Fall Boys D1 League \nGame Type: Regular\nGame Sta
 tus: Pending\nHome Team: Team 19\nAway Team: Team 15\n
END:VEVENT
BEGIN:VEVENT
UID:16671345@ezleagues.ezfacility.com
DTSTAMP:20260424T044351Z
CREATED:20260424T044351Z
DTSTART:20251112T000000Z
DTEND:20251112T010000Z
LOCATION:Terwilliger C
CONTACT:
SUMMARY:Team 19 VS. Team 01
DESCRIPTION:League Name: Fall Boys D1 League \nGame Type: Regular\nGame Sta
 tus: Pending\nHome Team: Team 19\nAway Team: Team 01\n
END:VEVENT
BEGIN:VEVENT
UID:16671359@ezleagues.ezfacility.com
DTSTAMP:20260424T044351Z
CREATED:20260424T044351Z
DTSTART:20251113T230000Z
DTEND:20251114T000000Z
LOCATION:Terwilliger B
CONTACT:
SUMMARY:Team 23 VS. Team 19
DESCRIPTION:League Name: Fall Boys D1 League \nGame Type: Regular\nGame Sta
 tus: Pending\nHome Team: Team 23\nAway Team: Team 19\n
END:VEVENT
BEGIN:VEVENT
UID:16671387@ezleagues.ezfacility.com
DTSTAMP:20260424T044351Z
CREATED:20260424T044351Z
DTSTART:20251203T010000Z
DTEND:20251203T020000Z
LOCATION:Terwilliger C
CONTACT:
SUMMARY:Team 22 VS. Team 19
DESCRIPTION:League Name: Fall Boys D1 League \nGame Type: Regular\nGame Sta
 tus: Pending\nHome Team: Team 22\nAway Team: Team 19\n
END:VEVENT
BEGIN:VEVENT
UID:16671401@ezleagues.ezfacility.com
DTSTAMP:20260424T044351Z
CREATED:20260424T044351Z
DTSTART:20251204T230000Z
DTEND:20251205T000000Z
LOCATION:Terwilliger C
CONTACT:
SUMMARY:Team 19 VS. Team 18
DESCRIPTION:League Name: Fall Boys D1 League \nGame Type: Regular\nGame Sta
 tus: Pending\nHome Team: Team 19\nAway Team: Team 18\n
END:VEVENT
BEGIN:VEVENT
UID:16671415@ezleagues.ezfacility.com
DTSTAMP:20260424T044351Z
CREATED:20260424T044351Z
DTSTART:20251217T000000Z
DTEND:20251217T010000Z
LOCATION:Terwilliger B
CONTACT:
SUMMARY:Team 14 VS. Team 19
DESCRIPTION:League Name: Fall Boys D1 League \nGame Type: Regular\nGame Sta
 tus: Pending\nHome Team: Team 14\nAway Team: Team 19\n
END:VEVENT
BEGIN:VEVENT
UID:16671429@ezleagues.ezfacility.com
DTSTAMP:20260424T044351Z
CREATED:20260424T044351Z
DTSTART:20251224T000000Z
DTEND:20251224T010000Z
LOCATION:Terwilliger D
CONTACT:
SUMMARY:Team 19 VS. Team 10
DESCRIPTION:League Name: Fall Boys D1 League \nGame Type: Regular\nGame Sta
 tus: Pending\nHome Team: Team 19\nAway Team: Team 10\n
END:VEVENT
BEGIN:VEVENT
UID:16671443@ezleagues.ezfacility.com
DTSTAMP:20260424T044351Z
CREATED:20260424T044351Z
DTSTART:20251231T010000Z
DTEND:20251231T020000Z
LOCATION:Terwilliger B
CONTACT:
SUMMARY:Team 06 VS. Team 19
DESCRIPTION:League Name: Fall Boys D1 League \nGame Type: Regular\nGame Sta
 tus: Pending\nHome Team: Team 06\nAway Team: Team 19\n
END:VEVENT
BEGIN:VEVENT
UID:16671457@ezleagues.ezfacility.com
DTSTAMP:20260424T044351Z
CREATED:20260424T044351Z
DTSTART:20260107T000000Z
DTEND:20260107T010000Z
LOCATION:Terwilliger D
CONTACT:
SUMMARY:Team 19 VS. Team 02
DESCRIPTION:League Name: Fall Boys D1 League \nGame Type: Regular\nGame Sta
 tus: Pending\nHome Team: Team 19\nAway Team: Team 02\n
END:VEVENT
BEGIN:VEVENT
UID:16671471@ezleagues.ezfacility.com
DTSTAMP:20260424T044351Z
CREATED:20260424T044351Z
DTSTART:20260114T010000Z
DTEND:20260114T020000Z
LOCATION:Terwilliger D
CONTACT:
SUMMARY:Team 05 VS. Team 19
DESCRIPTION:League Name: Fall Boys D1 League \nGame Type: Regular\nGame Sta
 tus: Pending\nHome Team: Team 05\nAway Team: Team 19\n
END:VEVENT
BEGIN:VEVENT
UID:16671485@ezleagues.ezfacility.com
DTSTAMP:20260424T044351Z
CREATED:20260424T044351Z
DTSTART:20260120T230000Z
DTEND:20260121T000000Z
LOCATION:Terwilliger C
CONTACT:
SUMMARY:Team 19 VS. Team 09
DESCRIPTION:League Name: Fall Boys D1 League \nGame Type: Regular\nGame Sta
 tus: Pending\nHome Team: Team 19\nAway Team: Team 09\n
END:VEVENT
BEGIN:VEVENT
UID:16671499@ezleagues.ezfacility.com
DTSTAMP:20260424T044351Z
CREATED:20260424T044351Z
DTSTART:20260127T230000Z
DTEND:20260128T000000Z
LOCATION:Terwilliger D
CONTACT:
SUMMARY:Team 13 VS. Team 19
DESCRIPTION:League Name: Fall Boys D1 League \nGame Type: Regular\nGame Sta
 tus: Pending\nHome Team: Team 13\nAway Team: Team 19\n
END:VEVENT
BEGIN:VEVENT
UID:16671513@ezleagues.ezfacility.com
DTSTAMP:20260424T044351Z
CREATED:20260424T044351Z
DTSTART:20260203T230000Z
DTEND:20260204T000000Z
LOCATION:Terwilliger B
CONTACT:
SUMMARY:Team 19 VS. Team 17
DESCRIPTION:League Name: Fall Boys D1 League \nGame Type: Regular\nGame Sta
 tus: Pending\nHome Team: Team 19\nAway Team: Team 17\n
END:VEVENT
BEGIN:VEVENT
UID:16671526@ezleagues.ezfacility.com
DTSTAMP:20260424T044351Z
CREATED:20260424T044351Z
DTSTART:20260210T230000Z
DTEND:20260211T000000Z
LOCATION:Terwilliger C
CONTACT:
SUMMARY:Team 19 VS. Team 21
DESCRIPTION:League Name: Fall Boys D1 League \nGame Type: Regular\nGame Sta
 tus: Pending\nHome Team: Team 19\nAway Team: Team 21\n
END:VEVENT
BEGIN:VEVENT
UID:16671538@ezleagues.ezfacility.com
DTSTAMP:20260424T044351Z
CREATED:20260424T044351Z
DTSTART:20260217T230000Z
DTEND:20260218T000000Z
LOCATION:Terwilliger B
CONTACT:
SUMMARY:Team 25 VS. Team 19
DESCRIPTION:League Name: Fall Boys D1 League \nGame Type: Regular\nGame Sta
 tus: Pending\nHome Team: Team 25\nAway Team: Team 19\n
END:VEVENT
BEGIN:VEVENT
UID:16671550@ezleagues.ezfacility.com
DTSTAMP:20260424T044351Z
CREATED:20260424T044351Z
DTSTART:20260224T230000Z
DTEND:20260225T000000Z
LOCATION:Terwilliger C
CONTACT:
SUMMARY:Team 19 VS. Team 24
DESCRIPTION:League Name: Fall Boys D1 League \nGame Type: Regular\nGame Sta
 tus: Pending\nHome Team: Team 19\nAway Team: Team 24\n
END:VEVENT
BEGIN:VEVENT
UID:16671562@ezleagues.ezfacility.com
DTSTAMP:20260424T044351Z
CREATED:20260424T044351Z
DTSTART:20260303T230000Z
DTEND:20260304T000000Z
LOCATION:Terwilliger D
CONTACT:
SUMMARY:Team 20 VS. Team 19
DESCRIPTION:League Name: Fall Boys D1 League \nGame Type: Regular\nGame Sta
 tus: Pending\nHome Team: Team 20\nAway Team: Team 19\n
END:VEVENT
END:VCALENDAR
