BEGIN:VCALENDAR
VERSION:2.0
PRODID:-//EZFacility.com, Inc.//EZL 2.5.5.28621
BEGIN:VEVENT
UID:16671250@ezleagues.ezfacility.com
DTSTAMP:20260424T044406Z
CREATED:20260424T044406Z
DTSTART:20250911T220000Z
DTEND:20250911T230000Z
LOCATION:Terwilliger B
CONTACT:
SUMMARY:Team 21 VS. Team 18
DESCRIPTION:League Name: Fall Boys D1 League \nGame Type: Regular\nGame Sta
 tus: Pending\nHome Team: Team 21\nAway Team: Team 18\n
END:VEVENT
BEGIN:VEVENT
UID:16671262@ezleagues.ezfacility.com
DTSTAMP:20260424T044406Z
CREATED:20260424T044406Z
DTSTART:20250924T000000Z
DTEND:20250924T010000Z
LOCATION:Terwilliger C
CONTACT:
SUMMARY:Team 21 VS. Team 14
DESCRIPTION:League Name: Fall Boys D1 League \nGame Type: Regular\nGame Sta
 tus: Pending\nHome Team: Team 21\nAway Team: Team 14\n
END:VEVENT
BEGIN:VEVENT
UID:16671274@ezleagues.ezfacility.com
DTSTAMP:20260424T044406Z
CREATED:20260424T044406Z
DTSTART:20250930T230000Z
DTEND:20251001T000000Z
LOCATION:Terwilliger B
CONTACT:
SUMMARY:Team 10 VS. Team 21
DESCRIPTION:League Name: Fall Boys D1 League \nGame Type: Regular\nGame Sta
 tus: Pending\nHome Team: Team 10\nAway Team: Team 21\n
END:VEVENT
BEGIN:VEVENT
UID:16671286@ezleagues.ezfacility.com
DTSTAMP:20260424T044406Z
CREATED:20260424T044406Z
DTSTART:20251008T000000Z
DTEND:20251008T010000Z
LOCATION:Terwilliger B
CONTACT:
SUMMARY:Team 21 VS. Team 06
DESCRIPTION:League Name: Fall Boys D1 League \nGame Type: Regular\nGame Sta
 tus: Pending\nHome Team: Team 21\nAway Team: Team 06\n
END:VEVENT
BEGIN:VEVENT
UID:16671298@ezleagues.ezfacility.com
DTSTAMP:20260424T044406Z
CREATED:20260424T044406Z
DTSTART:20251009T220000Z
DTEND:20251009T230000Z
LOCATION:Terwilliger D
CONTACT:
SUMMARY:Team 02 VS. Team 21
DESCRIPTION:League Name: Fall Boys D1 League \nGame Type: Regular\nGame Sta
 tus: Pending\nHome Team: Team 02\nAway Team: Team 21\n
END:VEVENT
BEGIN:VEVENT
UID:16671310@ezleagues.ezfacility.com
DTSTAMP:20260424T044406Z
CREATED:20260424T044406Z
DTSTART:20251021T230000Z
DTEND:20251022T000000Z
LOCATION:Terwilliger D
CONTACT:
SUMMARY:Team 21 VS. Team 05
DESCRIPTION:League Name: Fall Boys D1 League \nGame Type: Regular\nGame Sta
 tus: Pending\nHome Team: Team 21\nAway Team: Team 05\n
END:VEVENT
BEGIN:VEVENT
UID:16671322@ezleagues.ezfacility.com
DTSTAMP:20260424T044406Z
CREATED:20260424T044406Z
DTSTART:20251028T230000Z
DTEND:20251029T000000Z
LOCATION:Terwilliger C
CONTACT:
SUMMARY:Team 09 VS. Team 21
DESCRIPTION:League Name: Fall Boys D1 League \nGame Type: Regular\nGame Sta
 tus: Pending\nHome Team: Team 09\nAway Team: Team 21\n
END:VEVENT
BEGIN:VEVENT
UID:16671334@ezleagues.ezfacility.com
DTSTAMP:20260424T044406Z
CREATED:20260424T044406Z
DTSTART:20251030T220000Z
DTEND:20251030T230000Z
LOCATION:Terwilliger D
CONTACT:
SUMMARY:Team 21 VS. Team 13
DESCRIPTION:League Name: Fall Boys D1 League \nGame Type: Regular\nGame Sta
 tus: Pending\nHome Team: Team 21\nAway Team: Team 13\n
END:VEVENT
BEGIN:VEVENT
UID:16671346@ezleagues.ezfacility.com
DTSTAMP:20260424T044406Z
CREATED:20260424T044406Z
DTSTART:20251112T010000Z
DTEND:20251112T020000Z
LOCATION:Terwilliger C
CONTACT:
SUMMARY:Team 17 VS. Team 21
DESCRIPTION:League Name: Fall Boys D1 League \nGame Type: Regular\nGame Sta
 tus: Pending\nHome Team: Team 17\nAway Team: Team 21\n
END:VEVENT
BEGIN:VEVENT
UID:16671358@ezleagues.ezfacility.com
DTSTAMP:20260424T044406Z
CREATED:20260424T044406Z
DTSTART:20251113T230000Z
DTEND:20251114T000000Z
LOCATION:Terwilliger D
CONTACT:
SUMMARY:Team 01 VS. Team 21
DESCRIPTION:League Name: Fall Boys D1 League \nGame Type: Regular\nGame Sta
 tus: Pending\nHome Team: Team 01\nAway Team: Team 21\n
END:VEVENT
BEGIN:VEVENT
UID:16671372@ezleagues.ezfacility.com
DTSTAMP:20260424T044406Z
CREATED:20260424T044406Z
DTSTART:20251126T000000Z
DTEND:20251126T010000Z
LOCATION:Terwilliger B
CONTACT:
SUMMARY:Team 21 VS. Team 25
DESCRIPTION:League Name: Fall Boys D1 League \nGame Type: Regular\nGame Sta
 tus: Pending\nHome Team: Team 21\nAway Team: Team 25\n
END:VEVENT
BEGIN:VEVENT
UID:16671386@ezleagues.ezfacility.com
DTSTAMP:20260424T044406Z
CREATED:20260424T044406Z
DTSTART:20251127T230000Z
DTEND:20251128T000000Z
LOCATION:Terwilliger C
CONTACT:
SUMMARY:Team 24 VS. Team 21
DESCRIPTION:League Name: Fall Boys D1 League \nGame Type: Regular\nGame Sta
 tus: Pending\nHome Team: Team 24\nAway Team: Team 21\n
END:VEVENT
BEGIN:VEVENT
UID:16671400@ezleagues.ezfacility.com
DTSTAMP:20260424T044406Z
CREATED:20260424T044406Z
DTSTART:20251204T230000Z
DTEND:20251205T000000Z
LOCATION:Terwilliger D
CONTACT:
SUMMARY:Team 21 VS. Team 20
DESCRIPTION:League Name: Fall Boys D1 League \nGame Type: Regular\nGame Sta
 tus: Pending\nHome Team: Team 21\nAway Team: Team 20\n
END:VEVENT
BEGIN:VEVENT
UID:16671414@ezleagues.ezfacility.com
DTSTAMP:20260424T044406Z
CREATED:20260424T044406Z
DTSTART:20251217T010000Z
DTEND:20251217T020000Z
LOCATION:Terwilliger C
CONTACT:
SUMMARY:Team 16 VS. Team 21
DESCRIPTION:League Name: Fall Boys D1 League \nGame Type: Regular\nGame Sta
 tus: Pending\nHome Team: Team 16\nAway Team: Team 21\n
END:VEVENT
BEGIN:VEVENT
UID:16671428@ezleagues.ezfacility.com
DTSTAMP:20260424T044406Z
CREATED:20260424T044406Z
DTSTART:20251218T230000Z
DTEND:20251219T000000Z
LOCATION:Terwilliger D
CONTACT:
SUMMARY:Team 21 VS. Team 12
DESCRIPTION:League Name: Fall Boys D1 League \nGame Type: Regular\nGame Sta
 tus: Pending\nHome Team: Team 21\nAway Team: Team 12\n
END:VEVENT
BEGIN:VEVENT
UID:16671442@ezleagues.ezfacility.com
DTSTAMP:20260424T044406Z
CREATED:20260424T044406Z
DTSTART:20251231T000000Z
DTEND:20251231T010000Z
LOCATION:Terwilliger B
CONTACT:
SUMMARY:Team 08 VS. Team 21
DESCRIPTION:League Name: Fall Boys D1 League \nGame Type: Regular\nGame Sta
 tus: Pending\nHome Team: Team 08\nAway Team: Team 21\n
END:VEVENT
BEGIN:VEVENT
UID:16671456@ezleagues.ezfacility.com
DTSTAMP:20260424T044406Z
CREATED:20260424T044406Z
DTSTART:20260107T010000Z
DTEND:20260107T020000Z
LOCATION:Terwilliger B
CONTACT:
SUMMARY:Team 21 VS. Team 04
DESCRIPTION:League Name: Fall Boys D1 League \nGame Type: Regular\nGame Sta
 tus: Pending\nHome Team: Team 21\nAway Team: Team 04\n
END:VEVENT
BEGIN:VEVENT
UID:16671470@ezleagues.ezfacility.com
DTSTAMP:20260424T044406Z
CREATED:20260424T044406Z
DTSTART:20260114T010000Z
DTEND:20260114T020000Z
LOCATION:Terwilliger C
CONTACT:
SUMMARY:Team 03 VS. Team 21
DESCRIPTION:League Name: Fall Boys D1 League \nGame Type: Regular\nGame Sta
 tus: Pending\nHome Team: Team 03\nAway Team: Team 21\n
END:VEVENT
BEGIN:VEVENT
UID:16671484@ezleagues.ezfacility.com
DTSTAMP:20260424T044406Z
CREATED:20260424T044406Z
DTSTART:20260121T010000Z
DTEND:20260121T020000Z
LOCATION:Terwilliger D
CONTACT:
SUMMARY:Team 21 VS. Team 07
DESCRIPTION:League Name: Fall Boys D1 League \nGame Type: Regular\nGame Sta
 tus: Pending\nHome Team: Team 21\nAway Team: Team 07\n
END:VEVENT
BEGIN:VEVENT
UID:16671498@ezleagues.ezfacility.com
DTSTAMP:20260424T044406Z
CREATED:20260424T044406Z
DTSTART:20260127T230000Z
DTEND:20260128T000000Z
LOCATION:Terwilliger B
CONTACT:
SUMMARY:Team 11 VS. Team 21
DESCRIPTION:League Name: Fall Boys D1 League \nGame Type: Regular\nGame Sta
 tus: Pending\nHome Team: Team 11\nAway Team: Team 21\n
END:VEVENT
BEGIN:VEVENT
UID:16671512@ezleagues.ezfacility.com
DTSTAMP:20260424T044406Z
CREATED:20260424T044406Z
DTSTART:20260203T230000Z
DTEND:20260204T000000Z
LOCATION:Terwilliger C
CONTACT:
SUMMARY:Team 21 VS. Team 15
DESCRIPTION:League Name: Fall Boys D1 League \nGame Type: Regular\nGame Sta
 tus: Pending\nHome Team: Team 21\nAway Team: Team 15\n
END:VEVENT
BEGIN:VEVENT
UID:16671526@ezleagues.ezfacility.com
DTSTAMP:20260424T044406Z
CREATED:20260424T044406Z
DTSTART:20260210T230000Z
DTEND:20260211T000000Z
LOCATION:Terwilliger C
CONTACT:
SUMMARY:Team 19 VS. Team 21
DESCRIPTION:League Name: Fall Boys D1 League \nGame Type: Regular\nGame Sta
 tus: Pending\nHome Team: Team 19\nAway Team: Team 21\n
END:VEVENT
BEGIN:VEVENT
UID:16671539@ezleagues.ezfacility.com
DTSTAMP:20260424T044406Z
CREATED:20260424T044406Z
DTSTART:20260217T230000Z
DTEND:20260218T000000Z
LOCATION:Terwilliger C
CONTACT:
SUMMARY:Team 21 VS. Team 23
DESCRIPTION:League Name: Fall Boys D1 League \nGame Type: Regular\nGame Sta
 tus: Pending\nHome Team: Team 21\nAway Team: Team 23\n
END:VEVENT
BEGIN:VEVENT
UID:16671563@ezleagues.ezfacility.com
DTSTAMP:20260424T044406Z
CREATED:20260424T044406Z
DTSTART:20260303T230000Z
DTEND:20260304T000000Z
LOCATION:Terwilliger B
CONTACT:
SUMMARY:Team 22 VS. Team 21
DESCRIPTION:League Name: Fall Boys D1 League \nGame Type: Regular\nGame Sta
 tus: Pending\nHome Team: Team 22\nAway Team: Team 21\n
END:VEVENT
END:VCALENDAR
