BEGIN:VCALENDAR
VERSION:2.0
PRODID:-//EZFacility.com, Inc.//EZL 2.5.5.28621
BEGIN:VEVENT
UID:16690808@ezleagues.ezfacility.com
DTSTAMP:20260426T033640Z
CREATED:20260426T033640Z
DTSTART:20250921T230000Z
DTEND:20250922T000000Z
LOCATION:Field 2
CONTACT:
SUMMARY:CDL VS. Team USA
DESCRIPTION:League Name: COED REC\nGame Type: Regular\nGame Status: Complet
 e\nHome Team: CDL\nAway Team: Team USA\nHome Score: 6\nAway Score: 6
END:VEVENT
BEGIN:VEVENT
UID:16690818@ezleagues.ezfacility.com
DTSTAMP:20260426T033640Z
CREATED:20260426T033640Z
DTSTART:20250928T230000Z
DTEND:20250929T000000Z
LOCATION:Field 1
CONTACT:
SUMMARY:Atlas VS. Team USA
DESCRIPTION:League Name: COED REC\nGame Type: Regular\nGame Status: Complet
 e\nHome Team: Atlas\nAway Team: Team USA\nHome Score: 4\nAway Score: 3
END:VEVENT
BEGIN:VEVENT
UID:16690828@ezleagues.ezfacility.com
DTSTAMP:20260426T033640Z
CREATED:20260426T033640Z
DTSTART:20251005T220000Z
DTEND:20251005T230000Z
LOCATION:Field 1
CONTACT:
SUMMARY:Team USA VS. Saucillo
DESCRIPTION:League Name: COED REC\nGame Type: Regular\nGame Status: Complet
 e\nHome Team: Team USA\nAway Team: Saucillo\nHome Score: 7\nAway Score: 10
END:VEVENT
BEGIN:VEVENT
UID:16690838@ezleagues.ezfacility.com
DTSTAMP:20260426T033640Z
CREATED:20260426T033640Z
DTSTART:20251013T010000Z
DTEND:20251013T020000Z
LOCATION:Field 1
CONTACT:
SUMMARY:Team USA VS. Los Ramsies
DESCRIPTION:League Name: COED REC\nGame Type: Regular\nGame Status: Complet
 e\nHome Team: Team USA\nAway Team: Los Ramsies\nHome Score: 0\nAway Score:
  5
END:VEVENT
BEGIN:VEVENT
UID:16690855@ezleagues.ezfacility.com
DTSTAMP:20260426T033640Z
CREATED:20260426T033640Z
DTSTART:20251020T010000Z
DTEND:20251020T020000Z
LOCATION:Field 2
CONTACT:
SUMMARY:Goal Diggers VS. Team USA
DESCRIPTION:League Name: COED REC\nGame Type: Regular\nGame Status: Complet
 e\nHome Team: Goal Diggers\nAway Team: Team USA\nHome Score: 2\nAway Score
 : 5
END:VEVENT
BEGIN:VEVENT
UID:16690858@ezleagues.ezfacility.com
DTSTAMP:20260426T033640Z
CREATED:20260426T033640Z
DTSTART:20251027T000000Z
DTEND:20251027T010000Z
LOCATION:Field 2
CONTACT:
SUMMARY:CDL Jrs. VS. Team USA
DESCRIPTION:League Name: COED REC\nGame Type: Regular\nGame Status: Complet
 e\nHome Team: CDL Jrs.\nAway Team: Team USA\nHome Score: 9\nAway Score: 2
END:VEVENT
BEGIN:VEVENT
UID:16690868@ezleagues.ezfacility.com
DTSTAMP:20260426T033640Z
CREATED:20260426T033640Z
DTSTART:20251103T030000Z
DTEND:20251103T040000Z
LOCATION:Field 1
CONTACT:
SUMMARY:Chato FC VS. Team USA
DESCRIPTION:League Name: COED REC\nGame Type: Regular\nGame Status: Complet
 e\nHome Team: Chato FC\nAway Team: Team USA\nHome Score: 7\nAway Score: 5
END:VEVENT
BEGIN:VEVENT
UID:16690884@ezleagues.ezfacility.com
DTSTAMP:20260426T033640Z
CREATED:20260426T033640Z
DTSTART:20251109T230000Z
DTEND:20251110T000000Z
LOCATION:Field 1
CONTACT:
SUMMARY:Team USA VS. Buzz Ballers
DESCRIPTION:League Name: COED REC\nGame Type: Regular\nGame Status: Pending
 \nHome Team: Team USA\nAway Team: Buzz Ballers\n
END:VEVENT
END:VCALENDAR
