BEGIN:VCALENDAR
VERSION:2.0
PRODID:-//EZFacility.com, Inc.//EZL 2.5.5.28621
BEGIN:VEVENT
UID:16675929@ezleagues.ezfacility.com
DTSTAMP:20260422T075712Z
CREATED:20260422T075712Z
DTSTART:20250918T010000Z
DTEND:20250918T020000Z
LOCATION:Harmans Premier Field #5
CONTACT:
SUMMARY:Gorditos FC VS. Sivar
DESCRIPTION:League Name: Wed Coed Open 3rd div \nGame Type: Regular\nGame S
 tatus: Complete\nHome Team: Gorditos FC\nAway Team: Sivar\nHome Score: 3\n
 Away Score: 3
END:VEVENT
BEGIN:VEVENT
UID:16675936@ezleagues.ezfacility.com
DTSTAMP:20260422T075712Z
CREATED:20260422T075712Z
DTSTART:20250925T020000Z
DTEND:20250925T030000Z
LOCATION:Harmans Premier Field #5
CONTACT:
SUMMARY:SCFC VS. Sivar
DESCRIPTION:League Name: Wed Coed Open 3rd div \nGame Type: Regular\nGame S
 tatus: Complete\nHome Team: SCFC\nAway Team: Sivar\nHome Score: 3\nAway Sc
 ore: 3
END:VEVENT
BEGIN:VEVENT
UID:16675943@ezleagues.ezfacility.com
DTSTAMP:20260422T075712Z
CREATED:20260422T075712Z
DTSTART:20251001T230000Z
DTEND:20251002T000000Z
LOCATION:Harmans Premier Field #5
CONTACT:
SUMMARY:Geri-Hat Tricks VS. Sivar
DESCRIPTION:League Name: Wed Coed Open 3rd div \nGame Type: Regular\nGame S
 tatus: Complete\nHome Team: Geri-Hat Tricks\nAway Team: Sivar\nHome Score:
  2\nAway Score: 4
END:VEVENT
BEGIN:VEVENT
UID:16675950@ezleagues.ezfacility.com
DTSTAMP:20260422T075712Z
CREATED:20260422T075712Z
DTSTART:20251008T230000Z
DTEND:20251008T235000Z
LOCATION:Harmans Premier Field #5
CONTACT:
SUMMARY:Sivar VS. Magnolia and Chill
DESCRIPTION:League Name: Wed Coed Open 3rd div \nGame Type: Regular\nGame S
 tatus: Complete\nHome Team: Sivar\nAway Team: Magnolia and Chill\nHome Sco
 re: 0\nAway Score: 3
END:VEVENT
BEGIN:VEVENT
UID:16675959@ezleagues.ezfacility.com
DTSTAMP:20260422T075712Z
CREATED:20260422T075712Z
DTSTART:20251016T010000Z
DTEND:20251016T015000Z
LOCATION:Harmans Premier Field #5
CONTACT:
SUMMARY:Sivar VS. Fuzzy Pandas
DESCRIPTION:League Name: Wed Coed Open 3rd div \nGame Type: Regular\nGame S
 tatus: Complete\nHome Team: Sivar\nAway Team: Fuzzy Pandas\nHome Score: 10
 \nAway Score: 6
END:VEVENT
BEGIN:VEVENT
UID:16675968@ezleagues.ezfacility.com
DTSTAMP:20260422T075712Z
CREATED:20260422T075712Z
DTSTART:20251023T000000Z
DTEND:20251023T010000Z
LOCATION:Harmans Premier Field #5
CONTACT:
SUMMARY:Sivar VS. Gunfighters
DESCRIPTION:League Name: Wed Coed Open 3rd div \nGame Type: Regular\nGame S
 tatus: Complete\nHome Team: Sivar\nAway Team: Gunfighters\nHome Score: 4\n
 Away Score: 6
END:VEVENT
BEGIN:VEVENT
UID:16675977@ezleagues.ezfacility.com
DTSTAMP:20260422T075712Z
CREATED:20260422T075712Z
DTSTART:20251030T012000Z
DTEND:20251030T021000Z
LOCATION:Harmans Premier Field #4
CONTACT:
SUMMARY:Sivar VS. MMB FC
DESCRIPTION:League Name: Wed Coed Open 3rd div \nGame Type: Regular\nGame S
 tatus: Complete\nHome Team: Sivar\nAway Team: MMB FC\nHome Score: 5\nAway 
 Score: 1
END:VEVENT
BEGIN:VEVENT
UID:16822891@ezleagues.ezfacility.com
DTSTAMP:20260422T075712Z
CREATED:20260422T075712Z
DTSTART:20251106T030000Z
DTEND:20251106T040000Z
LOCATION:Harmans Premier Field #5
CONTACT:
SUMMARY:Sivar VS. Monkey Business
DESCRIPTION:League Name: Wed Coed Open 3rd div \nGame Type: Regular\nGame S
 tatus: Complete\nHome Team: Sivar\nAway Team: Monkey Business\nHome Score:
  2\nAway Score: 3
END:VEVENT
BEGIN:VEVENT
UID:16840658@ezleagues.ezfacility.com
DTSTAMP:20260422T075712Z
CREATED:20260422T075712Z
DTSTART:20251113T031000Z
DTEND:20251113T040000Z
LOCATION:Harmans Premier Field #4
CONTACT:
SUMMARY:MMB FC VS. Sivar
DESCRIPTION:League Name: Wed Coed Open 3rd div \nGame Type: Regular\nGame S
 tatus: Complete\nHome Team: MMB FC\nAway Team: Sivar\nHome Score: 8\nAway 
 Score: 5
END:VEVENT
END:VCALENDAR
