BEGIN:VCALENDAR
VERSION:2.0
PRODID:-//EZFacility.com, Inc.//EZL 2.5.5.28621
BEGIN:VEVENT
UID:16676740@ezleagues.ezfacility.com
DTSTAMP:20260426T033653Z
CREATED:20260426T033653Z
DTSTART:20250923T220000Z
DTEND:20250923T230000Z
LOCATION:Turf Field
CONTACT:
SUMMARY:Black VS. Red
DESCRIPTION:League Name: Fall 2025 U14 Soccer\nGame Type: Regular\nGame Sta
 tus: Complete\nHome Team: Black\nAway Team: Red\nHome Score: 1\nAway Score
 : 10
END:VEVENT
BEGIN:VEVENT
UID:16676743@ezleagues.ezfacility.com
DTSTAMP:20260426T033653Z
CREATED:20260426T033653Z
DTSTART:20250930T210000Z
DTEND:20250930T220000Z
LOCATION:Turf Field
CONTACT:
SUMMARY:Blue VS. Red
DESCRIPTION:League Name: Fall 2025 U14 Soccer\nGame Type: Regular\nGame Sta
 tus: Complete\nHome Team: Blue\nAway Team: Red\nHome Score: 1\nAway Score:
  4
END:VEVENT
BEGIN:VEVENT
UID:16676745@ezleagues.ezfacility.com
DTSTAMP:20260426T033653Z
CREATED:20260426T033653Z
DTSTART:20251007T210000Z
DTEND:20251007T220000Z
LOCATION:Turf Field
CONTACT:
SUMMARY:Red VS. White
DESCRIPTION:League Name: Fall 2025 U14 Soccer\nGame Type: Regular\nGame Sta
 tus: Complete\nHome Team: Red\nAway Team: White\nHome Score: 10\nAway Scor
 e: 3
END:VEVENT
BEGIN:VEVENT
UID:16676746@ezleagues.ezfacility.com
DTSTAMP:20260426T033653Z
CREATED:20260426T033653Z
DTSTART:20251014T220000Z
DTEND:20251014T230000Z
LOCATION:Turf Field
CONTACT:
SUMMARY:Black VS. Red
DESCRIPTION:League Name: Fall 2025 U14 Soccer\nGame Type: Regular\nGame Sta
 tus: Complete\nHome Team: Black\nAway Team: Red\nHome Score: 3\nAway Score
 : 8
END:VEVENT
BEGIN:VEVENT
UID:16676749@ezleagues.ezfacility.com
DTSTAMP:20260426T033653Z
CREATED:20260426T033653Z
DTSTART:20251021T210000Z
DTEND:20251021T220000Z
LOCATION:Turf Field
CONTACT:
SUMMARY:Blue VS. Red
DESCRIPTION:League Name: Fall 2025 U14 Soccer\nGame Type: Regular\nGame Sta
 tus: Complete\nHome Team: Blue\nAway Team: Red\nHome Score: 1\nAway Score:
  7
END:VEVENT
BEGIN:VEVENT
UID:16676751@ezleagues.ezfacility.com
DTSTAMP:20260426T033653Z
CREATED:20260426T033653Z
DTSTART:20251028T210000Z
DTEND:20251028T220000Z
LOCATION:Turf Field
CONTACT:
SUMMARY:Red VS. White
DESCRIPTION:League Name: Fall 2025 U14 Soccer\nGame Type: Regular\nGame Sta
 tus: Complete\nHome Team: Red\nAway Team: White\nHome Score: 4\nAway Score
 : 4
END:VEVENT
BEGIN:VEVENT
UID:16676752@ezleagues.ezfacility.com
DTSTAMP:20260426T033653Z
CREATED:20260426T033653Z
DTSTART:20251104T230000Z
DTEND:20251105T000000Z
LOCATION:Turf Field
CONTACT:
SUMMARY:Red VS. Black
DESCRIPTION:League Name: Fall 2025 U14 Soccer\nGame Type: Regular\nGame Sta
 tus: Complete\nHome Team: Red\nAway Team: Black\nHome Score: 5\nAway Score
 : 2
END:VEVENT
BEGIN:VEVENT
UID:16676755@ezleagues.ezfacility.com
DTSTAMP:20260426T033653Z
CREATED:20260426T033653Z
DTSTART:20251111T220000Z
DTEND:20251111T230000Z
LOCATION:Turf Field
CONTACT:
SUMMARY:Red VS. Blue
DESCRIPTION:League Name: Fall 2025 U14 Soccer\nGame Type: Regular\nGame Sta
 tus: Complete\nHome Team: Red\nAway Team: Blue\nHome Score: 3\nAway Score:
  3
END:VEVENT
BEGIN:VEVENT
UID:16676757@ezleagues.ezfacility.com
DTSTAMP:20260426T033653Z
CREATED:20260426T033653Z
DTSTART:20251118T220000Z
DTEND:20251118T230000Z
LOCATION:Turf Field
CONTACT:
SUMMARY:White VS. Red
DESCRIPTION:League Name: Fall 2025 U14 Soccer\nGame Type: Regular\nGame Sta
 tus: Complete\nHome Team: White\nAway Team: Red\nHome Score: 1\nAway Score
 : 4
END:VEVENT
BEGIN:VEVENT
UID:16676758@ezleagues.ezfacility.com
DTSTAMP:20260426T033653Z
CREATED:20260426T033653Z
DTSTART:20251125T230000Z
DTEND:20251126T000000Z
LOCATION:Turf Field
CONTACT:
SUMMARY:Red VS. Black
DESCRIPTION:League Name: Fall 2025 U14 Soccer\nGame Type: Regular\nGame Sta
 tus: Complete\nHome Team: Red\nAway Team: Black\nHome Score: 6\nAway Score
 : 1
END:VEVENT
BEGIN:VEVENT
UID:16676760@ezleagues.ezfacility.com
DTSTAMP:20260426T033653Z
CREATED:20260426T033653Z
DTSTART:20251202T230000Z
DTEND:20251203T000000Z
LOCATION:Turf Field
CONTACT:
SUMMARY:Red VS. Black
DESCRIPTION:League Name: Fall 2025 U14 Soccer\nGame Type: Postseason\nGame 
 Status: Complete\nHome Team: Red\nAway Team: Black\nHome Score: 2\nAway Sc
 ore: 3
END:VEVENT
BEGIN:VEVENT
UID:16676763@ezleagues.ezfacility.com
DTSTAMP:20260426T033653Z
CREATED:20260426T033653Z
DTSTART:20251209T220000Z
DTEND:20251209T230000Z
LOCATION:Turf Field
CONTACT:
SUMMARY:Red VS. Blue
DESCRIPTION:League Name: Fall 2025 U14 Soccer\nGame Type: Postseason\nGame 
 Status: Complete\nHome Team: Red\nAway Team: Blue\nHome Score: 2\nAway Sco
 re: 2
END:VEVENT
END:VCALENDAR
