BEGIN:VCALENDAR
VERSION:2.0
PRODID:-//EZFacility.com, Inc.//EZL 2.5.5.28621
BEGIN:VEVENT
UID:16676941@ezleagues.ezfacility.com
DTSTAMP:20260424T043200Z
CREATED:20260424T043200Z
DTSTART:20250926T011500Z
DTEND:20250926T021500Z
LOCATION:Field 4
CONTACT:
SUMMARY:Son’s Of Bob-o VS. Yard Dogs
DESCRIPTION:League Name: 2025 S5 Thurs Men's USSSA League- Sep 18\nGame Typ
 e: Regular\nGame Status: Complete\nHome Team: Son’s Of Bob-o\nAway Team:
  Yard Dogs\nHome Score: 13\nAway Score: 8
END:VEVENT
BEGIN:VEVENT
UID:16676942@ezleagues.ezfacility.com
DTSTAMP:20260424T043200Z
CREATED:20260424T043200Z
DTSTART:20250926T021500Z
DTEND:20250926T031500Z
LOCATION:Field 4
CONTACT:
SUMMARY:Yard Dogs VS. Son’s Of Bob-o
DESCRIPTION:League Name: 2025 S5 Thurs Men's USSSA League- Sep 18\nGame Typ
 e: Regular\nGame Status: Complete\nHome Team: Yard Dogs\nAway Team: Son’
 s Of Bob-o\nHome Score: 6\nAway Score: 14
END:VEVENT
BEGIN:VEVENT
UID:16676947@ezleagues.ezfacility.com
DTSTAMP:20260424T043200Z
CREATED:20260424T043200Z
DTSTART:20251003T011500Z
DTEND:20251003T021500Z
LOCATION:Field 3
CONTACT:
SUMMARY:Son’s Of Bob-o VS. Valley Threads
DESCRIPTION:League Name: 2025 S5 Thurs Men's USSSA League- Sep 18\nGame Typ
 e: Regular\nGame Status: Complete\nHome Team: Son’s Of Bob-o\nAway Team:
  Valley Threads\nHome Score: 0\nAway Score: 7
END:VEVENT
BEGIN:VEVENT
UID:16676948@ezleagues.ezfacility.com
DTSTAMP:20260424T043200Z
CREATED:20260424T043200Z
DTSTART:20251003T021500Z
DTEND:20251003T031500Z
LOCATION:Field 3
CONTACT:
SUMMARY:Valley Threads VS. Son’s Of Bob-o
DESCRIPTION:League Name: 2025 S5 Thurs Men's USSSA League- Sep 18\nGame Typ
 e: Regular\nGame Status: Complete\nHome Team: Valley Threads\nAway Team: S
 on’s Of Bob-o\nHome Score: 7\nAway Score: 0
END:VEVENT
BEGIN:VEVENT
UID:16676949@ezleagues.ezfacility.com
DTSTAMP:20260424T043200Z
CREATED:20260424T043200Z
DTSTART:20251010T031500Z
DTEND:20251010T041500Z
LOCATION:Field 4
CONTACT:
SUMMARY:Son’s Of Bob-o VS. Old Glory
DESCRIPTION:League Name: 2025 S5 Thurs Men's USSSA League- Sep 18\nGame Typ
 e: Regular\nGame Status: Complete\nHome Team: Son’s Of Bob-o\nAway Team:
  Old Glory\nHome Score: 27\nAway Score: 11
END:VEVENT
BEGIN:VEVENT
UID:16676950@ezleagues.ezfacility.com
DTSTAMP:20260424T043200Z
CREATED:20260424T043200Z
DTSTART:20251010T041500Z
DTEND:20251010T051500Z
LOCATION:Field 4
CONTACT:
SUMMARY:Old Glory VS. Son’s Of Bob-o
DESCRIPTION:League Name: 2025 S5 Thurs Men's USSSA League- Sep 18\nGame Typ
 e: Regular\nGame Status: Complete\nHome Team: Old Glory\nAway Team: Son’
 s Of Bob-o\nHome Score: 19\nAway Score: 18
END:VEVENT
BEGIN:VEVENT
UID:16676955@ezleagues.ezfacility.com
DTSTAMP:20260424T043200Z
CREATED:20260424T043200Z
DTSTART:20251017T031500Z
DTEND:20251017T041500Z
LOCATION:Field 3
CONTACT:
SUMMARY:Old Glory VS. Son’s Of Bob-o
DESCRIPTION:League Name: 2025 S5 Thurs Men's USSSA League- Sep 18\nGame Typ
 e: Regular\nGame Status: Complete\nHome Team: Old Glory\nAway Team: Son’
 s Of Bob-o\nHome Score: 4\nAway Score: 19
END:VEVENT
BEGIN:VEVENT
UID:16676956@ezleagues.ezfacility.com
DTSTAMP:20260424T043200Z
CREATED:20260424T043200Z
DTSTART:20251017T041500Z
DTEND:20251017T051500Z
LOCATION:Field 3
CONTACT:
SUMMARY:Son’s Of Bob-o VS. Old Glory
DESCRIPTION:League Name: 2025 S5 Thurs Men's USSSA League- Sep 18\nGame Typ
 e: Regular\nGame Status: Complete\nHome Team: Son’s Of Bob-o\nAway Team:
  Old Glory\nHome Score: 21\nAway Score: 12
END:VEVENT
BEGIN:VEVENT
UID:16676963@ezleagues.ezfacility.com
DTSTAMP:20260424T043200Z
CREATED:20260424T043200Z
DTSTART:20251024T031500Z
DTEND:20251024T041500Z
LOCATION:Field 3
CONTACT:
SUMMARY:Son’s Of Bob-o VS. Not OutKast
DESCRIPTION:League Name: 2025 S5 Thurs Men's USSSA League- Sep 18\nGame Typ
 e: Regular\nGame Status: Complete\nHome Team: Son’s Of Bob-o\nAway Team:
  Not OutKast\nHome Score: 13\nAway Score: 2
END:VEVENT
BEGIN:VEVENT
UID:16676964@ezleagues.ezfacility.com
DTSTAMP:20260424T043200Z
CREATED:20260424T043200Z
DTSTART:20251024T041500Z
DTEND:20251024T051500Z
LOCATION:Field 3
CONTACT:
SUMMARY:Not OutKast VS. Son’s Of Bob-o
DESCRIPTION:League Name: 2025 S5 Thurs Men's USSSA League- Sep 18\nGame Typ
 e: Regular\nGame Status: Complete\nHome Team: Not OutKast\nAway Team: Son’
 s Of Bob-o\nHome Score: 7\nAway Score: 23
END:VEVENT
BEGIN:VEVENT
UID:16676971@ezleagues.ezfacility.com
DTSTAMP:20260424T043200Z
CREATED:20260424T043200Z
DTSTART:20251031T031500Z
DTEND:20251031T041500Z
LOCATION:Field 4
CONTACT:
SUMMARY:Son’s Of Bob-o VS. Yard Dogs
DESCRIPTION:League Name: 2025 S5 Thurs Men's USSSA League- Sep 18\nGame Typ
 e: Regular\nGame Status: Complete\nHome Team: Son’s Of Bob-o\nAway Team:
  Yard Dogs\nHome Score: 16\nAway Score: 14
END:VEVENT
BEGIN:VEVENT
UID:16676972@ezleagues.ezfacility.com
DTSTAMP:20260424T043200Z
CREATED:20260424T043200Z
DTSTART:20251031T041500Z
DTEND:20251031T051500Z
LOCATION:Field 4
CONTACT:
SUMMARY:Yard Dogs VS. Son’s Of Bob-o
DESCRIPTION:League Name: 2025 S5 Thurs Men's USSSA League- Sep 18\nGame Typ
 e: Regular\nGame Status: Complete\nHome Team: Yard Dogs\nAway Team: Son’
 s Of Bob-o\nHome Score: 15\nAway Score: 22
END:VEVENT
BEGIN:VEVENT
UID:16676933@ezleagues.ezfacility.com
DTSTAMP:20260424T043200Z
CREATED:20260424T043200Z
DTSTART:20251107T011500Z
DTEND:20251107T021500Z
LOCATION:Field 4
CONTACT:
SUMMARY:Son’s Of Bob-o VS. Not OutKast
DESCRIPTION:League Name: 2025 S5 Thurs Men's USSSA League- Sep 18\nGame Typ
 e: Regular\nGame Status: Complete\nHome Team: Son’s Of Bob-o\nAway Team:
  Not OutKast\nHome Score: 18\nAway Score: 0
END:VEVENT
BEGIN:VEVENT
UID:16676934@ezleagues.ezfacility.com
DTSTAMP:20260424T043200Z
CREATED:20260424T043200Z
DTSTART:20251107T021500Z
DTEND:20251107T031500Z
LOCATION:Field 4
CONTACT:
SUMMARY:Not OutKast VS. Son’s Of Bob-o
DESCRIPTION:League Name: 2025 S5 Thurs Men's USSSA League- Sep 18\nGame Typ
 e: Regular\nGame Status: Complete\nHome Team: Not OutKast\nAway Team: Son’
 s Of Bob-o\nHome Score: 7\nAway Score: 24
END:VEVENT
BEGIN:VEVENT
UID:16840822@ezleagues.ezfacility.com
DTSTAMP:20260424T043200Z
CREATED:20260424T043200Z
DTSTART:20251114T011500Z
DTEND:20251114T021500Z
LOCATION:Field 3
CONTACT:
SUMMARY:Son’s Of Bob-o VS. Yard Dogs
DESCRIPTION:League Name: 2025 S5 Thurs Men's USSSA League- Sep 18\nGame Typ
 e: Postseason\nGame Status: Complete\nHome Team: Son’s Of Bob-o\nAway Te
 am: Yard Dogs\nHome Score: 12\nAway Score: 3
END:VEVENT
END:VCALENDAR
