BEGIN:VCALENDAR
VERSION:2.0
PRODID:-//EZFacility.com, Inc.//EZL 2.5.5.28621
BEGIN:VEVENT
UID:16677127@ezleagues.ezfacility.com
DTSTAMP:20260426T033603Z
CREATED:20260426T033603Z
DTSTART:20250921T230000Z
DTEND:20250922T002000Z
LOCATION:South Rink
CONTACT:
SUMMARY:Hardwoods VS. Martians
DESCRIPTION:League Name: Adult League Fall 2025\nGame Type: Regular\nGame S
 tatus: Complete\nHome Team: Hardwoods\nAway Team: Martians\nHome Score: 8\
 nAway Score: 10
END:VEVENT
BEGIN:VEVENT
UID:16677135@ezleagues.ezfacility.com
DTSTAMP:20260426T033603Z
CREATED:20260426T033603Z
DTSTART:20251001T014000Z
DTEND:20251001T030000Z
LOCATION:South Rink
CONTACT:
SUMMARY:Krow Rising VS. Hardwoods
DESCRIPTION:League Name: Adult League Fall 2025\nGame Type: Regular\nGame S
 tatus: Complete\nHome Team: Krow Rising\nAway Team: Hardwoods\nHome Score:
  1\nAway Score: 9
END:VEVENT
BEGIN:VEVENT
UID:16763740@ezleagues.ezfacility.com
DTSTAMP:20260426T033603Z
CREATED:20260426T033603Z
DTSTART:20251019T230000Z
DTEND:20251020T002000Z
LOCATION:South Rink
CONTACT:
SUMMARY:Hardwoods VS. Cold Brews
DESCRIPTION:League Name: Adult League Fall 2025\nGame Type: Regular\nGame S
 tatus: Complete\nHome Team: Hardwoods\nAway Team: Cold Brews\nHome Score: 
 8\nAway Score: 4
END:VEVENT
BEGIN:VEVENT
UID:16763748@ezleagues.ezfacility.com
DTSTAMP:20260426T033603Z
CREATED:20260426T033603Z
DTSTART:20251027T020000Z
DTEND:20251027T032000Z
LOCATION:South Rink
CONTACT:
SUMMARY:Duneland Ducks VS. Hardwoods
DESCRIPTION:League Name: Adult League Fall 2025\nGame Type: Regular\nGame S
 tatus: Complete\nHome Team: Duneland Ducks\nAway Team: Hardwoods\nHome Sco
 re: 3\nAway Score: 10
END:VEVENT
BEGIN:VEVENT
UID:16763751@ezleagues.ezfacility.com
DTSTAMP:20260426T033603Z
CREATED:20260426T033603Z
DTSTART:20251103T013000Z
DTEND:20251103T025000Z
LOCATION:South Rink
CONTACT:
SUMMARY:Hardwoods VS. Martians
DESCRIPTION:League Name: Adult League Fall 2025\nGame Type: Regular\nGame S
 tatus: Complete\nHome Team: Hardwoods\nAway Team: Martians\nHome Score: 5\
 nAway Score: 4
END:VEVENT
BEGIN:VEVENT
UID:16763756@ezleagues.ezfacility.com
DTSTAMP:20260426T033603Z
CREATED:20260426T033603Z
DTSTART:20251110T000000Z
DTEND:20251110T012000Z
LOCATION:South Rink
CONTACT:
SUMMARY:Hardwoods VS. 2 Girls\,  1 Puck
DESCRIPTION:League Name: Adult League Fall 2025\nGame Type: Regular\nGame S
 tatus: Complete\nHome Team: Hardwoods\nAway Team: 2 Girls,  1 Puck\nHome S
 core: 7\nAway Score: 2
END:VEVENT
BEGIN:VEVENT
UID:16763761@ezleagues.ezfacility.com
DTSTAMP:20260426T033603Z
CREATED:20260426T033603Z
DTSTART:20251117T000000Z
DTEND:20251117T012000Z
LOCATION:South Rink
CONTACT:
SUMMARY:Last Call VS. Hardwoods
DESCRIPTION:League Name: Adult League Fall 2025\nGame Type: Regular\nGame S
 tatus: Complete\nHome Team: Last Call\nAway Team: Hardwoods\nHome Score: 5
 \nAway Score: 6
END:VEVENT
BEGIN:VEVENT
UID:16779731@ezleagues.ezfacility.com
DTSTAMP:20260426T033603Z
CREATED:20260426T033603Z
DTSTART:20251123T022000Z
DTEND:20251123T034000Z
LOCATION:South Rink
CONTACT:
SUMMARY:ITC VS. Hardwoods
DESCRIPTION:League Name: Adult League Fall 2025\nGame Type: Regular\nGame S
 tatus: Complete\nHome Team: ITC\nAway Team: Hardwoods\nHome Score: 8\nAway
  Score: 3
END:VEVENT
BEGIN:VEVENT
UID:16763769@ezleagues.ezfacility.com
DTSTAMP:20260426T033603Z
CREATED:20260426T033603Z
DTSTART:20251126T024000Z
DTEND:20251126T040000Z
LOCATION:South Rink
CONTACT:
SUMMARY:Hardwoods VS. Puckin Cold Ones
DESCRIPTION:League Name: Adult League Fall 2025\nGame Type: Regular\nGame S
 tatus: Complete\nHome Team: Hardwoods\nAway Team: Puckin Cold Ones\nHome S
 core: 13\nAway Score: 1
END:VEVENT
BEGIN:VEVENT
UID:16763838@ezleagues.ezfacility.com
DTSTAMP:20260426T033603Z
CREATED:20260426T033603Z
DTSTART:20251201T030000Z
DTEND:20251201T042000Z
LOCATION:South Rink
CONTACT:
SUMMARY:Hardwoods VS. ITC
DESCRIPTION:League Name: Adult League Fall 2025\nGame Type: Regular\nGame S
 tatus: Complete\nHome Team: Hardwoods\nAway Team: ITC\nHome Score: 10\nAwa
 y Score: 4
END:VEVENT
BEGIN:VEVENT
UID:16763839@ezleagues.ezfacility.com
DTSTAMP:20260426T033603Z
CREATED:20260426T033603Z
DTSTART:20251203T024000Z
DTEND:20251203T040000Z
LOCATION:South Rink
CONTACT:
SUMMARY:Hardwoods VS. SNS
DESCRIPTION:League Name: Adult League Fall 2025\nGame Type: Regular\nGame S
 tatus: Complete\nHome Team: Hardwoods\nAway Team: SNS\nHome Score: 6\nAway
  Score: 4
END:VEVENT
BEGIN:VEVENT
UID:16889174@ezleagues.ezfacility.com
DTSTAMP:20260426T033603Z
CREATED:20260426T033603Z
DTSTART:20251208T020000Z
DTEND:20251208T032000Z
LOCATION:South Rink
CONTACT:
SUMMARY:Hardwoods VS. Martians
DESCRIPTION:League Name: Adult League Fall 2025\nGame Type: Postseason\nGam
 e Status: Complete\nHome Team: Hardwoods\nAway Team: Martians\nHome Score:
  11\nAway Score: 6
END:VEVENT
BEGIN:VEVENT
UID:16889203@ezleagues.ezfacility.com
DTSTAMP:20260426T033603Z
CREATED:20260426T033603Z
DTSTART:20251215T010000Z
DTEND:20251215T022000Z
LOCATION:South Rink
CONTACT:
SUMMARY:ITC VS. Hardwoods
DESCRIPTION:League Name: Adult League Fall 2025\nGame Type: Postseason\nGam
 e Status: Complete\nHome Team: ITC\nAway Team: Hardwoods\nHome Score: 1\nA
 way Score: 4
END:VEVENT
END:VCALENDAR
