BEGIN:VCALENDAR
VERSION:2.0
PRODID:-//EZFacility.com, Inc.//EZL 2.5.5.28621
BEGIN:VEVENT
UID:16677127@ezleagues.ezfacility.com
DTSTAMP:20260424T044043Z
CREATED:20260424T044043Z
DTSTART:20250921T230000Z
DTEND:20250922T002000Z
LOCATION:South Rink
CONTACT:
SUMMARY:Hardwoods VS. Martians
DESCRIPTION:League Name: Adult League Fall 2025\nGame Type: Regular\nGame S
 tatus: Complete\nHome Team: Hardwoods\nAway Team: Martians\nHome Score: 8\
 nAway Score: 10
END:VEVENT
BEGIN:VEVENT
UID:16677134@ezleagues.ezfacility.com
DTSTAMP:20260424T044043Z
CREATED:20260424T044043Z
DTSTART:20250929T020000Z
DTEND:20250929T032000Z
LOCATION:South Rink
CONTACT:
SUMMARY:Duneland Ducks VS. Martians
DESCRIPTION:League Name: Adult League Fall 2025\nGame Type: Regular\nGame S
 tatus: Complete\nHome Team: Duneland Ducks\nAway Team: Martians\nHome Scor
 e: 7\nAway Score: 9
END:VEVENT
BEGIN:VEVENT
UID:16742504@ezleagues.ezfacility.com
DTSTAMP:20260424T044043Z
CREATED:20260424T044043Z
DTSTART:20251008T014000Z
DTEND:20251008T030000Z
LOCATION:South Rink
CONTACT:
SUMMARY:SNS VS. Martians
DESCRIPTION:League Name: Adult League Fall 2025\nGame Type: Regular\nGame S
 tatus: Complete\nHome Team: SNS\nAway Team: Martians\nHome Score: 6\nAway 
 Score: 7
END:VEVENT
BEGIN:VEVENT
UID:16763739@ezleagues.ezfacility.com
DTSTAMP:20260424T044043Z
CREATED:20260424T044043Z
DTSTART:20251015T031000Z
DTEND:20251015T043000Z
LOCATION:South Rink
CONTACT:
SUMMARY:Martians VS. Puckin Cold Ones
DESCRIPTION:League Name: Adult League Fall 2025\nGame Type: Regular\nGame S
 tatus: Complete\nHome Team: Martians\nAway Team: Puckin Cold Ones\nHome Sc
 ore: 4\nAway Score: 0
END:VEVENT
BEGIN:VEVENT
UID:16763741@ezleagues.ezfacility.com
DTSTAMP:20260424T044043Z
CREATED:20260424T044043Z
DTSTART:20251020T003000Z
DTEND:20251020T015000Z
LOCATION:South Rink
CONTACT:
SUMMARY:Martians VS. 2 Girls\,  1 Puck
DESCRIPTION:League Name: Adult League Fall 2025\nGame Type: Regular\nGame S
 tatus: Complete\nHome Team: Martians\nAway Team: 2 Girls,  1 Puck\nHome Sc
 ore: 8\nAway Score: 4
END:VEVENT
BEGIN:VEVENT
UID:16763749@ezleagues.ezfacility.com
DTSTAMP:20260424T044043Z
CREATED:20260424T044043Z
DTSTART:20251029T014000Z
DTEND:20251029T030000Z
LOCATION:South Rink
CONTACT:
SUMMARY:ITC VS. Martians
DESCRIPTION:League Name: Adult League Fall 2025\nGame Type: Regular\nGame S
 tatus: Complete\nHome Team: ITC\nAway Team: Martians\nHome Score: 8\nAway 
 Score: 3
END:VEVENT
BEGIN:VEVENT
UID:16763751@ezleagues.ezfacility.com
DTSTAMP:20260424T044043Z
CREATED:20260424T044043Z
DTSTART:20251103T013000Z
DTEND:20251103T025000Z
LOCATION:South Rink
CONTACT:
SUMMARY:Hardwoods VS. Martians
DESCRIPTION:League Name: Adult League Fall 2025\nGame Type: Regular\nGame S
 tatus: Complete\nHome Team: Hardwoods\nAway Team: Martians\nHome Score: 5\
 nAway Score: 4
END:VEVENT
BEGIN:VEVENT
UID:16763758@ezleagues.ezfacility.com
DTSTAMP:20260424T044043Z
CREATED:20260424T044043Z
DTSTART:20251110T030000Z
DTEND:20251110T042000Z
LOCATION:South Rink
CONTACT:
SUMMARY:Last Call VS. Martians
DESCRIPTION:League Name: Adult League Fall 2025\nGame Type: Regular\nGame S
 tatus: Complete\nHome Team: Last Call\nAway Team: Martians\nHome Score: 6\
 nAway Score: 10
END:VEVENT
BEGIN:VEVENT
UID:16763762@ezleagues.ezfacility.com
DTSTAMP:20260424T044043Z
CREATED:20260424T044043Z
DTSTART:20251117T013000Z
DTEND:20251117T025000Z
LOCATION:South Rink
CONTACT:
SUMMARY:Martians VS. SNS
DESCRIPTION:League Name: Adult League Fall 2025\nGame Type: Regular\nGame S
 tatus: Complete\nHome Team: Martians\nAway Team: SNS\nHome Score: 7\nAway 
 Score: 9
END:VEVENT
BEGIN:VEVENT
UID:16763770@ezleagues.ezfacility.com
DTSTAMP:20260424T044043Z
CREATED:20260424T044043Z
DTSTART:20251126T041000Z
DTEND:20251126T053000Z
LOCATION:South Rink
CONTACT:
SUMMARY:Martians VS. Cold Brews
DESCRIPTION:League Name: Adult League Fall 2025\nGame Type: Regular\nGame S
 tatus: Complete\nHome Team: Martians\nAway Team: Cold Brews\nHome Score: 1
 0\nAway Score: 3
END:VEVENT
BEGIN:VEVENT
UID:16771103@ezleagues.ezfacility.com
DTSTAMP:20260424T044043Z
CREATED:20260424T044043Z
DTSTART:20251203T041000Z
DTEND:20251203T053000Z
LOCATION:South Rink
CONTACT:
SUMMARY:Krow Rising VS. Martians
DESCRIPTION:League Name: Adult League Fall 2025\nGame Type: Regular\nGame S
 tatus: Complete\nHome Team: Krow Rising\nAway Team: Martians\nHome Score: 
 11\nAway Score: 14
END:VEVENT
BEGIN:VEVENT
UID:16889174@ezleagues.ezfacility.com
DTSTAMP:20260424T044043Z
CREATED:20260424T044043Z
DTSTART:20251208T020000Z
DTEND:20251208T032000Z
LOCATION:South Rink
CONTACT:
SUMMARY:Hardwoods VS. Martians
DESCRIPTION:League Name: Adult League Fall 2025\nGame Type: Postseason\nGam
 e Status: Complete\nHome Team: Hardwoods\nAway Team: Martians\nHome Score:
  11\nAway Score: 6
END:VEVENT
END:VCALENDAR
