BEGIN:VCALENDAR
VERSION:2.0
PRODID:-//EZFacility.com, Inc.//EZL 2.5.5.28621
BEGIN:VEVENT
UID:16677965@ezleagues.ezfacility.com
DTSTAMP:20260426T033645Z
CREATED:20260426T033645Z
DTSTART:20250918T220000Z
DTEND:20250918T223000Z
LOCATION:Pickleball 3
CONTACT:
SUMMARY:The Volley Llamas VS. Net Results
DESCRIPTION:League Name: Fall Beginner Pickleball League\nGame Type: Regula
 r\nGame Status: Complete\nHome Team: The Volley Llamas\nAway Team: Net Res
 ults\nHome Score: 22\nAway Score: 2
END:VEVENT
BEGIN:VEVENT
UID:16677954@ezleagues.ezfacility.com
DTSTAMP:20260426T033645Z
CREATED:20260426T033645Z
DTSTART:20250918T223000Z
DTEND:20250918T230000Z
LOCATION:Pickleball 1
CONTACT:
SUMMARY:The Volley Llamas VS. Mango Pickle
DESCRIPTION:League Name: Fall Beginner Pickleball League\nGame Type: Regula
 r\nGame Status: Complete\nHome Team: The Volley Llamas\nAway Team: Mango P
 ickle\nHome Score: 22\nAway Score: 7
END:VEVENT
BEGIN:VEVENT
UID:16677957@ezleagues.ezfacility.com
DTSTAMP:20260426T033645Z
CREATED:20260426T033645Z
DTSTART:20250925T220000Z
DTEND:20250925T223000Z
LOCATION:Pickleball 1
CONTACT:
SUMMARY:The Volley Llamas VS. R^2
DESCRIPTION:League Name: Fall Beginner Pickleball League\nGame Type: Regula
 r\nGame Status: Complete\nHome Team: The Volley Llamas\nAway Team: R^2\nHo
 me Score: 22\nAway Score: 4
END:VEVENT
BEGIN:VEVENT
UID:16677951@ezleagues.ezfacility.com
DTSTAMP:20260426T033645Z
CREATED:20260426T033645Z
DTSTART:20251002T220000Z
DTEND:20251002T223000Z
LOCATION:Pickleball 2
CONTACT:
SUMMARY:The Volley Llamas VS. Sheetz Smackers
DESCRIPTION:League Name: Fall Beginner Pickleball League\nGame Type: Regula
 r\nGame Status: Complete\nHome Team: The Volley Llamas\nAway Team: Sheetz 
 Smackers\nHome Score: 18\nAway Score: 23
END:VEVENT
BEGIN:VEVENT
UID:16677970@ezleagues.ezfacility.com
DTSTAMP:20260426T033645Z
CREATED:20260426T033645Z
DTSTART:20251002T223000Z
DTEND:20251002T230000Z
LOCATION:Pickleball 4
CONTACT:
SUMMARY:McKilljoys VS. The Volley Llamas
DESCRIPTION:League Name: Fall Beginner Pickleball League\nGame Type: Regula
 r\nGame Status: Complete\nHome Team: McKilljoys\nAway Team: The Volley Lla
 mas\nHome Score: 10\nAway Score: 22
END:VEVENT
BEGIN:VEVENT
UID:16677975@ezleagues.ezfacility.com
DTSTAMP:20260426T033645Z
CREATED:20260426T033645Z
DTSTART:20251009T220000Z
DTEND:20251009T223000Z
LOCATION:Pickleball 2
CONTACT:
SUMMARY:Snerr VS. The Volley Llamas
DESCRIPTION:League Name: Fall Beginner Pickleball League\nGame Type: Regula
 r\nGame Status: Complete\nHome Team: Snerr\nAway Team: The Volley Llamas\n
 Home Score: 4\nAway Score: 22
END:VEVENT
BEGIN:VEVENT
UID:16677979@ezleagues.ezfacility.com
DTSTAMP:20260426T033645Z
CREATED:20260426T033645Z
DTSTART:20251009T223000Z
DTEND:20251009T230000Z
LOCATION:Pickleball 2
CONTACT:
SUMMARY:Sheetz Smackers VS. The Volley Llamas
DESCRIPTION:League Name: Fall Beginner Pickleball League\nGame Type: Regula
 r\nGame Status: Complete\nHome Team: Sheetz Smackers\nAway Team: The Volle
 y Llamas\nHome Score: 24\nAway Score: 16
END:VEVENT
BEGIN:VEVENT
UID:16677985@ezleagues.ezfacility.com
DTSTAMP:20260426T033645Z
CREATED:20260426T033645Z
DTSTART:20251016T220000Z
DTEND:20251016T223000Z
LOCATION:Pickleball 2
CONTACT:
SUMMARY:R^2 VS. The Volley Llamas
DESCRIPTION:League Name: Fall Beginner Pickleball League\nGame Type: Regula
 r\nGame Status: Complete\nHome Team: R^2\nAway Team: The Volley Llamas\nHo
 me Score: 3\nAway Score: 22
END:VEVENT
BEGIN:VEVENT
UID:16678003@ezleagues.ezfacility.com
DTSTAMP:20260426T033645Z
CREATED:20260426T033645Z
DTSTART:20251016T223000Z
DTEND:20251016T230000Z
LOCATION:Pickleball 3
CONTACT:
SUMMARY:The Volley Llamas VS. Snerr
DESCRIPTION:League Name: Fall Beginner Pickleball League\nGame Type: Regula
 r\nGame Status: Complete\nHome Team: The Volley Llamas\nAway Team: Snerr\n
 Home Score: 22\nAway Score: 5
END:VEVENT
BEGIN:VEVENT
UID:16678010@ezleagues.ezfacility.com
DTSTAMP:20260426T033645Z
CREATED:20260426T033645Z
DTSTART:20251023T220000Z
DTEND:20251023T223000Z
LOCATION:Pickleball 3
CONTACT:
SUMMARY:Mango Pickle VS. The Volley Llamas
DESCRIPTION:League Name: Fall Beginner Pickleball League\nGame Type: Regula
 r\nGame Status: Complete\nHome Team: Mango Pickle\nAway Team: The Volley L
 lamas\nHome Score: 14\nAway Score: 22
END:VEVENT
BEGIN:VEVENT
UID:16677998@ezleagues.ezfacility.com
DTSTAMP:20260426T033645Z
CREATED:20260426T033645Z
DTSTART:20251023T223000Z
DTEND:20251023T230000Z
LOCATION:Pickleball 1
CONTACT:
SUMMARY:The Volley Llamas VS. McKilljoys
DESCRIPTION:League Name: Fall Beginner Pickleball League\nGame Type: Regula
 r\nGame Status: Complete\nHome Team: The Volley Llamas\nAway Team: McKillj
 oys\nHome Score: 31\nAway Score: 24
END:VEVENT
END:VCALENDAR
