BEGIN:VCALENDAR
VERSION:2.0
PRODID:-//EZFacility.com, Inc.//EZL 2.5.5.28621
BEGIN:VEVENT
UID:16678833@ezleagues.ezfacility.com
DTSTAMP:20260424T043259Z
CREATED:20260424T043259Z
DTSTART:20250924T000000Z
DTEND:20250924T010000Z
LOCATION:Field 1
CONTACT:
SUMMARY:Purple Thunder (purple) VS. Look Ma\, No Hands (gray)
DESCRIPTION:League Name: Ladies - Fall 2025\nGame Type: Regular\nGame Statu
 s: Complete\nHome Team: Purple Thunder (purple)\nAway Team: Look Ma, No Ha
 nds (gray)\nHome Score: 11\nAway Score: 1
END:VEVENT
BEGIN:VEVENT
UID:16678835@ezleagues.ezfacility.com
DTSTAMP:20260424T043259Z
CREATED:20260424T043259Z
DTSTART:20251001T000000Z
DTEND:20251001T010000Z
LOCATION:Field 3
CONTACT:
SUMMARY:Purple Thunder (purple) VS. Warriors PA (white)
DESCRIPTION:League Name: Ladies - Fall 2025\nGame Type: Regular\nGame Statu
 s: Complete\nHome Team: Purple Thunder (purple)\nAway Team: Warriors PA (w
 hite)\nHome Score: 11\nAway Score: 1
END:VEVENT
BEGIN:VEVENT
UID:16678837@ezleagues.ezfacility.com
DTSTAMP:20260424T043259Z
CREATED:20260424T043259Z
DTSTART:20251008T000000Z
DTEND:20251008T010000Z
LOCATION:Field 1
CONTACT:
SUMMARY:A.A. (red) VS. Purple Thunder (purple)
DESCRIPTION:League Name: Ladies - Fall 2025\nGame Type: Regular\nGame Statu
 s: Complete\nHome Team: A.A. (red)\nAway Team: Purple Thunder (purple)\nHo
 me Score: 3\nAway Score: 10
END:VEVENT
BEGIN:VEVENT
UID:16678841@ezleagues.ezfacility.com
DTSTAMP:20260424T043259Z
CREATED:20260424T043259Z
DTSTART:20251015T000000Z
DTEND:20251015T010000Z
LOCATION:Field 3
CONTACT:
SUMMARY:Purple Thunder (purple) VS. Xtreme (blue)
DESCRIPTION:League Name: Ladies - Fall 2025\nGame Type: Regular\nGame Statu
 s: Complete\nHome Team: Purple Thunder (purple)\nAway Team: Xtreme (blue)\
 nHome Score: 9\nAway Score: 4
END:VEVENT
BEGIN:VEVENT
UID:16678848@ezleagues.ezfacility.com
DTSTAMP:20260424T043259Z
CREATED:20260424T043259Z
DTSTART:20251029T010000Z
DTEND:20251029T020000Z
LOCATION:Field 3
CONTACT:
SUMMARY:Look Ma\, No Hands (gray) VS. Purple Thunder (purple)
DESCRIPTION:League Name: Ladies - Fall 2025\nGame Type: Regular\nGame Statu
 s: Complete\nHome Team: Look Ma, No Hands (gray)\nAway Team: Purple Thunde
 r (purple)\nHome Score: 2\nAway Score: 12
END:VEVENT
BEGIN:VEVENT
UID:16678850@ezleagues.ezfacility.com
DTSTAMP:20260424T043259Z
CREATED:20260424T043259Z
DTSTART:20251112T030000Z
DTEND:20251112T040000Z
LOCATION:Field 1
CONTACT:
SUMMARY:Warriors PA (white) VS. Purple Thunder (purple)
DESCRIPTION:League Name: Ladies - Fall 2025\nGame Type: Regular\nGame Statu
 s: Complete\nHome Team: Warriors PA (white)\nAway Team: Purple Thunder (pu
 rple)\nHome Score: 1\nAway Score: 8
END:VEVENT
BEGIN:VEVENT
UID:16779197@ezleagues.ezfacility.com
DTSTAMP:20260424T043259Z
CREATED:20260424T043259Z
DTSTART:20251119T020000Z
DTEND:20251119T030000Z
LOCATION:Field 2
CONTACT:
SUMMARY:Purple Thunder (purple) VS. Look Ma\, No Hands (gray)
DESCRIPTION:League Name: Ladies - Fall 2025\nGame Type: Postseason\nGame St
 atus: Complete\nHome Team: Purple Thunder (purple)\nAway Team: Look Ma, No
  Hands (gray)\nHome Score: 10\nAway Score: 0
END:VEVENT
BEGIN:VEVENT
UID:16779199@ezleagues.ezfacility.com
DTSTAMP:20260424T043259Z
CREATED:20260424T043259Z
DTSTART:20251119T030000Z
DTEND:20251119T040000Z
LOCATION:Field 3
CONTACT:
SUMMARY:Purple Thunder (purple) VS. A.A. (red)
DESCRIPTION:League Name: Ladies - Fall 2025\nGame Type: Postseason\nGame St
 atus: Complete\nHome Team: Purple Thunder (purple)\nAway Team: A.A. (red)\
 nHome Score: 7\nAway Score: 2
END:VEVENT
END:VCALENDAR
