BEGIN:VCALENDAR
VERSION:2.0
PRODID:-//EZFacility.com, Inc.//EZL 2.5.5.28621
BEGIN:VEVENT
UID:16688935@ezleagues.ezfacility.com
DTSTAMP:20260421T151651Z
CREATED:20260421T151651Z
DTSTART:20250924T003000Z
DTEND:20250924T013000Z
LOCATION:AHN Field 3
CONTACT:
SUMMARY:Team Yellow VS. Team Red
DESCRIPTION:League Name: Adult Coed Draft League (Fall 2025)\nGame Type: Re
 gular\nGame Status: Complete\nHome Team: Team Yellow\nAway Team: Team Red\
 nHome Score: 3\nAway Score: 4
END:VEVENT
BEGIN:VEVENT
UID:16688938@ezleagues.ezfacility.com
DTSTAMP:20260421T151651Z
CREATED:20260421T151651Z
DTSTART:20251001T003000Z
DTEND:20251001T013000Z
LOCATION:AHN Field 1
CONTACT:
SUMMARY:Team Green VS. Team Red
DESCRIPTION:League Name: Adult Coed Draft League (Fall 2025)\nGame Type: Re
 gular\nGame Status: Complete\nHome Team: Team Green\nAway Team: Team Red\n
 Home Score: 4\nAway Score: 5
END:VEVENT
BEGIN:VEVENT
UID:16688940@ezleagues.ezfacility.com
DTSTAMP:20260421T151651Z
CREATED:20260421T151651Z
DTSTART:20251008T003000Z
DTEND:20251008T013000Z
LOCATION:AHN Field 2
CONTACT:
SUMMARY:Team White VS. Team Red
DESCRIPTION:League Name: Adult Coed Draft League (Fall 2025)\nGame Type: Re
 gular\nGame Status: Complete\nHome Team: Team White\nAway Team: Team Red\n
 Home Score: 5\nAway Score: 6
END:VEVENT
BEGIN:VEVENT
UID:16688942@ezleagues.ezfacility.com
DTSTAMP:20260421T151651Z
CREATED:20260421T151651Z
DTSTART:20251015T003000Z
DTEND:20251015T013000Z
LOCATION:AHN Field 2
CONTACT:
SUMMARY:Team Red VS. Team Blue
DESCRIPTION:League Name: Adult Coed Draft League (Fall 2025)\nGame Type: Re
 gular\nGame Status: Complete\nHome Team: Team Red\nAway Team: Team Blue\nH
 ome Score: 1\nAway Score: 0
END:VEVENT
BEGIN:VEVENT
UID:16688946@ezleagues.ezfacility.com
DTSTAMP:20260421T151651Z
CREATED:20260421T151651Z
DTSTART:20251022T003000Z
DTEND:20251022T013000Z
LOCATION:AHN Field 1
CONTACT:
SUMMARY:Team Red VS. Team Orange
DESCRIPTION:League Name: Adult Coed Draft League (Fall 2025)\nGame Type: Re
 gular\nGame Status: Complete\nHome Team: Team Red\nAway Team: Team Orange\
 nHome Score: 3\nAway Score: 4
END:VEVENT
BEGIN:VEVENT
UID:16688950@ezleagues.ezfacility.com
DTSTAMP:20260421T151651Z
CREATED:20260421T151651Z
DTSTART:20251029T003000Z
DTEND:20251029T013000Z
LOCATION:AHN Field 3
CONTACT:
SUMMARY:Team Red VS. Team Yellow
DESCRIPTION:League Name: Adult Coed Draft League (Fall 2025)\nGame Type: Re
 gular\nGame Status: Complete\nHome Team: Team Red\nAway Team: Team Yellow\
 nHome Score: 5\nAway Score: 1
END:VEVENT
BEGIN:VEVENT
UID:16820447@ezleagues.ezfacility.com
DTSTAMP:20260421T151651Z
CREATED:20260421T151651Z
DTSTART:20251112T013000Z
DTEND:20251112T023000Z
LOCATION:AHN Field 2
CONTACT:
SUMMARY:Team Red VS. Team Green
DESCRIPTION:League Name: Adult Coed Draft League (Fall 2025)\nGame Type: Po
 stseason\nGame Status: Complete\nHome Team: Team Red\nAway Team: Team Gree
 n\nHome Score: 2\nAway Score: 4
END:VEVENT
END:VCALENDAR
