BEGIN:VCALENDAR
VERSION:2.0
PRODID:-//EZFacility.com, Inc.//EZL 2.5.5.28621
BEGIN:VEVENT
UID:16691119@ezleagues.ezfacility.com
DTSTAMP:20260426T033627Z
CREATED:20260426T033627Z
DTSTART:20250921T233000Z
DTEND:20250922T001500Z
LOCATION:Memorial field 1
CONTACT:
SUMMARY:Ball Busters  VS. Cameron Hall
DESCRIPTION:League Name: 2025-26-Intramural Outdoor Soccer 6v6 - Mixed Rec 
 Division\nGame Type: Regular\nGame Status: Complete\nHome Team: Ball Buste
 rs \nAway Team: Cameron Hall\nHome Score: 0\nAway Score: 5
END:VEVENT
BEGIN:VEVENT
UID:16691158@ezleagues.ezfacility.com
DTSTAMP:20260426T033627Z
CREATED:20260426T033627Z
DTSTART:20250924T010000Z
DTEND:20250924T014500Z
LOCATION:Memorial field 1
CONTACT:
SUMMARY:Ball Busters  VS. Pints Before Play
DESCRIPTION:League Name: 2025-26-Intramural Outdoor Soccer 6v6 - Mixed Rec 
 Division\nGame Type: Regular\nGame Status: Complete\nHome Team: Ball Buste
 rs \nAway Team: Pints Before Play\nHome Score: 2\nAway Score: 2
END:VEVENT
BEGIN:VEVENT
UID:16691132@ezleagues.ezfacility.com
DTSTAMP:20260426T033627Z
CREATED:20260426T033627Z
DTSTART:20250929T001500Z
DTEND:20250929T010000Z
LOCATION:Memorial field 2
CONTACT:
SUMMARY:free agents  VS. Ball Busters 
DESCRIPTION:League Name: 2025-26-Intramural Outdoor Soccer 6v6 - Mixed Rec 
 Division\nGame Type: Regular\nGame Status: Complete\nHome Team: free agent
 s \nAway Team: Ball Busters \nHome Score: 0\nAway Score: 3
END:VEVENT
BEGIN:VEVENT
UID:16691145@ezleagues.ezfacility.com
DTSTAMP:20260426T033627Z
CREATED:20260426T033627Z
DTSTART:20251006T014500Z
DTEND:20251006T023000Z
LOCATION:Memorial field 1
CONTACT:
SUMMARY:Mac Dawgs VS. Ball Busters 
DESCRIPTION:League Name: 2025-26-Intramural Outdoor Soccer 6v6 - Mixed Rec 
 Division\nGame Type: Regular\nGame Status: Complete\nHome Team: Mac Dawgs\
 nAway Team: Ball Busters \nHome Score: 4\nAway Score: 3
END:VEVENT
END:VCALENDAR
