BEGIN:VCALENDAR
VERSION:2.0
PRODID:-//EZFacility.com, Inc.//EZL 2.5.5.28621
BEGIN:VEVENT
UID:16690889@ezleagues.ezfacility.com
DTSTAMP:20260421T173526Z
CREATED:20260421T173526Z
DTSTART:20250915T230000Z
DTEND:20250916T000000Z
LOCATION:Turf 2
CONTACT:
SUMMARY:SMAST FC   VS. KFC   
DESCRIPTION:League Name: CO-ED B SOCCER (SEPT.2025)\nGame Type: Regular\nGa
 me Status: Complete\nHome Team: SMAST FC  \nAway Team: KFC   \nHome Score:
  5\nAway Score: 6
END:VEVENT
BEGIN:VEVENT
UID:16690897@ezleagues.ezfacility.com
DTSTAMP:20260421T173526Z
CREATED:20260421T173526Z
DTSTART:20250923T000000Z
DTEND:20250923T010000Z
LOCATION:Turf 2
CONTACT:
SUMMARY:Sacks  Racks United VS. SMAST FC  
DESCRIPTION:League Name: CO-ED B SOCCER (SEPT.2025)\nGame Type: Regular\nGa
 me Status: Complete\nHome Team: Sacks  Racks United\nAway Team: SMAST FC  
 \nHome Score: 4\nAway Score: 12
END:VEVENT
BEGIN:VEVENT
UID:16690900@ezleagues.ezfacility.com
DTSTAMP:20260421T173526Z
CREATED:20260421T173526Z
DTSTART:20250930T000000Z
DTEND:20250930T010000Z
LOCATION:Turf 1
CONTACT:
SUMMARY:SMAST FC   VS. Torpedhoes
DESCRIPTION:League Name: CO-ED B SOCCER (SEPT.2025)\nGame Type: Regular\nGa
 me Status: Complete\nHome Team: SMAST FC  \nAway Team: Torpedhoes\nHome Sc
 ore: 11\nAway Score: 1
END:VEVENT
BEGIN:VEVENT
UID:16690906@ezleagues.ezfacility.com
DTSTAMP:20260421T173526Z
CREATED:20260421T173526Z
DTSTART:20251006T230000Z
DTEND:20251007T000000Z
LOCATION:Turf 2
CONTACT:
SUMMARY:Cleats and Cleavage VS. SMAST FC  
DESCRIPTION:League Name: CO-ED B SOCCER (SEPT.2025)\nGame Type: Regular\nGa
 me Status: Complete\nHome Team: Cleats and Cleavage\nAway Team: SMAST FC  
 \nHome Score: 1\nAway Score: 3
END:VEVENT
BEGIN:VEVENT
UID:16756764@ezleagues.ezfacility.com
DTSTAMP:20260421T173526Z
CREATED:20260421T173526Z
DTSTART:20251014T000000Z
DTEND:20251014T010000Z
LOCATION:Turf 1
CONTACT:
SUMMARY:Prestige Worldwide  VS. SMAST FC  
DESCRIPTION:League Name: CO-ED B SOCCER (SEPT.2025)\nGame Type: Regular\nGa
 me Status: Complete\nHome Team: Prestige Worldwide \nAway Team: SMAST FC  
 \nHome Score: 3\nAway Score: 1
END:VEVENT
BEGIN:VEVENT
UID:16756768@ezleagues.ezfacility.com
DTSTAMP:20260421T173526Z
CREATED:20260421T173526Z
DTSTART:20251020T230000Z
DTEND:20251021T000000Z
LOCATION:Turf 1
CONTACT:
SUMMARY:SMAST FC   VS. Belmont FC
DESCRIPTION:League Name: CO-ED B SOCCER (SEPT.2025)\nGame Type: Regular\nGa
 me Status: Complete\nHome Team: SMAST FC  \nAway Team: Belmont FC\nHome Sc
 ore: 4\nAway Score: 8
END:VEVENT
BEGIN:VEVENT
UID:16756775@ezleagues.ezfacility.com
DTSTAMP:20260421T173526Z
CREATED:20260421T173526Z
DTSTART:20251028T010000Z
DTEND:20251028T020000Z
LOCATION:Turf 1
CONTACT:
SUMMARY:Venom    VS. SMAST FC  
DESCRIPTION:League Name: CO-ED B SOCCER (SEPT.2025)\nGame Type: Regular\nGa
 me Status: Complete\nHome Team: Venom   \nAway Team: SMAST FC  \nHome Scor
 e: 4\nAway Score: 3
END:VEVENT
BEGIN:VEVENT
UID:16756779@ezleagues.ezfacility.com
DTSTAMP:20260421T173526Z
CREATED:20260421T173526Z
DTSTART:20251104T010000Z
DTEND:20251104T020000Z
LOCATION:Turf 1
CONTACT:
SUMMARY:SMAST FC   VS. Sphinx FC  
DESCRIPTION:League Name: CO-ED B SOCCER (SEPT.2025)\nGame Type: Regular\nGa
 me Status: Complete\nHome Team: SMAST FC  \nAway Team: Sphinx FC  \nHome S
 core: 1\nAway Score: 0
END:VEVENT
BEGIN:VEVENT
UID:16756784@ezleagues.ezfacility.com
DTSTAMP:20260421T173526Z
CREATED:20260421T173526Z
DTSTART:20251111T010000Z
DTEND:20251111T020000Z
LOCATION:Turf 1
CONTACT:
SUMMARY:SMAST FC   VS. Citizens FC
DESCRIPTION:League Name: CO-ED B SOCCER (SEPT.2025)\nGame Type: Regular\nGa
 me Status: Complete\nHome Team: SMAST FC  \nAway Team: Citizens FC\nHome S
 core: 7\nAway Score: 5
END:VEVENT
BEGIN:VEVENT
UID:16756788@ezleagues.ezfacility.com
DTSTAMP:20260421T173526Z
CREATED:20260421T173526Z
DTSTART:20251118T000000Z
DTEND:20251118T010000Z
LOCATION:Turf 1
CONTACT:
SUMMARY:Cleats and Cleavage VS. SMAST FC  
DESCRIPTION:League Name: CO-ED B SOCCER (SEPT.2025)\nGame Type: Regular\nGa
 me Status: Complete\nHome Team: Cleats and Cleavage\nAway Team: SMAST FC  
 \nHome Score: 8\nAway Score: 2
END:VEVENT
BEGIN:VEVENT
UID:16756793@ezleagues.ezfacility.com
DTSTAMP:20260421T173526Z
CREATED:20260421T173526Z
DTSTART:20251125T000000Z
DTEND:20251125T010000Z
LOCATION:Turf 1
CONTACT:
SUMMARY:SMAST FC   VS. Sacks  Racks United
DESCRIPTION:League Name: CO-ED B SOCCER (SEPT.2025)\nGame Type: Regular\nGa
 me Status: Complete\nHome Team: SMAST FC  \nAway Team: Sacks  Racks United
 \nHome Score: 16\nAway Score: 12
END:VEVENT
BEGIN:VEVENT
UID:16756802@ezleagues.ezfacility.com
DTSTAMP:20260421T173526Z
CREATED:20260421T173526Z
DTSTART:20251202T010000Z
DTEND:20251202T020000Z
LOCATION:Turf 2
CONTACT:
SUMMARY:Torpedhoes VS. SMAST FC  
DESCRIPTION:League Name: CO-ED B SOCCER (SEPT.2025)\nGame Type: Regular\nGa
 me Status: Complete\nHome Team: Torpedhoes\nAway Team: SMAST FC  \nHome Sc
 ore: 3\nAway Score: 7
END:VEVENT
BEGIN:VEVENT
UID:16756860@ezleagues.ezfacility.com
DTSTAMP:20260421T173526Z
CREATED:20260421T173526Z
DTSTART:20251209T010000Z
DTEND:20251209T020000Z
LOCATION:Turf 1
CONTACT:
SUMMARY:SMAST FC   VS. Sphinx FC  
DESCRIPTION:League Name: CO-ED B SOCCER (SEPT.2025)\nGame Type: Regular\nGa
 me Status: Complete\nHome Team: SMAST FC  \nAway Team: Sphinx FC  \nHome S
 core: 16\nAway Score: 2
END:VEVENT
BEGIN:VEVENT
UID:16756867@ezleagues.ezfacility.com
DTSTAMP:20260421T173526Z
CREATED:20260421T173526Z
DTSTART:20251216T010000Z
DTEND:20251216T020000Z
LOCATION:Turf 2
CONTACT:
SUMMARY:SMAST FC   VS. Prestige Worldwide 
DESCRIPTION:League Name: CO-ED B SOCCER (SEPT.2025)\nGame Type: Regular\nGa
 me Status: Complete\nHome Team: SMAST FC  \nAway Team: Prestige Worldwide 
 \nHome Score: 0\nAway Score: 6
END:VEVENT
BEGIN:VEVENT
UID:16756879@ezleagues.ezfacility.com
DTSTAMP:20260421T173526Z
CREATED:20260421T173526Z
DTSTART:20251223T020000Z
DTEND:20251223T030000Z
LOCATION:Turf 2
CONTACT:
SUMMARY:KFC    VS. SMAST FC  
DESCRIPTION:League Name: CO-ED B SOCCER (SEPT.2025)\nGame Type: Regular\nGa
 me Status: Complete\nHome Team: KFC   \nAway Team: SMAST FC  \nHome Score:
  0\nAway Score: 6
END:VEVENT
BEGIN:VEVENT
UID:16911260@ezleagues.ezfacility.com
DTSTAMP:20260421T173526Z
CREATED:20260421T173526Z
DTSTART:20251230T003000Z
DTEND:20251230T010000Z
LOCATION:Turf 1
CONTACT:
SUMMARY:SMAST FC   VS. Citizens FC
DESCRIPTION:League Name: CO-ED B SOCCER (SEPT.2025)\nGame Type: Postseason\
 nGame Status: Complete\nHome Team: SMAST FC  \nAway Team: Citizens FC\nHom
 e Score: 7\nAway Score: 6
END:VEVENT
END:VCALENDAR
