BEGIN:VCALENDAR
VERSION:2.0
PRODID:-//EZFacility.com, Inc.//EZL 2.5.5.28621
BEGIN:VEVENT
UID:16837478@ezleagues.ezfacility.com
DTSTAMP:20260424T041337Z
CREATED:20260424T041337Z
DTSTART:20260419T173000Z
DTEND:20260419T184500Z
LOCATION:To be determined
CONTACT:
SUMMARY:Hamilton Croatia BU13 T3 VS. FC Toronto Red BU13 T3
DESCRIPTION:League Name: BU13 T3\nGame Type: Regular\nGame Status: Pending\
 nHome Team: Hamilton Croatia BU13 T3\nAway Team: FC Toronto Red BU13 T3\n
END:VEVENT
BEGIN:VEVENT
UID:16837489@ezleagues.ezfacility.com
DTSTAMP:20260424T041337Z
CREATED:20260424T041337Z
DTSTART:20260510T150000Z
DTEND:20260510T161500Z
LOCATION:To be determined
CONTACT:
SUMMARY:Hamilton Croatia BU13 T3 VS. FTFC Brampton Yellow BU13 T3
DESCRIPTION:League Name: BU13 T3\nGame Type: Regular\nGame Status: Pending\
 nHome Team: Hamilton Croatia BU13 T3\nAway Team: FTFC Brampton Yellow BU13
  T3\n
END:VEVENT
END:VCALENDAR
