BEGIN:VCALENDAR
VERSION:2.0
PRODID:-//EZFacility.com, Inc.//EZL 2.5.5.28621
BEGIN:VEVENT
UID:16723894@ezleagues.ezfacility.com
DTSTAMP:20260424T044213Z
CREATED:20260424T044213Z
DTSTART:20251017T000000Z
DTEND:20251017T010000Z
LOCATION:OZ Dome Indoor Field
CONTACT:Elhamad
SUMMARY:BS Old AF(Orange) VS. CP Tornado (white)
DESCRIPTION:League Name: Ladies 50+2025/2026 indoor\nGame Type: Regular\nGa
 me Status: Complete\nHome Team: BS Old AF(Orange)\nAway Team: CP Tornado (
 white)\nHome Score: 2\nAway Score: 2
END:VEVENT
BEGIN:VEVENT
UID:16723900@ezleagues.ezfacility.com
DTSTAMP:20260424T044213Z
CREATED:20260424T044213Z
DTSTART:20251023T230000Z
DTEND:20251024T000000Z
LOCATION:OZ Dome Indoor Field
CONTACT:Boucher
SUMMARY:Sonic Boom (Navy Blue) VS. CP Tornado (white)
DESCRIPTION:League Name: Ladies 50+2025/2026 indoor\nGame Type: Regular\nGa
 me Status: Complete\nHome Team: Sonic Boom (Navy Blue)\nAway Team: CP Torn
 ado (white)\nHome Score: 4\nAway Score: 0
END:VEVENT
BEGIN:VEVENT
UID:16723906@ezleagues.ezfacility.com
DTSTAMP:20260424T044213Z
CREATED:20260424T044213Z
DTSTART:20251031T000000Z
DTEND:20251031T010000Z
LOCATION:OZ Dome Indoor Field
CONTACT:Elhamad
SUMMARY:CP Tornado (white) VS. SWAT ( Blue)
DESCRIPTION:League Name: Ladies 50+2025/2026 indoor\nGame Type: Regular\nGa
 me Status: Complete\nHome Team: CP Tornado (white)\nAway Team: SWAT ( Blue
 )\nHome Score: 1\nAway Score: 1
END:VEVENT
BEGIN:VEVENT
UID:16723912@ezleagues.ezfacility.com
DTSTAMP:20260424T044213Z
CREATED:20260424T044213Z
DTSTART:20251107T010000Z
DTEND:20251107T020000Z
LOCATION:OZ Dome Indoor Field
CONTACT:Ali
SUMMARY:Ottawa Golden Cleats(White) VS. CP Tornado (white)
DESCRIPTION:League Name: Ladies 50+2025/2026 indoor\nGame Type: Regular\nGa
 me Status: Complete\nHome Team: Ottawa Golden Cleats(White)\nAway Team: CP
  Tornado (white)\nHome Score: 2\nAway Score: 1
END:VEVENT
BEGIN:VEVENT
UID:16723918@ezleagues.ezfacility.com
DTSTAMP:20260424T044213Z
CREATED:20260424T044213Z
DTSTART:20251112T020000Z
DTEND:20251112T030000Z
LOCATION:OZ Dome Indoor Field
CONTACT:Langwa
SUMMARY:CP Tornado (white) VS. Carp Lynx(Red)
DESCRIPTION:League Name: Ladies 50+2025/2026 indoor\nGame Type: Regular\nGa
 me Status: Complete\nHome Team: CP Tornado (white)\nAway Team: Carp Lynx(R
 ed)\nHome Score: 3\nAway Score: 4
END:VEVENT
BEGIN:VEVENT
UID:16723923@ezleagues.ezfacility.com
DTSTAMP:20260424T044213Z
CREATED:20260424T044213Z
DTSTART:20251119T020000Z
DTEND:20251119T030000Z
LOCATION:OZ Dome Indoor Field
CONTACT:Langwa
SUMMARY:Old Kicks on the Block(Pink) VS. CP Tornado (white)
DESCRIPTION:League Name: Ladies 50+2025/2026 indoor\nGame Type: Regular\nGa
 me Status: Complete\nHome Team: Old Kicks on the Block(Pink)\nAway Team: C
 P Tornado (white)\nHome Score: 2\nAway Score: 3
END:VEVENT
BEGIN:VEVENT
UID:16723927@ezleagues.ezfacility.com
DTSTAMP:20260424T044213Z
CREATED:20260424T044213Z
DTSTART:20251128T020000Z
DTEND:20251128T030000Z
LOCATION:OZ Dome Indoor Field
CONTACT:Langwa
SUMMARY:Stray Cats 1(Red) VS. CP Tornado (white)
DESCRIPTION:League Name: Ladies 50+2025/2026 indoor\nGame Type: Regular\nGa
 me Status: Complete\nHome Team: Stray Cats 1(Red)\nAway Team: CP Tornado (
 white)\nHome Score: 0\nAway Score: 2
END:VEVENT
BEGIN:VEVENT
UID:16723931@ezleagues.ezfacility.com
DTSTAMP:20260424T044213Z
CREATED:20260424T044213Z
DTSTART:20251205T000000Z
DTEND:20251205T010000Z
LOCATION:OZ Dome Indoor Field
CONTACT:Ali
SUMMARY:CP Tornado (white) VS. Storm 50+ ( Black)
DESCRIPTION:League Name: Ladies 50+2025/2026 indoor\nGame Type: Regular\nGa
 me Status: Complete\nHome Team: CP Tornado (white)\nAway Team: Storm 50+ (
  Black)\nHome Score: 2\nAway Score: 1
END:VEVENT
BEGIN:VEVENT
UID:16723935@ezleagues.ezfacility.com
DTSTAMP:20260424T044213Z
CREATED:20260424T044213Z
DTSTART:20251211T230000Z
DTEND:20251212T000000Z
LOCATION:OZ Dome Indoor Field
CONTACT:Langwa
SUMMARY:Goalden Girls( Yellow) VS. CP Tornado (white)
DESCRIPTION:League Name: Ladies 50+2025/2026 indoor\nGame Type: Regular\nGa
 me Status: Complete\nHome Team: Goalden Girls( Yellow)\nAway Team: CP Torn
 ado (white)\nHome Score: 5\nAway Score: 2
END:VEVENT
BEGIN:VEVENT
UID:16723939@ezleagues.ezfacility.com
DTSTAMP:20260424T044213Z
CREATED:20260424T044213Z
DTSTART:20251219T010000Z
DTEND:20251219T020000Z
LOCATION:OZ Dome Indoor Field
CONTACT:Langwa
SUMMARY:CP Tornado (white) VS. BS Old AF(Orange)
DESCRIPTION:League Name: Ladies 50+2025/2026 indoor\nGame Type: Regular\nGa
 me Status: Complete\nHome Team: CP Tornado (white)\nAway Team: BS Old AF(O
 range)\nHome Score: 0\nAway Score: 0
END:VEVENT
BEGIN:VEVENT
UID:16723957@ezleagues.ezfacility.com
DTSTAMP:20260424T044213Z
CREATED:20260424T044213Z
DTSTART:20260109T020000Z
DTEND:20260109T030000Z
LOCATION:OZ Dome Indoor Field
CONTACT:Langwa
SUMMARY:CP Tornado (white) VS. Ottawa Golden Cleats(White)
DESCRIPTION:League Name: Ladies 50+2025/2026 indoor\nGame Type: Regular\nGa
 me Status: Complete\nHome Team: CP Tornado (white)\nAway Team: Ottawa Gold
 en Cleats(White)\nHome Score: 2\nAway Score: 6
END:VEVENT
BEGIN:VEVENT
UID:16723951@ezleagues.ezfacility.com
DTSTAMP:20260424T044213Z
CREATED:20260424T044213Z
DTSTART:20260122T230000Z
DTEND:20260123T000000Z
LOCATION:OZ Dome Indoor Field
CONTACT:Boucher
SUMMARY:CP Tornado (white) VS. SWAT ( Blue)
DESCRIPTION:League Name: Ladies 50+2025/2026 indoor\nGame Type: Regular\nGa
 me Status: Complete\nHome Team: CP Tornado (white)\nAway Team: SWAT ( Blue
 )\nHome Score: 1\nAway Score: 0
END:VEVENT
BEGIN:VEVENT
UID:16723945@ezleagues.ezfacility.com
DTSTAMP:20260424T044213Z
CREATED:20260424T044213Z
DTSTART:20260130T000000Z
DTEND:20260130T010000Z
LOCATION:OZ Dome Indoor Field
CONTACT:Boucher
SUMMARY:CP Tornado (white) VS. Sonic Boom (Navy Blue)
DESCRIPTION:League Name: Ladies 50+2025/2026 indoor\nGame Type: Regular\nGa
 me Status: Complete\nHome Team: CP Tornado (white)\nAway Team: Sonic Boom 
 (Navy Blue)\nHome Score: 0\nAway Score: 5
END:VEVENT
END:VCALENDAR
