BEGIN:VCALENDAR
VERSION:2.0
PRODID:-//EZFacility.com, Inc.//EZL 2.5.5.28621
BEGIN:VEVENT
UID:16725121@ezleagues.ezfacility.com
DTSTAMP:20260426T034959Z
CREATED:20260426T034959Z
DTSTART:20251003T230000Z
DTEND:20251003T235500Z
LOCATION:PFFC Field House - D
CONTACT:
SUMMARY:905 Gunners VS. Osmanli 
DESCRIPTION:League Name: MSL Fall 2025 - Friday Men's League First Games\nG
 ame Type: Regular\nGame Status: Complete\nHome Team: 905 Gunners\nAway Tea
 m: Osmanli \nHome Score: 3\nAway Score: 0
END:VEVENT
BEGIN:VEVENT
UID:16761245@ezleagues.ezfacility.com
DTSTAMP:20260426T034959Z
CREATED:20260426T034959Z
DTSTART:20251011T024000Z
DTEND:20251011T034000Z
LOCATION:PFFC Field House - C
CONTACT:
SUMMARY:HALYCHYNA O35  VS. 905 Gunners
DESCRIPTION:League Name: MSL Fall 2025 - Friday Men's League First Games\nG
 ame Type: Regular\nGame Status: Complete\nHome Team: HALYCHYNA O35 \nAway
  Team: 905 Gunners\nHome Score: 2\nAway Score: 2
END:VEVENT
END:VCALENDAR
