BEGIN:VCALENDAR
VERSION:2.0
PRODID:-//EZFacility.com, Inc.//EZL 2.5.5.28621
BEGIN:VEVENT
UID:16735449@ezleagues.ezfacility.com
DTSTAMP:20260426T021540Z
CREATED:20260426T021540Z
DTSTART:20251004T011000Z
DTEND:20251004T021000Z
LOCATION:Hockey Rink
CONTACT:BB\, EH\, M
SUMMARY:Wildcats 2 VS. Zynz and Himz
DESCRIPTION:League Name: FREEZ Cactus Cup Open A\nGame Type: Regular\nGame 
 Status: Complete\nHome Team: Wildcats 2\nAway Team: Zynz and Himz\nHome Sc
 ore: 1\nAway Score: 6
END:VEVENT
BEGIN:VEVENT
UID:16735456@ezleagues.ezfacility.com
DTSTAMP:20260426T021540Z
CREATED:20260426T021540Z
DTSTART:20251004T162000Z
DTEND:20251004T172000Z
LOCATION:Hockey Rink
CONTACT:BB\, KS\, M
SUMMARY:Zynz and Himz VS. Unify Thunderbirds
DESCRIPTION:League Name: FREEZ Cactus Cup Open A\nGame Type: Regular\nGame 
 Status: Complete\nHome Team: Zynz and Himz\nAway Team: Unify Thunderbirds\
 nHome Score: 5\nAway Score: 0
END:VEVENT
BEGIN:VEVENT
UID:16735457@ezleagues.ezfacility.com
DTSTAMP:20260426T021540Z
CREATED:20260426T021540Z
DTSTART:20251004T191500Z
DTEND:20251004T201500Z
LOCATION:Hockey Rink
CONTACT:KK\, KS\, S
SUMMARY:Scooby Snacks 2 VS. Zynz and Himz
DESCRIPTION:League Name: FREEZ Cactus Cup Open A\nGame Type: Regular\nGame 
 Status: Complete\nHome Team: Scooby Snacks 2\nAway Team: Zynz and Himz\nHo
 me Score: 4\nAway Score: 2
END:VEVENT
BEGIN:VEVENT
UID:16735459@ezleagues.ezfacility.com
DTSTAMP:20260426T021540Z
CREATED:20260426T021540Z
DTSTART:20251005T054000Z
DTEND:20251005T064000Z
LOCATION:Hockey Rink
CONTACT:EH\, JH\, S
SUMMARY:Zynz and Himz VS. Wildcats 2
DESCRIPTION:League Name: FREEZ Cactus Cup Open A\nGame Type: Postseason\nGa
 me Status: Complete\nHome Team: Zynz and Himz\nAway Team: Wildcats 2\nHome
  Score: 7\nAway Score: 0
END:VEVENT
BEGIN:VEVENT
UID:16735462@ezleagues.ezfacility.com
DTSTAMP:20260426T021540Z
CREATED:20260426T021540Z
DTSTART:20251005T205000Z
DTEND:20251005T215000Z
LOCATION:Hockey Rink
CONTACT:KK\, S\, BB
SUMMARY:Scooby Snacks 2 VS. Zynz and Himz
DESCRIPTION:League Name: FREEZ Cactus Cup Open A\nGame Type: Regular\nGame 
 Status: Complete\nHome Team: Scooby Snacks 2\nAway Team: Zynz and Himz\nHo
 me Score: 1\nAway Score: 3
END:VEVENT
BEGIN:VEVENT
UID:16735463@ezleagues.ezfacility.com
DTSTAMP:20260426T021540Z
CREATED:20260426T021540Z
DTSTART:20251005T231000Z
DTEND:20251006T001000Z
LOCATION:Hockey Rink
CONTACT:BB\, JH\, S
SUMMARY:Team 48 VS. Zynz and Himz
DESCRIPTION:League Name: FREEZ Cactus Cup Open A\nGame Type: Postseason\nGa
 me Status: Complete\nHome Team: Team 48\nAway Team: Zynz and Himz\nHome Sc
 ore: 5\nAway Score: 2
END:VEVENT
END:VCALENDAR
