BEGIN:VCALENDAR
VERSION:2.0
PRODID:-//EZFacility.com, Inc.//EZL 2.5.5.28621
BEGIN:VEVENT
UID:16731910@ezleagues.ezfacility.com
DTSTAMP:20260422T082611Z
CREATED:20260422T082611Z
DTSTART:20251002T000000Z
DTEND:20251002T005500Z
LOCATION:PFFC Field House - D
CONTACT:
SUMMARY:CERVEJA FC VS. The Bacalhau Boys
DESCRIPTION:League Name: MSL Fall 2025 - Men's Wed/Thurs League First Games
 \nGame Type: Regular\nGame Status: Complete\nHome Team: CERVEJA FC\nAway T
 eam: The Bacalhau Boys\nHome Score: 5\nAway Score: 5
END:VEVENT
BEGIN:VEVENT
UID:16753087@ezleagues.ezfacility.com
DTSTAMP:20260422T082611Z
CREATED:20260422T082611Z
DTSTART:20251009T015000Z
DTEND:20251009T025000Z
LOCATION:PFFC Field House - C
CONTACT:
SUMMARY:CERVEJA FC VS. UNFC
DESCRIPTION:League Name: MSL Fall 2025 - Men's Wed/Thurs League First Games
 \nGame Type: Regular\nGame Status: Complete\nHome Team: CERVEJA FC\nAway T
 eam: UNFC\nHome Score: 0\nAway Score: 2
END:VEVENT
END:VCALENDAR
