BEGIN:VCALENDAR
VERSION:2.0
PRODID:-//EZFacility.com, Inc.//EZL 2.5.5.28621
BEGIN:VEVENT
UID:16733660@ezleagues.ezfacility.com
DTSTAMP:20260426T034050Z
CREATED:20260426T034050Z
DTSTART:20250930T030000Z
DTEND:20250930T040000Z
LOCATION:Field 2
CONTACT:
SUMMARY:Celta FC VS. Atletico S.S.
DESCRIPTION:League Name: Womens Open\nGame Type: Regular\nGame Status: Comp
 lete\nHome Team: Celta FC\nAway Team: Atletico S.S.\nHome Score: 0\nAway S
 core: 5
END:VEVENT
BEGIN:VEVENT
UID:16733664@ezleagues.ezfacility.com
DTSTAMP:20260426T034050Z
CREATED:20260426T034050Z
DTSTART:20251007T040000Z
DTEND:20251007T050000Z
LOCATION:Field 1
CONTACT:
SUMMARY:Jogo Bonito VS. Atletico S.S.
DESCRIPTION:League Name: Womens Open\nGame Type: Regular\nGame Status: Comp
 lete\nHome Team: Jogo Bonito\nAway Team: Atletico S.S.\nHome Score: 6\nAwa
 y Score: 1
END:VEVENT
BEGIN:VEVENT
UID:16733667@ezleagues.ezfacility.com
DTSTAMP:20260426T034050Z
CREATED:20260426T034050Z
DTSTART:20251014T020000Z
DTEND:20251014T030000Z
LOCATION:Field 1
CONTACT:
SUMMARY:Fuego VS. Atletico S.S.
DESCRIPTION:League Name: Womens Open\nGame Type: Regular\nGame Status: Comp
 lete\nHome Team: Fuego\nAway Team: Atletico S.S.\nHome Score: 1\nAway Scor
 e: 9
END:VEVENT
BEGIN:VEVENT
UID:16733670@ezleagues.ezfacility.com
DTSTAMP:20260426T034050Z
CREATED:20260426T034050Z
DTSTART:20251021T030000Z
DTEND:20251021T040000Z
LOCATION:Field 1
CONTACT:
SUMMARY:Miami VS. Atletico S.S.
DESCRIPTION:League Name: Womens Open\nGame Type: Regular\nGame Status: Comp
 lete\nHome Team: Miami\nAway Team: Atletico S.S.\nHome Score: 3\nAway Scor
 e: 4
END:VEVENT
BEGIN:VEVENT
UID:16733673@ezleagues.ezfacility.com
DTSTAMP:20260426T034050Z
CREATED:20260426T034050Z
DTSTART:20251028T030000Z
DTEND:20251028T040000Z
LOCATION:Field 2
CONTACT:
SUMMARY:Atletico S.S. VS. Futboleros
DESCRIPTION:League Name: Womens Open\nGame Type: Regular\nGame Status: Comp
 lete\nHome Team: Atletico S.S.\nAway Team: Futboleros\nHome Score: 2\nAway
  Score: 3
END:VEVENT
BEGIN:VEVENT
UID:16733678@ezleagues.ezfacility.com
DTSTAMP:20260426T034050Z
CREATED:20260426T034050Z
DTSTART:20251104T030000Z
DTEND:20251104T040000Z
LOCATION:Field 1
CONTACT:
SUMMARY:Atletico S.S. VS. Chavirrucas
DESCRIPTION:League Name: Womens Open\nGame Type: Regular\nGame Status: Comp
 lete\nHome Team: Atletico S.S.\nAway Team: Chavirrucas\nHome Score: 11\nAw
 ay Score: 1
END:VEVENT
BEGIN:VEVENT
UID:16733683@ezleagues.ezfacility.com
DTSTAMP:20260426T034050Z
CREATED:20260426T034050Z
DTSTART:20251111T030000Z
DTEND:20251111T040000Z
LOCATION:Field 1
CONTACT:
SUMMARY:Atletico S.S. VS. Turlock FC
DESCRIPTION:League Name: Womens Open\nGame Type: Regular\nGame Status: Comp
 lete\nHome Team: Atletico S.S.\nAway Team: Turlock FC\nHome Score: 3\nAway
  Score: 2
END:VEVENT
BEGIN:VEVENT
UID:16748931@ezleagues.ezfacility.com
DTSTAMP:20260426T034050Z
CREATED:20260426T034050Z
DTSTART:20251118T040000Z
DTEND:20251118T044800Z
LOCATION:Field 2
CONTACT:
SUMMARY:Atletico S.S. VS. Celta FC
DESCRIPTION:League Name: Womens Open\nGame Type: Regular\nGame Status: Comp
 lete\nHome Team: Atletico S.S.\nAway Team: Celta FC\nHome Score: 5\nAway S
 core: 0
END:VEVENT
BEGIN:VEVENT
UID:16865592@ezleagues.ezfacility.com
DTSTAMP:20260426T034050Z
CREATED:20260426T034050Z
DTSTART:20251125T040000Z
DTEND:20251125T044800Z
LOCATION:Field 2
CONTACT:
SUMMARY:Atletico S.S. VS. Jogo Bonito
DESCRIPTION:League Name: Womens Open\nGame Type: Postseason\nGame Status: C
 omplete\nHome Team: Atletico S.S.\nAway Team: Jogo Bonito\nHome Score: 0\n
 Away Score: 7
END:VEVENT
BEGIN:VEVENT
UID:16875475@ezleagues.ezfacility.com
DTSTAMP:20260426T034050Z
CREATED:20260426T034050Z
DTSTART:20251202T040000Z
DTEND:20251202T044800Z
LOCATION:Field 2
CONTACT:
SUMMARY:Atletico S.S. VS. Miami
DESCRIPTION:League Name: Womens Open\nGame Type: Postseason\nGame Status: C
 omplete\nHome Team: Atletico S.S.\nAway Team: Miami\nHome Score: 6\nAway S
 core: 5
END:VEVENT
END:VCALENDAR
