BEGIN:VCALENDAR
VERSION:2.0
PRODID:-//EZFacility.com, Inc.//EZL 2.5.5.28621
BEGIN:VEVENT
UID:16735422@ezleagues.ezfacility.com
DTSTAMP:20260425T181414Z
CREATED:20260425T181414Z
DTSTART:20250921T163000Z
DTEND:20250921T171500Z
LOCATION:Field 2
CONTACT:LOPEZ
SUMMARY:Gooners FC VS. Steeple FC
DESCRIPTION:League Name: 2025 GSA TOURNAMENT GROUP A\nGame Type: Regular\nG
 ame Status: Complete\nHome Team: Gooners FC\nAway Team: Steeple FC\nHome S
 core: 5\nAway Score: 8
END:VEVENT
BEGIN:VEVENT
UID:16735440@ezleagues.ezfacility.com
DTSTAMP:20260425T181414Z
CREATED:20260425T181414Z
DTSTART:20250928T161500Z
DTEND:20250928T170000Z
LOCATION:Field 1
CONTACT:Rangel
SUMMARY:Gooners FC VS. Panda FC
DESCRIPTION:League Name: 2025 GSA TOURNAMENT GROUP A\nGame Type: Regular\nG
 ame Status: Complete\nHome Team: Gooners FC\nAway Team: Panda FC\nHome Sco
 re: 3\nAway Score: 5
END:VEVENT
BEGIN:VEVENT
UID:16746638@ezleagues.ezfacility.com
DTSTAMP:20260425T181414Z
CREATED:20260425T181414Z
DTSTART:20251005T154500Z
DTEND:20251005T163000Z
LOCATION:Field 1
CONTACT:Valle
SUMMARY:Gooners FC VS. Dep Silao
DESCRIPTION:League Name: 2025 GSA TOURNAMENT GROUP A\nGame Type: Regular\nG
 ame Status: Complete\nHome Team: Gooners FC\nAway Team: Dep Silao\nHome Sc
 ore: 0\nAway Score: 8
END:VEVENT
END:VCALENDAR
