BEGIN:VCALENDAR
VERSION:2.0
PRODID:-//EZFacility.com, Inc.//EZL 2.5.5.28621
BEGIN:VEVENT
UID:16761277@ezleagues.ezfacility.com
DTSTAMP:20260423T192302Z
CREATED:20260423T192302Z
DTSTART:20251015T041000Z
DTEND:20251015T052500Z
LOCATION:Sport Stable East
CONTACT:
SUMMARY:NWA VS. Huevos Rancheros
DESCRIPTION:League Name: Night League Fall 25/26 Season  C1 League\nGame Ty
 pe: Regular\nGame Status: Complete\nHome Team: NWA\nAway Team: Huevos Ranc
 heros\nHome Score: 1\nAway Score: 6
END:VEVENT
BEGIN:VEVENT
UID:16761285@ezleagues.ezfacility.com
DTSTAMP:20260423T192302Z
CREATED:20260423T192302Z
DTSTART:20251023T024500Z
DTEND:20251023T040000Z
LOCATION:Sport Stable East
CONTACT:
SUMMARY:Vandelay VS. Huevos Rancheros
DESCRIPTION:League Name: Night League Fall 25/26 Season  C1 League\nGame Ty
 pe: Regular\nGame Status: Complete\nHome Team: Vandelay\nAway Team: Huevos
  Rancheros\nHome Score: 1\nAway Score: 4
END:VEVENT
BEGIN:VEVENT
UID:16761288@ezleagues.ezfacility.com
DTSTAMP:20260423T192302Z
CREATED:20260423T192302Z
DTSTART:20251030T034000Z
DTEND:20251030T045500Z
LOCATION:Sport Stable West
CONTACT:
SUMMARY:New Team VS. Huevos Rancheros
DESCRIPTION:League Name: Night League Fall 25/26 Season  C1 League\nGame Ty
 pe: Regular\nGame Status: Complete\nHome Team: New Team\nAway Team: Huevos
  Rancheros\nHome Score: 9\nAway Score: 7
END:VEVENT
BEGIN:VEVENT
UID:16761293@ezleagues.ezfacility.com
DTSTAMP:20260423T192302Z
CREATED:20260423T192302Z
DTSTART:20251106T051000Z
DTEND:20251106T062500Z
LOCATION:Sport Stable East
CONTACT:
SUMMARY:Huevos Rancheros VS. Frozen Left Over
DESCRIPTION:League Name: Night League Fall 25/26 Season  C1 League\nGame Ty
 pe: Regular\nGame Status: Complete\nHome Team: Huevos Rancheros\nAway Team
 : Frozen Left Over\nHome Score: 6\nAway Score: 3
END:VEVENT
BEGIN:VEVENT
UID:16761300@ezleagues.ezfacility.com
DTSTAMP:20260423T192302Z
CREATED:20260423T192302Z
DTSTART:20251113T034500Z
DTEND:20251113T050000Z
LOCATION:Sport Stable East
CONTACT:
SUMMARY:Huevos Rancheros VS. Lefthand Brewery 
DESCRIPTION:League Name: Night League Fall 25/26 Season  C1 League\nGame Ty
 pe: Regular\nGame Status: Complete\nHome Team: Huevos Rancheros\nAway Team
 : Lefthand Brewery \nHome Score: 3\nAway Score: 5
END:VEVENT
BEGIN:VEVENT
UID:16761304@ezleagues.ezfacility.com
DTSTAMP:20260423T192302Z
CREATED:20260423T192302Z
DTSTART:20251120T044000Z
DTEND:20251120T055500Z
LOCATION:Sport Stable West
CONTACT:
SUMMARY:Huevos Rancheros VS. Urban Achievers
DESCRIPTION:League Name: Night League Fall 25/26 Season  C1 League\nGame Ty
 pe: Regular\nGame Status: Complete\nHome Team: Huevos Rancheros\nAway Team
 : Urban Achievers\nHome Score: 5\nAway Score: 1
END:VEVENT
BEGIN:VEVENT
UID:16761313@ezleagues.ezfacility.com
DTSTAMP:20260423T192302Z
CREATED:20260423T192302Z
DTSTART:20251204T044000Z
DTEND:20251204T055500Z
LOCATION:Sport Stable West
CONTACT:
SUMMARY:Cold Snacks VS. Huevos Rancheros
DESCRIPTION:League Name: Night League Fall 25/26 Season  C1 League\nGame Ty
 pe: Regular\nGame Status: Complete\nHome Team: Cold Snacks\nAway Team: Hue
 vos Rancheros\nHome Score: 3\nAway Score: 2
END:VEVENT
BEGIN:VEVENT
UID:16761319@ezleagues.ezfacility.com
DTSTAMP:20260423T192302Z
CREATED:20260423T192302Z
DTSTART:20251211T051000Z
DTEND:20251211T062500Z
LOCATION:Sport Stable East
CONTACT:
SUMMARY:Hackers VS. Huevos Rancheros
DESCRIPTION:League Name: Night League Fall 25/26 Season  C1 League\nGame Ty
 pe: Regular\nGame Status: Complete\nHome Team: Hackers\nAway Team: Huevos 
 Rancheros\nHome Score: 2\nAway Score: 5
END:VEVENT
BEGIN:VEVENT
UID:16761322@ezleagues.ezfacility.com
DTSTAMP:20260423T192302Z
CREATED:20260423T192302Z
DTSTART:20251217T034500Z
DTEND:20251217T050000Z
LOCATION:Sport Stable East
CONTACT:
SUMMARY:Huevos Rancheros VS. NWA
DESCRIPTION:League Name: Night League Fall 25/26 Season  C1 League\nGame Ty
 pe: Regular\nGame Status: Complete\nHome Team: Huevos Rancheros\nAway Team
 : NWA\nHome Score: 4\nAway Score: 5
END:VEVENT
BEGIN:VEVENT
UID:16761338@ezleagues.ezfacility.com
DTSTAMP:20260423T192302Z
CREATED:20260423T192302Z
DTSTART:20260108T044000Z
DTEND:20260108T055500Z
LOCATION:Sport Stable West
CONTACT:
SUMMARY:Frozen Left Over VS. Huevos Rancheros
DESCRIPTION:League Name: Night League Fall 25/26 Season  C1 League\nGame Ty
 pe: Regular\nGame Status: Complete\nHome Team: Frozen Left Over\nAway Team
 : Huevos Rancheros\nHome Score: 4\nAway Score: 6
END:VEVENT
BEGIN:VEVENT
UID:16761345@ezleagues.ezfacility.com
DTSTAMP:20260423T192302Z
CREATED:20260423T192302Z
DTSTART:20260115T034500Z
DTEND:20260115T050000Z
LOCATION:Sport Stable East
CONTACT:
SUMMARY:Lefthand Brewery  VS. Huevos Rancheros
DESCRIPTION:League Name: Night League Fall 25/26 Season  C1 League\nGame Ty
 pe: Regular\nGame Status: Complete\nHome Team: Lefthand Brewery \nAway Tea
 m: Huevos Rancheros\nHome Score: 1\nAway Score: 4
END:VEVENT
BEGIN:VEVENT
UID:16761349@ezleagues.ezfacility.com
DTSTAMP:20260423T192302Z
CREATED:20260423T192302Z
DTSTART:20260122T051000Z
DTEND:20260122T062500Z
LOCATION:Sport Stable East
CONTACT:
SUMMARY:Urban Achievers VS. Huevos Rancheros
DESCRIPTION:League Name: Night League Fall 25/26 Season  C1 League\nGame Ty
 pe: Regular\nGame Status: Complete\nHome Team: Urban Achievers\nAway Team:
  Huevos Rancheros\nHome Score: 4\nAway Score: 6
END:VEVENT
BEGIN:VEVENT
UID:16761354@ezleagues.ezfacility.com
DTSTAMP:20260423T192302Z
CREATED:20260423T192302Z
DTSTART:20260129T051000Z
DTEND:20260129T062500Z
LOCATION:Sport Stable East
CONTACT:
SUMMARY:Puck Norris VS. Huevos Rancheros
DESCRIPTION:League Name: Night League Fall 25/26 Season  C1 League\nGame Ty
 pe: Regular\nGame Status: Complete\nHome Team: Puck Norris\nAway Team: Hue
 vos Rancheros\nHome Score: 3\nAway Score: 4
END:VEVENT
BEGIN:VEVENT
UID:16761358@ezleagues.ezfacility.com
DTSTAMP:20260423T192302Z
CREATED:20260423T192302Z
DTSTART:20260205T044000Z
DTEND:20260205T055500Z
LOCATION:Sport Stable West
CONTACT:
SUMMARY:Huevos Rancheros VS. Cold Snacks
DESCRIPTION:League Name: Night League Fall 25/26 Season  C1 League\nGame Ty
 pe: Regular\nGame Status: Complete\nHome Team: Huevos Rancheros\nAway Team
 : Cold Snacks\nHome Score: 3\nAway Score: 5
END:VEVENT
BEGIN:VEVENT
UID:16761364@ezleagues.ezfacility.com
DTSTAMP:20260423T192302Z
CREATED:20260423T192302Z
DTSTART:20260212T051000Z
DTEND:20260212T062500Z
LOCATION:Sport Stable East
CONTACT:
SUMMARY:Huevos Rancheros VS. Hackers
DESCRIPTION:League Name: Night League Fall 25/26 Season  C1 League\nGame Ty
 pe: Regular\nGame Status: Complete\nHome Team: Huevos Rancheros\nAway Team
 : Hackers\nHome Score: 6\nAway Score: 5
END:VEVENT
BEGIN:VEVENT
UID:16761367@ezleagues.ezfacility.com
DTSTAMP:20260423T192302Z
CREATED:20260423T192302Z
DTSTART:20260218T034500Z
DTEND:20260218T050000Z
LOCATION:Sport Stable East
CONTACT:
SUMMARY:Huevos Rancheros VS. NWA
DESCRIPTION:League Name: Night League Fall 25/26 Season  C1 League\nGame Ty
 pe: Regular\nGame Status: Complete\nHome Team: Huevos Rancheros\nAway Team
 : NWA\nHome Score: 5\nAway Score: 8
END:VEVENT
BEGIN:VEVENT
UID:16761375@ezleagues.ezfacility.com
DTSTAMP:20260423T192302Z
CREATED:20260423T192302Z
DTSTART:20260226T034500Z
DTEND:20260226T050000Z
LOCATION:Sport Stable East
CONTACT:
SUMMARY:Huevos Rancheros VS. Vandelay
DESCRIPTION:League Name: Night League Fall 25/26 Season  C1 League\nGame Ty
 pe: Regular\nGame Status: Complete\nHome Team: Huevos Rancheros\nAway Team
 : Vandelay\nHome Score: 3\nAway Score: 1
END:VEVENT
BEGIN:VEVENT
UID:16761309@ezleagues.ezfacility.com
DTSTAMP:20260423T192302Z
CREATED:20260423T192302Z
DTSTART:20260305T051000Z
DTEND:20260305T062500Z
LOCATION:Sport Stable East
CONTACT:
SUMMARY:Huevos Rancheros VS. Puck Norris
DESCRIPTION:League Name: Night League Fall 25/26 Season  C1 League\nGame Ty
 pe: Regular\nGame Status: Complete\nHome Team: Huevos Rancheros\nAway Team
 : Puck Norris\nHome Score: 0\nAway Score: 7
END:VEVENT
BEGIN:VEVENT
UID:16761330@ezleagues.ezfacility.com
DTSTAMP:20260423T192302Z
CREATED:20260423T192302Z
DTSTART:20260312T024500Z
DTEND:20260312T040000Z
LOCATION:Sport Stable East
CONTACT:
SUMMARY:Vandelay VS. Huevos Rancheros
DESCRIPTION:League Name: Night League Fall 25/26 Season  C1 League\nGame Ty
 pe: Regular\nGame Status: Complete\nHome Team: Vandelay\nAway Team: Huevos
  Rancheros\nHome Score: 5\nAway Score: 3
END:VEVENT
BEGIN:VEVENT
UID:16761333@ezleagues.ezfacility.com
DTSTAMP:20260423T192302Z
CREATED:20260423T192302Z
DTSTART:20260319T020000Z
DTEND:20260319T031500Z
LOCATION:Sport Stable West
CONTACT:
SUMMARY:Huevos Rancheros VS. New Team
DESCRIPTION:League Name: Night League Fall 25/26 Season  C1 League\nGame Ty
 pe: Regular\nGame Status: Complete\nHome Team: Huevos Rancheros\nAway Team
 : New Team\nHome Score: 1\nAway Score: 3
END:VEVENT
BEGIN:VEVENT
UID:17036192@ezleagues.ezfacility.com
DTSTAMP:20260423T192302Z
CREATED:20260423T192302Z
DTSTART:20260326T031500Z
DTEND:20260326T043000Z
LOCATION:Sport Stable West
CONTACT:
SUMMARY:Huevos Rancheros VS. Lefthand Brewery 
DESCRIPTION:League Name: Night League Fall 25/26 Season  C1 League\nGame Ty
 pe: Postseason\nGame Status: Complete\nHome Team: Huevos Rancheros\nAway T
 eam: Lefthand Brewery \nHome Score: 10\nAway Score: 4
END:VEVENT
BEGIN:VEVENT
UID:17036198@ezleagues.ezfacility.com
DTSTAMP:20260423T192302Z
CREATED:20260423T192302Z
DTSTART:20260402T024500Z
DTEND:20260402T040000Z
LOCATION:Sport Stable East
CONTACT:
SUMMARY:Huevos Rancheros VS. Puck Norris
DESCRIPTION:League Name: Night League Fall 25/26 Season  C1 League\nGame Ty
 pe: Postseason\nGame Status: Complete\nHome Team: Huevos Rancheros\nAway T
 eam: Puck Norris\nHome Score: 4\nAway Score: 3
END:VEVENT
BEGIN:VEVENT
UID:17036220@ezleagues.ezfacility.com
DTSTAMP:20260423T192302Z
CREATED:20260423T192302Z
DTSTART:20260409T023000Z
DTEND:20260409T034500Z
LOCATION:Sport Stable East
CONTACT:
SUMMARY:Huevos Rancheros VS. New Team
DESCRIPTION:League Name: Night League Fall 25/26 Season  C1 League\nGame Ty
 pe: Postseason\nGame Status: Complete\nHome Team: Huevos Rancheros\nAway T
 eam: New Team\nHome Score: 5\nAway Score: 3
END:VEVENT
BEGIN:VEVENT
UID:17036224@ezleagues.ezfacility.com
DTSTAMP:20260423T192302Z
CREATED:20260423T192302Z
DTSTART:20260416T015000Z
DTEND:20260416T030500Z
LOCATION:Sport Stable East
CONTACT:
SUMMARY:Huevos Rancheros VS. New Team
DESCRIPTION:League Name: Night League Fall 25/26 Season  C1 League\nGame Ty
 pe: Postseason\nGame Status: Complete\nHome Team: Huevos Rancheros\nAway T
 eam: New Team\nHome Score: 3\nAway Score: 5
END:VEVENT
BEGIN:VEVENT
UID:17036225@ezleagues.ezfacility.com
DTSTAMP:20260423T192302Z
CREATED:20260423T192302Z
DTSTART:20260423T030000Z
DTEND:20260423T041500Z
LOCATION:Sport Stable West
CONTACT:
SUMMARY:New Team VS. Huevos Rancheros
DESCRIPTION:League Name: Night League Fall 25/26 Season  C1 League\nGame Ty
 pe: Postseason\nGame Status: Complete\nHome Team: New Team\nAway Team: Hue
 vos Rancheros\nHome Score: 8\nAway Score: 2
END:VEVENT
END:VCALENDAR
