BEGIN:VCALENDAR
VERSION:2.0
PRODID:-//EZFacility.com, Inc.//EZL 2.5.5.28621
BEGIN:VEVENT
UID:16854412@ezleagues.ezfacility.com
DTSTAMP:20260422T053918Z
CREATED:20260422T053918Z
DTSTART:20251115T230000Z
DTEND:20251115T235000Z
LOCATION:Jessup Premier Field #1
CONTACT:
SUMMARY:Internacional B VS. FC Sesori
DESCRIPTION:League Name: Sat Mens Open 2nd I div  \nGame Type: Regular\nGam
 e Status: Complete\nHome Team: Internacional B\nAway Team: FC Sesori\nHome
  Score: 3\nAway Score: 2
END:VEVENT
BEGIN:VEVENT
UID:16854427@ezleagues.ezfacility.com
DTSTAMP:20260422T053918Z
CREATED:20260422T053918Z
DTSTART:20251123T013000Z
DTEND:20251123T022000Z
LOCATION:Jessup Premier Field #2
CONTACT:
SUMMARY:FC Sesori VS. Saiyan
DESCRIPTION:League Name: Sat Mens Open 2nd I div  \nGame Type: Regular\nGam
 e Status: Complete\nHome Team: FC Sesori\nAway Team: Saiyan\nHome Score: 3
 \nAway Score: 5
END:VEVENT
BEGIN:VEVENT
UID:16854442@ezleagues.ezfacility.com
DTSTAMP:20260422T053918Z
CREATED:20260422T053918Z
DTSTART:20251130T013000Z
DTEND:20251130T022000Z
LOCATION:Jessup Premier Field #1
CONTACT:
SUMMARY:FC Sesori VS. Deportivo Palestina
DESCRIPTION:League Name: Sat Mens Open 2nd I div  \nGame Type: Regular\nGam
 e Status: Complete\nHome Team: FC Sesori\nAway Team: Deportivo Palestina\n
 Home Score: 5\nAway Score: 2
END:VEVENT
BEGIN:VEVENT
UID:16854457@ezleagues.ezfacility.com
DTSTAMP:20260422T053918Z
CREATED:20260422T053918Z
DTSTART:20251207T004000Z
DTEND:20251207T013000Z
LOCATION:Jessup Premier Field #2
CONTACT:
SUMMARY:FC Sesori VS. GTO
DESCRIPTION:League Name: Sat Mens Open 2nd I div  \nGame Type: Regular\nGam
 e Status: Complete\nHome Team: FC Sesori\nAway Team: GTO\nHome Score: 2\nA
 way Score: 8
END:VEVENT
BEGIN:VEVENT
UID:16854472@ezleagues.ezfacility.com
DTSTAMP:20260422T053918Z
CREATED:20260422T053918Z
DTSTART:20251214T004000Z
DTEND:20251214T013000Z
LOCATION:Jessup Premier Field #2
CONTACT:
SUMMARY:FC Sesori VS. Ciudad Barrio
DESCRIPTION:League Name: Sat Mens Open 2nd I div  \nGame Type: Regular\nGam
 e Status: Complete\nHome Team: FC Sesori\nAway Team: Ciudad Barrio\nHome S
 core: 3\nAway Score: 2
END:VEVENT
BEGIN:VEVENT
UID:16854486@ezleagues.ezfacility.com
DTSTAMP:20260422T053918Z
CREATED:20260422T053918Z
DTSTART:20251221T022000Z
DTEND:20251221T031000Z
LOCATION:Jessup Premier Field #2
CONTACT:
SUMMARY:Mictlan FC VS. FC Sesori
DESCRIPTION:League Name: Sat Mens Open 2nd I div  \nGame Type: Regular\nGam
 e Status: Complete\nHome Team: Mictlan FC\nAway Team: FC Sesori\nHome Scor
 e: 6\nAway Score: 5
END:VEVENT
BEGIN:VEVENT
UID:16854499@ezleagues.ezfacility.com
DTSTAMP:20260422T053918Z
CREATED:20260422T053918Z
DTSTART:20260104T013000Z
DTEND:20260104T022000Z
LOCATION:Jessup Premier Field #2
CONTACT:
SUMMARY:Machetes FC VS. FC Sesori
DESCRIPTION:League Name: Sat Mens Open 2nd I div  \nGame Type: Regular\nGam
 e Status: Complete\nHome Team: Machetes FC\nAway Team: FC Sesori\nHome Sco
 re: 0\nAway Score: 4
END:VEVENT
BEGIN:VEVENT
UID:16950997@ezleagues.ezfacility.com
DTSTAMP:20260422T053918Z
CREATED:20260422T053918Z
DTSTART:20260110T235000Z
DTEND:20260111T003800Z
LOCATION:Jessup Premier Field #2
CONTACT:
SUMMARY:Inter FC VS. FC Sesori
DESCRIPTION:League Name: Sat Mens Open 2nd I div  \nGame Type: Regular\nGam
 e Status: Complete\nHome Team: Inter FC\nAway Team: FC Sesori\nHome Score:
  6\nAway Score: 2
END:VEVENT
BEGIN:VEVENT
UID:16965579@ezleagues.ezfacility.com
DTSTAMP:20260422T053918Z
CREATED:20260422T053918Z
DTSTART:20260118T004000Z
DTEND:20260118T012800Z
LOCATION:Jessup Premier Field #2
CONTACT:
SUMMARY:FC Sesori VS. Deportivo Palestina
DESCRIPTION:League Name: Sat Mens Open 2nd I div  \nGame Type: Regular\nGam
 e Status: Complete\nHome Team: FC Sesori\nAway Team: Deportivo Palestina\n
 Home Score: 8\nAway Score: 2
END:VEVENT
END:VCALENDAR
