BEGIN:VCALENDAR
VERSION:2.0
PRODID:-//EZFacility.com, Inc.//EZL 2.5.5.28621
BEGIN:VEVENT
UID:16744471@ezleagues.ezfacility.com
DTSTAMP:20260424T044331Z
CREATED:20260424T044331Z
DTSTART:20251002T030000Z
DTEND:20251002T034500Z
LOCATION:Field 2
CONTACT:
SUMMARY:Big Bertha VS. Balls Deep
DESCRIPTION:League Name: Wednesday\nGame Type: Regular\nGame Status: Comple
 te\nHome Team: Big Bertha\nAway Team: Balls Deep\nHome Score: 8\nAway Scor
 e: 9
END:VEVENT
BEGIN:VEVENT
UID:16744477@ezleagues.ezfacility.com
DTSTAMP:20260424T044331Z
CREATED:20260424T044331Z
DTSTART:20251009T024500Z
DTEND:20251009T033000Z
LOCATION:Field 2
CONTACT:
SUMMARY:Big Bertha VS. The Motors
DESCRIPTION:League Name: Wednesday\nGame Type: Regular\nGame Status: Comple
 te\nHome Team: Big Bertha\nAway Team: The Motors\nHome Score: 9\nAway Scor
 e: 6
END:VEVENT
BEGIN:VEVENT
UID:16744483@ezleagues.ezfacility.com
DTSTAMP:20260424T044331Z
CREATED:20260424T044331Z
DTSTART:20251015T234500Z
DTEND:20251016T003000Z
LOCATION:Field 2
CONTACT:
SUMMARY:Big Bertha VS. BBC
DESCRIPTION:League Name: Wednesday\nGame Type: Regular\nGame Status: Comple
 te\nHome Team: Big Bertha\nAway Team: BBC\nHome Score: 6\nAway Score: 6
END:VEVENT
BEGIN:VEVENT
UID:16744489@ezleagues.ezfacility.com
DTSTAMP:20260424T044331Z
CREATED:20260424T044331Z
DTSTART:20251023T024500Z
DTEND:20251023T033000Z
LOCATION:Field 2
CONTACT:
SUMMARY:Big Bertha VS. Houston Inter
DESCRIPTION:League Name: Wednesday\nGame Type: Regular\nGame Status: Comple
 te\nHome Team: Big Bertha\nAway Team: Houston Inter\nHome Score: 0\nAway S
 core: 5
END:VEVENT
BEGIN:VEVENT
UID:16744494@ezleagues.ezfacility.com
DTSTAMP:20260424T044331Z
CREATED:20260424T044331Z
DTSTART:20251030T020000Z
DTEND:20251030T024500Z
LOCATION:Field 2
CONTACT:
SUMMARY:La Laja United VS. Big Bertha
DESCRIPTION:League Name: Wednesday\nGame Type: Regular\nGame Status: Comple
 te\nHome Team: La Laja United\nAway Team: Big Bertha\nHome Score: 10\nAway
  Score: 4
END:VEVENT
BEGIN:VEVENT
UID:16744498@ezleagues.ezfacility.com
DTSTAMP:20260424T044331Z
CREATED:20260424T044331Z
DTSTART:20251106T013000Z
DTEND:20251106T021500Z
LOCATION:Field 2
CONTACT:
SUMMARY:Tango Come Mango VS. Big Bertha
DESCRIPTION:League Name: Wednesday\nGame Type: Regular\nGame Status: Comple
 te\nHome Team: Tango Come Mango\nAway Team: Big Bertha\nHome Score: 5\nAwa
 y Score: 0
END:VEVENT
BEGIN:VEVENT
UID:16863794@ezleagues.ezfacility.com
DTSTAMP:20260424T044331Z
CREATED:20260424T044331Z
DTSTART:20251106T050000Z
DTEND:20251106T054500Z
LOCATION:Field 2
CONTACT:
SUMMARY:Big Bertha VS. BBC
DESCRIPTION:League Name: Wednesday\nGame Type: Regular\nGame Status: Comple
 te\nHome Team: Big Bertha\nAway Team: BBC\nHome Score: 0\nAway Score: 5
END:VEVENT
END:VCALENDAR
