BEGIN:VCALENDAR
VERSION:2.0
PRODID:-//EZFacility.com, Inc.//EZL 2.5.5.28621
BEGIN:VEVENT
UID:16744474@ezleagues.ezfacility.com
DTSTAMP:20260424T043216Z
CREATED:20260424T043216Z
DTSTART:20251002T000000Z
DTEND:20251002T004500Z
LOCATION:Field 2
CONTACT:
SUMMARY:BBC VS. Libya
DESCRIPTION:League Name: Wednesday\nGame Type: Regular\nGame Status: Comple
 te\nHome Team: BBC\nAway Team: Libya\nHome Score: 0\nAway Score: 5
END:VEVENT
BEGIN:VEVENT
UID:16744483@ezleagues.ezfacility.com
DTSTAMP:20260424T043216Z
CREATED:20260424T043216Z
DTSTART:20251015T234500Z
DTEND:20251016T003000Z
LOCATION:Field 2
CONTACT:
SUMMARY:Big Bertha VS. BBC
DESCRIPTION:League Name: Wednesday\nGame Type: Regular\nGame Status: Comple
 te\nHome Team: Big Bertha\nAway Team: BBC\nHome Score: 6\nAway Score: 6
END:VEVENT
BEGIN:VEVENT
UID:16744487@ezleagues.ezfacility.com
DTSTAMP:20260424T043216Z
CREATED:20260424T043216Z
DTSTART:20251023T003000Z
DTEND:20251023T011500Z
LOCATION:Field 2
CONTACT:
SUMMARY:Balls Deep VS. BBC
DESCRIPTION:League Name: Wednesday\nGame Type: Regular\nGame Status: Comple
 te\nHome Team: Balls Deep\nAway Team: BBC\nHome Score: 4\nAway Score: 7
END:VEVENT
BEGIN:VEVENT
UID:16744491@ezleagues.ezfacility.com
DTSTAMP:20260424T043216Z
CREATED:20260424T043216Z
DTSTART:20251029T234500Z
DTEND:20251030T003000Z
LOCATION:Field 2
CONTACT:
SUMMARY:Tango Come Mango VS. BBC
DESCRIPTION:League Name: Wednesday\nGame Type: Regular\nGame Status: Comple
 te\nHome Team: Tango Come Mango\nAway Team: BBC\nHome Score: 9\nAway Score
 : 4
END:VEVENT
BEGIN:VEVENT
UID:16744495@ezleagues.ezfacility.com
DTSTAMP:20260424T043216Z
CREATED:20260424T043216Z
DTSTART:20251106T004500Z
DTEND:20251106T013000Z
LOCATION:Field 2
CONTACT:
SUMMARY:BBC VS. Oilers
DESCRIPTION:League Name: Wednesday\nGame Type: Regular\nGame Status: Comple
 te\nHome Team: BBC\nAway Team: Oilers\nHome Score: 0\nAway Score: 5
END:VEVENT
BEGIN:VEVENT
UID:16863794@ezleagues.ezfacility.com
DTSTAMP:20260424T043216Z
CREATED:20260424T043216Z
DTSTART:20251106T050000Z
DTEND:20251106T054500Z
LOCATION:Field 2
CONTACT:
SUMMARY:Big Bertha VS. BBC
DESCRIPTION:League Name: Wednesday\nGame Type: Regular\nGame Status: Comple
 te\nHome Team: Big Bertha\nAway Team: BBC\nHome Score: 0\nAway Score: 5
END:VEVENT
BEGIN:VEVENT
UID:16744502@ezleagues.ezfacility.com
DTSTAMP:20260424T043216Z
CREATED:20260424T043216Z
DTSTART:20251113T004500Z
DTEND:20251113T013000Z
LOCATION:Field 2
CONTACT:
SUMMARY:Libya VS. BBC
DESCRIPTION:League Name: Wednesday\nGame Type: Regular\nGame Status: Comple
 te\nHome Team: Libya\nAway Team: BBC\nHome Score: 5\nAway Score: 0
END:VEVENT
END:VCALENDAR
