BEGIN:VCALENDAR
VERSION:2.0
PRODID:-//EZFacility.com, Inc.//EZL 2.5.5.28621
BEGIN:VEVENT
UID:16745107@ezleagues.ezfacility.com
DTSTAMP:20260426T033552Z
CREATED:20260426T033552Z
DTSTART:20251017T223000Z
DTEND:20251017T231500Z
LOCATION:Court 3
CONTACT:
SUMMARY:Hash Slinging Smashers VS. Ace Holes
DESCRIPTION:League Name: Fall Friday Court 3 Coed D Sixes\nGame Type: Regul
 ar\nGame Status: Complete\nHome Team: Hash Slinging Smashers\nAway Team: A
 ce Holes\nHome Score: 1\nAway Score: 2
END:VEVENT
BEGIN:VEVENT
UID:16745113@ezleagues.ezfacility.com
DTSTAMP:20260426T033552Z
CREATED:20260426T033552Z
DTSTART:20251025T000000Z
DTEND:20251025T004500Z
LOCATION:Court 3
CONTACT:
SUMMARY:Ace Holes VS. Lord of the Swings
DESCRIPTION:League Name: Fall Friday Court 3 Coed D Sixes\nGame Type: Regul
 ar\nGame Status: Complete\nHome Team: Ace Holes\nAway Team: Lord of the Sw
 ings\nHome Score: 3\nAway Score: 0
END:VEVENT
BEGIN:VEVENT
UID:16745125@ezleagues.ezfacility.com
DTSTAMP:20260426T033552Z
CREATED:20260426T033552Z
DTSTART:20251108T001500Z
DTEND:20251108T010000Z
LOCATION:Court 3
CONTACT:
SUMMARY:Ace Holes VS. Whippersnappers
DESCRIPTION:League Name: Fall Friday Court 3 Coed D Sixes\nGame Type: Regul
 ar\nGame Status: Complete\nHome Team: Ace Holes\nAway Team: Whippersnapper
 s\nHome Score: 3\nAway Score: 0
END:VEVENT
BEGIN:VEVENT
UID:16745131@ezleagues.ezfacility.com
DTSTAMP:20260426T033552Z
CREATED:20260426T033552Z
DTSTART:20251115T001500Z
DTEND:20251115T010000Z
LOCATION:Court 3
CONTACT:
SUMMARY:wombats VS. Ace Holes
DESCRIPTION:League Name: Fall Friday Court 3 Coed D Sixes\nGame Type: Regul
 ar\nGame Status: Complete\nHome Team: wombats\nAway Team: Ace Holes\nHome 
 Score: 0\nAway Score: 3
END:VEVENT
BEGIN:VEVENT
UID:16745144@ezleagues.ezfacility.com
DTSTAMP:20260426T033552Z
CREATED:20260426T033552Z
DTSTART:20251129T023000Z
DTEND:20251129T031500Z
LOCATION:Court 3
CONTACT:
SUMMARY:Will Work for Sets VS. Ace Holes
DESCRIPTION:League Name: Fall Friday Court 3 Coed D Sixes\nGame Type: Regul
 ar\nGame Status: Complete\nHome Team: Will Work for Sets\nAway Team: Ace H
 oles\nHome Score: 0\nAway Score: 3
END:VEVENT
BEGIN:VEVENT
UID:16745150@ezleagues.ezfacility.com
DTSTAMP:20260426T033552Z
CREATED:20260426T033552Z
DTSTART:20251206T014500Z
DTEND:20251206T023000Z
LOCATION:Court 3
CONTACT:
SUMMARY:Ace Holes VS. Volley McBall Face
DESCRIPTION:League Name: Fall Friday Court 3 Coed D Sixes\nGame Type: Regul
 ar\nGame Status: Complete\nHome Team: Ace Holes\nAway Team: Volley McBall 
 Face\nHome Score: 3\nAway Score: 0
END:VEVENT
BEGIN:VEVENT
UID:16745156@ezleagues.ezfacility.com
DTSTAMP:20260426T033552Z
CREATED:20260426T033552Z
DTSTART:20251213T010000Z
DTEND:20251213T014500Z
LOCATION:Court 3
CONTACT:
SUMMARY:Sandy Cheeks VS. Ace Holes
DESCRIPTION:League Name: Fall Friday Court 3 Coed D Sixes\nGame Type: Regul
 ar\nGame Status: Complete\nHome Team: Sandy Cheeks\nAway Team: Ace Holes\n
 Home Score: 1\nAway Score: 2
END:VEVENT
BEGIN:VEVENT
UID:16745162@ezleagues.ezfacility.com
DTSTAMP:20260426T033552Z
CREATED:20260426T033552Z
DTSTART:20251220T023000Z
DTEND:20251220T031500Z
LOCATION:Court 3
CONTACT:
SUMMARY:Ace Holes VS. Hits and Giggles
DESCRIPTION:League Name: Fall Friday Court 3 Coed D Sixes\nGame Type: Regul
 ar\nGame Status: Complete\nHome Team: Ace Holes\nAway Team: Hits and Giggl
 es\nHome Score: 3\nAway Score: 0
END:VEVENT
BEGIN:VEVENT
UID:16745168@ezleagues.ezfacility.com
DTSTAMP:20260426T033552Z
CREATED:20260426T033552Z
DTSTART:20251226T233000Z
DTEND:20251227T001500Z
LOCATION:Court 3
CONTACT:
SUMMARY:Ace Holes VS. Fireballers
DESCRIPTION:League Name: Fall Friday Court 3 Coed D Sixes\nGame Type: Regul
 ar\nGame Status: Complete\nHome Team: Ace Holes\nAway Team: Fireballers\nH
 ome Score: 3\nAway Score: 0
END:VEVENT
BEGIN:VEVENT
UID:16745119@ezleagues.ezfacility.com
DTSTAMP:20260426T033552Z
CREATED:20260426T033552Z
DTSTART:20260103T014500Z
DTEND:20260103T023000Z
LOCATION:Court 3
CONTACT:
SUMMARY:The Struggle is Real VS. Ace Holes
DESCRIPTION:League Name: Fall Friday Court 3 Coed D Sixes\nGame Type: Regul
 ar\nGame Status: Complete\nHome Team: The Struggle is Real\nAway Team: Ace
  Holes\nHome Score: 2\nAway Score: 1
END:VEVENT
END:VCALENDAR
