BEGIN:VCALENDAR
VERSION:2.0
PRODID:-//EZFacility.com, Inc.//EZL 2.5.5.28621
BEGIN:VEVENT
UID:1406008@ezleagues.ezfacility.com
DTSTAMP:20260425T141601Z
CREATED:20260425T141601Z
DTSTART:20080517T230000Z
DTEND:20080518T000000Z
LOCATION:SANDHILLS (Field #2) 
CONTACT:
SUMMARY:Trabiesos VS. Real Saldana
DESCRIPTION:League Name: Summer I Latino Soccer Roja\nGame Type: Regular\nG
 ame Status: Complete\nHome Team: Trabiesos\nAway Team: Real Saldana\nHome 
 Score: 6\nAway Score: 0
END:VEVENT
BEGIN:VEVENT
UID:1416191@ezleagues.ezfacility.com
DTSTAMP:20260425T141601Z
CREATED:20260425T141601Z
DTSTART:20080524T171000Z
DTEND:20080524T181000Z
LOCATION:SANDHILLS (Bi-Lo #1)
CONTACT:
SUMMARY:Trabiesos VS. Cerveceros
DESCRIPTION:League Name: Summer I Latino Soccer Roja\nGame Type: Regular\nG
 ame Status: Complete\nHome Team: Trabiesos\nAway Team: Cerveceros\nHome Sc
 ore: 6\nAway Score: 0
END:VEVENT
BEGIN:VEVENT
UID:1428137@ezleagues.ezfacility.com
DTSTAMP:20260425T141601Z
CREATED:20260425T141601Z
DTSTART:20080530T191000Z
DTEND:20080530T201000Z
LOCATION:SANDHILLS (Field #2) 
CONTACT:
SUMMARY:Trabiesos VS. Real Macarena
DESCRIPTION:League Name: Summer I Latino Soccer Roja\nGame Type: Regular\nG
 ame Status: Complete\nHome Team: Trabiesos\nAway Team: Real Macarena\nHome
  Score: 8\nAway Score: 7
END:VEVENT
BEGIN:VEVENT
UID:1442165@ezleagues.ezfacility.com
DTSTAMP:20260425T141601Z
CREATED:20260425T141601Z
DTSTART:20080607T171000Z
DTEND:20080607T181000Z
LOCATION:SANDHILLS (Field #2) 
CONTACT:
SUMMARY:Victoria Jrs. VS. Trabiesos
DESCRIPTION:League Name: Summer I Latino Soccer Roja\nGame Type: Regular\nG
 ame Status: Complete\nHome Team: Victoria Jrs.\nAway Team: Trabiesos\nHome
  Score: 6\nAway Score: 3
END:VEVENT
BEGIN:VEVENT
UID:1449032@ezleagues.ezfacility.com
DTSTAMP:20260425T141601Z
CREATED:20260425T141601Z
DTSTART:20080614T212000Z
DTEND:20080614T222000Z
LOCATION:SANDHILLS (Field #2) 
CONTACT:Mower
SUMMARY:Angel Construction VS. Trabiesos
DESCRIPTION:League Name: Summer I Latino Soccer Roja\nGame Type: Regular\nG
 ame Status: Complete\nHome Team: Angel Construction\nAway Team: Trabiesos\
 nHome Score: 6\nAway Score: 0
END:VEVENT
BEGIN:VEVENT
UID:1449107@ezleagues.ezfacility.com
DTSTAMP:20260425T141601Z
CREATED:20260425T141601Z
DTSTART:20080620T215000Z
DTEND:20080620T225000Z
LOCATION:SANDHILLS (Bi-Lo #1)
CONTACT:
SUMMARY:Barcelona VS. Trabiesos
DESCRIPTION:League Name: Summer I Latino Soccer Roja\nGame Type: Regular\nG
 ame Status: Complete\nHome Team: Barcelona\nAway Team: Trabiesos\nHome Sco
 re: 6\nAway Score: 4
END:VEVENT
BEGIN:VEVENT
UID:1455377@ezleagues.ezfacility.com
DTSTAMP:20260425T141601Z
CREATED:20260425T141601Z
DTSTART:20080621T162000Z
DTEND:20080621T172000Z
LOCATION:SANDHILLS (Field #2) 
CONTACT:Perez
SUMMARY:Real Saldana VS. Trabiesos
DESCRIPTION:League Name: Summer I Latino Soccer Roja\nGame Type: Regular\nG
 ame Status: Complete\nHome Team: Real Saldana\nAway Team: Trabiesos\nHome 
 Score: 1\nAway Score: 8
END:VEVENT
BEGIN:VEVENT
UID:1449688@ezleagues.ezfacility.com
DTSTAMP:20260425T141601Z
CREATED:20260425T141601Z
DTSTART:20080628T194000Z
DTEND:20080628T204000Z
LOCATION:SANDHILLS (Field #2) 
CONTACT:
SUMMARY:Ixmiquilpan VS. Trabiesos
DESCRIPTION:League Name: Summer I Latino Soccer Roja\nGame Type: Regular\nG
 ame Status: Complete\nHome Team: Ixmiquilpan\nAway Team: Trabiesos\nHome S
 core: 3\nAway Score: 6
END:VEVENT
BEGIN:VEVENT
UID:1449741@ezleagues.ezfacility.com
DTSTAMP:20260425T141601Z
CREATED:20260425T141601Z
DTSTART:20080705T203000Z
DTEND:20080705T213000Z
LOCATION:SANDHILLS (Bi-Lo #1)
CONTACT:
SUMMARY:Liverpool VS. Trabiesos
DESCRIPTION:League Name: Summer I Latino Soccer Roja\nGame Type: Regular\nG
 ame Status: Complete\nHome Team: Liverpool\nAway Team: Trabiesos\nHome Sco
 re: 6\nAway Score: 0
END:VEVENT
BEGIN:VEVENT
UID:1451937@ezleagues.ezfacility.com
DTSTAMP:20260425T141601Z
CREATED:20260425T141601Z
DTSTART:20080711T205000Z
DTEND:20080711T215000Z
LOCATION:SANDHILLS (Field #2) 
CONTACT:
SUMMARY:Pumas VS. Trabiesos
DESCRIPTION:League Name: Summer I Latino Soccer Roja\nGame Type: Regular\nG
 ame Status: Complete\nHome Team: Pumas\nAway Team: Trabiesos\nHome Score: 
 3\nAway Score: 6
END:VEVENT
END:VCALENDAR
