BEGIN:VCALENDAR
VERSION:2.0
PRODID:-//EZFacility.com, Inc.//EZL 2.5.5.28621
BEGIN:VEVENT
UID:16748530@ezleagues.ezfacility.com
DTSTAMP:20260426T033727Z
CREATED:20260426T033727Z
DTSTART:20251008T014500Z
DTEND:20251008T023000Z
LOCATION:StFX Stadium Turf 1
CONTACT:
SUMMARY:Omahutters VS. waymo deep
DESCRIPTION:League Name: Intramural Flag Football-Men's Division\nGame Type
 : Regular\nGame Status: Complete\nHome Team: Omahutters\nAway Team: waymo 
 deep\nHome Score: 6\nAway Score: 36
END:VEVENT
BEGIN:VEVENT
UID:16748537@ezleagues.ezfacility.com
DTSTAMP:20260426T033727Z
CREATED:20260426T033727Z
DTSTART:20251020T011500Z
DTEND:20251020T020000Z
LOCATION:StFX Stadium Turf 1
CONTACT:
SUMMARY:Omahutters VS. Team Sayle
DESCRIPTION:League Name: Intramural Flag Football-Men's Division\nGame Type
 : Regular\nGame Status: Complete\nHome Team: Omahutters\nAway Team: Team S
 ayle\nHome Score: 6\nAway Score: 20
END:VEVENT
BEGIN:VEVENT
UID:16748543@ezleagues.ezfacility.com
DTSTAMP:20260426T033727Z
CREATED:20260426T033727Z
DTSTART:20251023T022000Z
DTEND:20251023T030500Z
LOCATION:StFX Stadium Turf 1
CONTACT:
SUMMARY:MacDawgs VS. Omahutters
DESCRIPTION:League Name: Intramural Flag Football-Men's Division\nGame Type
 : Regular\nGame Status: Complete\nHome Team: MacDawgs\nAway Team: Omahutte
 rs\nHome Score: 34\nAway Score: 0
END:VEVENT
BEGIN:VEVENT
UID:16748548@ezleagues.ezfacility.com
DTSTAMP:20260426T033727Z
CREATED:20260426T033727Z
DTSTART:20251029T014500Z
DTEND:20251029T023000Z
LOCATION:StFX Stadium Turf 1
CONTACT:
SUMMARY:Balls Deep VS. Omahutters
DESCRIPTION:League Name: Intramural Flag Football-Men's Division\nGame Type
 : Regular\nGame Status: Complete\nHome Team: Balls Deep\nAway Team: Omahut
 ters\nHome Score: 0\nAway Score: 14
END:VEVENT
END:VCALENDAR
