BEGIN:VCALENDAR
VERSION:2.0
PRODID:-//EZFacility.com, Inc.//EZL 2.5.5.28621
BEGIN:VEVENT
UID:1406069@ezleagues.ezfacility.com
DTSTAMP:20260426T033612Z
CREATED:20260426T033612Z
DTSTART:20080517T171000Z
DTEND:20080517T180000Z
LOCATION:SANDHILLS (Bi-Lo #1)
CONTACT:Perez
SUMMARY:Dep Tigres VS. Los Kings
DESCRIPTION:League Name: Summer I Latino Soccer Azul\nGame Type: Regular\nG
 ame Status: Complete\nHome Team: Dep Tigres\nAway Team: Los Kings\nHome Sc
 ore: 6\nAway Score: 0
END:VEVENT
BEGIN:VEVENT
UID:1416201@ezleagues.ezfacility.com
DTSTAMP:20260426T033612Z
CREATED:20260426T033612Z
DTSTART:20080524T180000Z
DTEND:20080524T190000Z
LOCATION:SANDHILLS (Field #2) 
CONTACT:
SUMMARY:Italia VS. Dep Tigres
DESCRIPTION:League Name: Summer I Latino Soccer Azul\nGame Type: Regular\nG
 ame Status: Complete\nHome Team: Italia\nAway Team: Dep Tigres\nHome Score
 : 5\nAway Score: 6
END:VEVENT
BEGIN:VEVENT
UID:1416204@ezleagues.ezfacility.com
DTSTAMP:20260426T033612Z
CREATED:20260426T033612Z
DTSTART:20080524T212000Z
DTEND:20080524T222000Z
LOCATION:SANDHILLS (Bi-Lo #1)
CONTACT:Cook
SUMMARY:C&W Painting VS. Dep Tigres
DESCRIPTION:League Name: Summer I Latino Soccer Azul\nGame Type: Regular\nG
 ame Status: Complete\nHome Team: C&W Painting\nAway Team: Dep Tigres\nHome
  Score: 7\nAway Score: 4
END:VEVENT
BEGIN:VEVENT
UID:1428151@ezleagues.ezfacility.com
DTSTAMP:20260426T033612Z
CREATED:20260426T033612Z
DTSTART:20080530T201000Z
DTEND:20080530T211000Z
LOCATION:SANDHILLS (Bi-Lo #1)
CONTACT:
SUMMARY:Inter VS. Dep Tigres
DESCRIPTION:League Name: Summer I Latino Soccer Azul\nGame Type: Regular\nG
 ame Status: Complete\nHome Team: Inter\nAway Team: Dep Tigres\nHome Score:
  5\nAway Score: 4
END:VEVENT
BEGIN:VEVENT
UID:1442205@ezleagues.ezfacility.com
DTSTAMP:20260426T033612Z
CREATED:20260426T033612Z
DTSTART:20080607T194000Z
DTEND:20080607T204000Z
LOCATION:SANDHILLS (Bi-Lo #1)
CONTACT:Perez
SUMMARY:Dep. Azteca VS. Dep Tigres
DESCRIPTION:League Name: Summer I Latino Soccer Azul\nGame Type: Regular\nG
 ame Status: Complete\nHome Team: Dep. Azteca\nAway Team: Dep Tigres\nHome 
 Score: 0\nAway Score: 6
END:VEVENT
BEGIN:VEVENT
UID:1449017@ezleagues.ezfacility.com
DTSTAMP:20260426T033612Z
CREATED:20260426T033612Z
DTSTART:20080613T214000Z
DTEND:20080613T224000Z
LOCATION:SANDHILLS (Field #2) 
CONTACT:
SUMMARY:Dep Tigres VS. Dep Azul
DESCRIPTION:League Name: Summer I Latino Soccer Azul\nGame Type: Regular\nG
 ame Status: Complete\nHome Team: Dep Tigres\nAway Team: Dep Azul\nHome Sco
 re: 2\nAway Score: 4
END:VEVENT
BEGIN:VEVENT
UID:1449587@ezleagues.ezfacility.com
DTSTAMP:20260426T033612Z
CREATED:20260426T033612Z
DTSTART:20080621T212000Z
DTEND:20080621T222000Z
LOCATION:SANDHILLS (Field #2) 
CONTACT:
SUMMARY:Dep Tigres VS. Real Samesta
DESCRIPTION:League Name: Summer I Latino Soccer Azul\nGame Type: Regular\nG
 ame Status: Complete\nHome Team: Dep Tigres\nAway Team: Real Samesta\nHome
  Score: 1\nAway Score: 2
END:VEVENT
BEGIN:VEVENT
UID:1449681@ezleagues.ezfacility.com
DTSTAMP:20260426T033612Z
CREATED:20260426T033612Z
DTSTART:20080628T203000Z
DTEND:20080628T213000Z
LOCATION:SANDHILLS (Field #2) 
CONTACT:
SUMMARY:Dep Tigres VS. Colorados Painting
DESCRIPTION:League Name: Summer I Latino Soccer Azul\nGame Type: Regular\nG
 ame Status: Complete\nHome Team: Dep Tigres\nAway Team: Colorados Painting
 \nHome Score: 5\nAway Score: 4
END:VEVENT
BEGIN:VEVENT
UID:1449724@ezleagues.ezfacility.com
DTSTAMP:20260426T033612Z
CREATED:20260426T033612Z
DTSTART:20080706T191000Z
DTEND:20080706T201000Z
LOCATION:SANDHILLS (Field #2) 
CONTACT:
SUMMARY:Celtic VS. Dep Tigres
DESCRIPTION:League Name: Summer I Latino Soccer Azul\nGame Type: Regular\nG
 ame Status: Complete\nHome Team: Celtic\nAway Team: Dep Tigres\nHome Score
 : 9\nAway Score: 6
END:VEVENT
BEGIN:VEVENT
UID:1451940@ezleagues.ezfacility.com
DTSTAMP:20260426T033612Z
CREATED:20260426T033612Z
DTSTART:20080711T215000Z
DTEND:20080711T225000Z
LOCATION:SANDHILLS (Bi-Lo #1)
CONTACT:
SUMMARY:Dep Tigres VS. Miguelense
DESCRIPTION:League Name: Summer I Latino Soccer Azul\nGame Type: Regular\nG
 ame Status: Complete\nHome Team: Dep Tigres\nAway Team: Miguelense\nHome S
 core: 10\nAway Score: 2
END:VEVENT
END:VCALENDAR
