BEGIN:VCALENDAR
VERSION:2.0
PRODID:-//EZFacility.com, Inc.//EZL 2.5.5.28621
BEGIN:VEVENT
UID:16782367@ezleagues.ezfacility.com
DTSTAMP:20260419T234223Z
CREATED:20260419T234223Z
DTSTART:20251019T020000Z
DTEND:20251019T030000Z
LOCATION:Soccer Field 2
CONTACT:
SUMMARY:Toluca FC VS. TBD
DESCRIPTION:League Name: AISL Men's Open - Fall 2025 - Saturdays\nGame Type
 : Regular\nGame Status: Complete\nHome Team: Toluca FC\nAway Team: TBD\nHo
 me Score: 4\nAway Score: 0
END:VEVENT
BEGIN:VEVENT
UID:16790546@ezleagues.ezfacility.com
DTSTAMP:20260419T234223Z
CREATED:20260419T234223Z
DTSTART:20251026T020000Z
DTEND:20251026T030000Z
LOCATION:Soccer Field 1
CONTACT:
SUMMARY:Toluca FC VS. Field United
DESCRIPTION:League Name: AISL Men's Open - Fall 2025 - Saturdays\nGame Type
 : Regular\nGame Status: Complete\nHome Team: Toluca FC\nAway Team: Field U
 nited\nHome Score: 1\nAway Score: 4
END:VEVENT
BEGIN:VEVENT
UID:16816744@ezleagues.ezfacility.com
DTSTAMP:20260419T234223Z
CREATED:20260419T234223Z
DTSTART:20251102T040000Z
DTEND:20251102T050000Z
LOCATION:Soccer Field 3
CONTACT:
SUMMARY:TBD VS. Toluca FC
DESCRIPTION:League Name: AISL Men's Open - Fall 2025 - Saturdays\nGame Type
 : Regular\nGame Status: Complete\nHome Team: TBD\nAway Team: Toluca FC\nHo
 me Score: 0\nAway Score: 4
END:VEVENT
BEGIN:VEVENT
UID:17051319@ezleagues.ezfacility.com
DTSTAMP:20260419T234223Z
CREATED:20260419T234223Z
DTSTART:20251130T043000Z
DTEND:20251130T053000Z
LOCATION:Soccer Field 2
CONTACT:
SUMMARY:Toluca FC VS. TBD
DESCRIPTION:League Name: AISL Men's Open - Fall 2025 - Saturdays\nGame Type
 : Regular\nGame Status: Complete\nHome Team: Toluca FC\nAway Team: TBD\nHo
 me Score: 4\nAway Score: 0
END:VEVENT
BEGIN:VEVENT
UID:16900890@ezleagues.ezfacility.com
DTSTAMP:20260419T234223Z
CREATED:20260419T234223Z
DTSTART:20251214T031500Z
DTEND:20251214T041500Z
LOCATION:Soccer Field 4A
CONTACT:
SUMMARY:Toluca FC VS. Azteka FC
DESCRIPTION:League Name: AISL Men's Open - Fall 2025 - Saturdays\nGame Type
 : Regular\nGame Status: Complete\nHome Team: Toluca FC\nAway Team: Azteka 
 FC\nHome Score: 6\nAway Score: 0
END:VEVENT
BEGIN:VEVENT
UID:16925806@ezleagues.ezfacility.com
DTSTAMP:20260419T234223Z
CREATED:20260419T234223Z
DTSTART:20251228T010000Z
DTEND:20251228T020000Z
LOCATION:Soccer Field 2
CONTACT:
SUMMARY:Toluca FC VS. TBD
DESCRIPTION:League Name: AISL Men's Open - Fall 2025 - Saturdays\nGame Type
 : Regular\nGame Status: Complete\nHome Team: Toluca FC\nAway Team: TBD\nHo
 me Score: 5\nAway Score: 2
END:VEVENT
BEGIN:VEVENT
UID:16950723@ezleagues.ezfacility.com
DTSTAMP:20260419T234223Z
CREATED:20260419T234223Z
DTSTART:20260111T051500Z
DTEND:20260111T061500Z
LOCATION:Soccer Field 3A
CONTACT:
SUMMARY:Toluca FC VS. NASA FC
DESCRIPTION:League Name: AISL Men's Open - Fall 2025 - Saturdays\nGame Type
 : Regular\nGame Status: Complete\nHome Team: Toluca FC\nAway Team: NASA FC
 \nHome Score: 2\nAway Score: 4
END:VEVENT
BEGIN:VEVENT
UID:16965387@ezleagues.ezfacility.com
DTSTAMP:20260419T234223Z
CREATED:20260419T234223Z
DTSTART:20260118T051500Z
DTEND:20260118T061500Z
LOCATION:Soccer Field 1A
CONTACT:
SUMMARY:Trakas VS. Toluca FC
DESCRIPTION:League Name: AISL Men's Open - Fall 2025 - Saturdays\nGame Type
 : Regular\nGame Status: Complete\nHome Team: Trakas\nAway Team: Toluca FC\
 nHome Score: 5\nAway Score: 2
END:VEVENT
BEGIN:VEVENT
UID:16981379@ezleagues.ezfacility.com
DTSTAMP:20260419T234223Z
CREATED:20260419T234223Z
DTSTART:20260125T051500Z
DTEND:20260125T061500Z
LOCATION:Soccer Field 2
CONTACT:
SUMMARY:Toluca FC VS. Paloma FC
DESCRIPTION:League Name: AISL Men's Open - Fall 2025 - Saturdays\nGame Type
 : Regular\nGame Status: Complete\nHome Team: Toluca FC\nAway Team: Paloma 
 FC\nHome Score: 3\nAway Score: 5
END:VEVENT
BEGIN:VEVENT
UID:16985699@ezleagues.ezfacility.com
DTSTAMP:20260419T234223Z
CREATED:20260419T234223Z
DTSTART:20260201T041500Z
DTEND:20260201T051500Z
LOCATION:Soccer Field 3A
CONTACT:
SUMMARY:Gladiadores VS. Toluca FC
DESCRIPTION:League Name: AISL Men's Open - Fall 2025 - Saturdays\nGame Type
 : Regular\nGame Status: Complete\nHome Team: Gladiadores\nAway Team: Toluc
 a FC\nHome Score: 5\nAway Score: 1
END:VEVENT
BEGIN:VEVENT
UID:17010992@ezleagues.ezfacility.com
DTSTAMP:20260419T234223Z
CREATED:20260419T234223Z
DTSTART:20260215T041500Z
DTEND:20260215T051500Z
LOCATION:Soccer Field 1A
CONTACT:
SUMMARY:Cosmos  VS. Toluca FC
DESCRIPTION:League Name: AISL Men's Open - Fall 2025 - Saturdays\nGame Type
 : Regular\nGame Status: Complete\nHome Team: Cosmos \nAway Team: Toluca FC
 \nHome Score: 4\nAway Score: 6
END:VEVENT
BEGIN:VEVENT
UID:17025605@ezleagues.ezfacility.com
DTSTAMP:20260419T234223Z
CREATED:20260419T234223Z
DTSTART:20260222T031500Z
DTEND:20260222T041500Z
LOCATION:Soccer Field 4A
CONTACT:
SUMMARY:Toluca FC VS. Maletas FC
DESCRIPTION:League Name: AISL Men's Open - Fall 2025 - Saturdays\nGame Type
 : Regular\nGame Status: Complete\nHome Team: Toluca FC\nAway Team: Maletas
  FC\nHome Score: 8\nAway Score: 7
END:VEVENT
BEGIN:VEVENT
UID:17034939@ezleagues.ezfacility.com
DTSTAMP:20260419T234223Z
CREATED:20260419T234223Z
DTSTART:20260301T031500Z
DTEND:20260301T041500Z
LOCATION:Soccer Field 1A
CONTACT:
SUMMARY:Fuego FC  VS. Toluca FC
DESCRIPTION:League Name: AISL Men's Open - Fall 2025 - Saturdays\nGame Type
 : Regular\nGame Status: Complete\nHome Team: Fuego FC \nAway Team: Toluca 
 FC\nHome Score: 6\nAway Score: 6
END:VEVENT
BEGIN:VEVENT
UID:17043395@ezleagues.ezfacility.com
DTSTAMP:20260419T234223Z
CREATED:20260419T234223Z
DTSTART:20260308T041500Z
DTEND:20260308T051500Z
LOCATION:Soccer Field 2A
CONTACT:
SUMMARY:Gladiadores VS. Toluca FC
DESCRIPTION:League Name: AISL Men's Open - Fall 2025 - Saturdays\nGame Type
 : Regular\nGame Status: Complete\nHome Team: Gladiadores\nAway Team: Toluc
 a FC\nHome Score: 4\nAway Score: 6
END:VEVENT
BEGIN:VEVENT
UID:17043396@ezleagues.ezfacility.com
DTSTAMP:20260419T234223Z
CREATED:20260419T234223Z
DTSTART:20260308T041500Z
DTEND:20260308T051500Z
LOCATION:Soccer Field 3A
CONTACT:
SUMMARY:Toluca FC VS. Azteka FC
DESCRIPTION:League Name: AISL Men's Open - Fall 2025 - Saturdays\nGame Type
 : Regular\nGame Status: Complete\nHome Team: Toluca FC\nAway Team: Azteka 
 FC\nHome Score: 4\nAway Score: 0
END:VEVENT
BEGIN:VEVENT
UID:17043401@ezleagues.ezfacility.com
DTSTAMP:20260419T234223Z
CREATED:20260419T234223Z
DTSTART:20260308T051500Z
DTEND:20260308T061500Z
LOCATION:Soccer Field 3A
CONTACT:
SUMMARY:Cosmos  VS. Toluca FC
DESCRIPTION:League Name: AISL Men's Open - Fall 2025 - Saturdays\nGame Type
 : Regular\nGame Status: Complete\nHome Team: Cosmos \nAway Team: Toluca FC
 \nHome Score: 2\nAway Score: 3
END:VEVENT
BEGIN:VEVENT
UID:17051050@ezleagues.ezfacility.com
DTSTAMP:20260419T234223Z
CREATED:20260419T234223Z
DTSTART:20260315T021500Z
DTEND:20260315T031500Z
LOCATION:Soccer Field 1A
CONTACT:
SUMMARY:Catrachos VS. Toluca FC
DESCRIPTION:League Name: AISL Men's Open - Fall 2025 - Saturdays\nGame Type
 : Regular\nGame Status: Complete\nHome Team: Catrachos\nAway Team: Toluca 
 FC\nHome Score: 2\nAway Score: 2
END:VEVENT
BEGIN:VEVENT
UID:17059939@ezleagues.ezfacility.com
DTSTAMP:20260419T234223Z
CREATED:20260419T234223Z
DTSTART:20260322T010000Z
DTEND:20260322T020000Z
LOCATION:Soccer Field (half field) 2
CONTACT:
SUMMARY:Toluca FC VS. Azteka FC
DESCRIPTION:League Name: AISL Men's Open - Fall 2025 - Saturdays\nGame Type
 : Regular\nGame Status: Complete\nHome Team: Toluca FC\nAway Team: Azteka 
 FC\nHome Score: 7\nAway Score: 5
END:VEVENT
BEGIN:VEVENT
UID:17059940@ezleagues.ezfacility.com
DTSTAMP:20260419T234223Z
CREATED:20260419T234223Z
DTSTART:20260322T020000Z
DTEND:20260322T030000Z
LOCATION:Soccer Field (half field) 2
CONTACT:
SUMMARY:Toluca FC VS. San Luis FC
DESCRIPTION:League Name: AISL Men's Open - Fall 2025 - Saturdays\nGame Type
 : Regular\nGame Status: Complete\nHome Team: Toluca FC\nAway Team: San Lui
 s FC\nHome Score: 13\nAway Score: 3
END:VEVENT
BEGIN:VEVENT
UID:17071805@ezleagues.ezfacility.com
DTSTAMP:20260419T234223Z
CREATED:20260419T234223Z
DTSTART:20260405T023000Z
DTEND:20260405T033000Z
LOCATION:Soccer Field (half field) 2
CONTACT:
SUMMARY:Toluca FC VS. Paloma FC
DESCRIPTION:League Name: AISL Men's Open - Fall 2025 - Saturdays\nGame Type
 : Regular\nGame Status: Complete\nHome Team: Toluca FC\nAway Team: Paloma 
 FC\nHome Score: 4\nAway Score: 1
END:VEVENT
BEGIN:VEVENT
UID:17071807@ezleagues.ezfacility.com
DTSTAMP:20260419T234223Z
CREATED:20260419T234223Z
DTSTART:20260405T033000Z
DTEND:20260405T043000Z
LOCATION:Soccer Field (half field) 2
CONTACT:
SUMMARY:Delfines FC VS. Toluca FC
DESCRIPTION:League Name: AISL Men's Open - Fall 2025 - Saturdays\nGame Type
 : Regular\nGame Status: Complete\nHome Team: Delfines FC\nAway Team: Toluc
 a FC\nHome Score: 4\nAway Score: 0
END:VEVENT
BEGIN:VEVENT
UID:17096383@ezleagues.ezfacility.com
DTSTAMP:20260419T234223Z
CREATED:20260419T234223Z
DTSTART:20260412T030000Z
DTEND:20260412T040000Z
LOCATION:Soccer Field (half field) 1
CONTACT:
SUMMARY:Toluca FC VS. ALV
DESCRIPTION:League Name: AISL Men's Open - Fall 2025 - Saturdays\nGame Type
 : Regular\nGame Status: Complete\nHome Team: Toluca FC\nAway Team: ALV\nHo
 me Score: 0\nAway Score: 4
END:VEVENT
BEGIN:VEVENT
UID:17084778@ezleagues.ezfacility.com
DTSTAMP:20260419T234223Z
CREATED:20260419T234223Z
DTSTART:20260412T033000Z
DTEND:20260412T043000Z
LOCATION:Soccer Field (half field) 1
CONTACT:
SUMMARY:Tuzos FC VS. Toluca FC
DESCRIPTION:League Name: AISL Men's Open - Fall 2025 - Saturdays\nGame Type
 : Regular\nGame Status: Pending\nHome Team: Tuzos FC\nAway Team: Toluca FC
 \n
END:VEVENT
BEGIN:VEVENT
UID:17098755@ezleagues.ezfacility.com
DTSTAMP:20260419T234223Z
CREATED:20260419T234223Z
DTSTART:20260419T023000Z
DTEND:20260419T033000Z
LOCATION:Soccer Field (half field) 1
CONTACT:
SUMMARY:Trakas VS. Toluca FC
DESCRIPTION:League Name: AISL Men's Open - Fall 2025 - Saturdays\nGame Type
 : Regular\nGame Status: Complete\nHome Team: Trakas\nAway Team: Toluca FC\
 nHome Score: 7\nAway Score: 4
END:VEVENT
END:VCALENDAR
