BEGIN:VCALENDAR
VERSION:2.0
PRODID:-//EZFacility.com, Inc.//EZL 2.5.5.28621
BEGIN:VEVENT
UID:16749963@ezleagues.ezfacility.com
DTSTAMP:20260426T035145Z
CREATED:20260426T035145Z
DTSTART:20251005T220000Z
DTEND:20251005T225000Z
LOCATION:A Large Field
CONTACT:
SUMMARY:If You dont Chew Big RED VS. We found ZACH
DESCRIPTION:League Name: Adult Coed Comp Soccer   \nGame Type: Regular\nGam
 e Status: Complete\nHome Team: If You dont Chew Big RED\nAway Team: We fou
 nd ZACH\nHome Score: 9\nAway Score: 7
END:VEVENT
BEGIN:VEVENT
UID:16749965@ezleagues.ezfacility.com
DTSTAMP:20260426T035145Z
CREATED:20260426T035145Z
DTSTART:20251012T225000Z
DTEND:20251012T234000Z
LOCATION:A Large Field
CONTACT:
SUMMARY:We found ZACH VS. Team FM
DESCRIPTION:League Name: Adult Coed Comp Soccer   \nGame Type: Regular\nGam
 e Status: Complete\nHome Team: We found ZACH\nAway Team: Team FM\nHome Sco
 re: 9\nAway Score: 10
END:VEVENT
BEGIN:VEVENT
UID:16749969@ezleagues.ezfacility.com
DTSTAMP:20260426T035145Z
CREATED:20260426T035145Z
DTSTART:20251019T225000Z
DTEND:20251019T234000Z
LOCATION:A Large Field
CONTACT:
SUMMARY:We found ZACH VS. CRAYS Painting
DESCRIPTION:League Name: Adult Coed Comp Soccer   \nGame Type: Regular\nGam
 e Status: Complete\nHome Team: We found ZACH\nAway Team: CRAYS Painting\nH
 ome Score: 11\nAway Score: 10
END:VEVENT
BEGIN:VEVENT
UID:16749972@ezleagues.ezfacility.com
DTSTAMP:20260426T035145Z
CREATED:20260426T035145Z
DTSTART:20251026T220000Z
DTEND:20251026T225000Z
LOCATION:A Large Field
CONTACT:
SUMMARY:We found ZACH VS. If You dont Chew Big RED
DESCRIPTION:League Name: Adult Coed Comp Soccer   \nGame Type: Regular\nGam
 e Status: Complete\nHome Team: We found ZACH\nAway Team: If You dont Chew 
 Big RED\nHome Score: 10\nAway Score: 8
END:VEVENT
BEGIN:VEVENT
UID:16749975@ezleagues.ezfacility.com
DTSTAMP:20260426T035145Z
CREATED:20260426T035145Z
DTSTART:20251103T000000Z
DTEND:20251103T005000Z
LOCATION:A Large Field
CONTACT:
SUMMARY:Team FM VS. We found ZACH
DESCRIPTION:League Name: Adult Coed Comp Soccer   \nGame Type: Regular\nGam
 e Status: Complete\nHome Team: Team FM\nAway Team: We found ZACH\nHome Sco
 re: 8\nAway Score: 12
END:VEVENT
BEGIN:VEVENT
UID:16749978@ezleagues.ezfacility.com
DTSTAMP:20260426T035145Z
CREATED:20260426T035145Z
DTSTART:20251109T235000Z
DTEND:20251110T004000Z
LOCATION:A Large Field
CONTACT:
SUMMARY:CRAYS Painting VS. We found ZACH
DESCRIPTION:League Name: Adult Coed Comp Soccer   \nGame Type: Regular\nGam
 e Status: Complete\nHome Team: CRAYS Painting\nAway Team: We found ZACH\nH
 ome Score: 11\nAway Score: 7
END:VEVENT
BEGIN:VEVENT
UID:16749979@ezleagues.ezfacility.com
DTSTAMP:20260426T035145Z
CREATED:20260426T035145Z
DTSTART:20251116T235000Z
DTEND:20251117T004000Z
LOCATION:A Large Field
CONTACT:
SUMMARY:CRAYS Painting VS. We found ZACH
DESCRIPTION:League Name: Adult Coed Comp Soccer   \nGame Type: Postseason\n
 Game Status: Complete\nHome Team: CRAYS Painting\nAway Team: We found ZACH
 \nHome Score: 11\nAway Score: 14
END:VEVENT
END:VCALENDAR
